{"text_format":"3","workbook":"xlsx","n_sheets":2,"sheets":["list","data"],"not_rendered":{"external_links":2},"read":"whole","date_system":"1900"}

{"sheet":"list","index":0,"n_rows":34,"n_cols":16,"rows_kept":34}
["№","СНИЛС","Фамлия","Имя","Отчество","Пол","Дата рождения","Участник с ОВЗ","Класс","Класс участия","Балл","Макс. Балл","Статус","Призер МЭ прошлого года","Учитель","Место работы учителя"]
[1,2,3,4,5,6,7,8,9,10,11,12,13,14,15,16]
[1,{"$f":"[1]list!B3","v":"17040561741"},{"$f":"[1]list!C3","v":"Колотилина"},{"$f":"[1]list!D3","v":"Софья"},{"$f":"[1]list!E3","v":"Юрьевна"},{"$f":"[1]list!F3","v":"ж"},"18.01.2012",{"$f":"[1]list!H3","v":"нет"},{"$f":"[1]list!I3","v":5},"5","55","80",{"$f":"[1]list!M3","v":"призер"},{"$f":"[1]list!N3","v":"нет"},"Старостина Елена Евгеньевна",{"$f":"$P$6","v":"МБОУ \"СОШ № 36\" НМР РТ"}]
[2,"16909436202","Шайдуллин","Булат","Алмазович","м","2011-11-02","нет",5,5,53,80,"призер",{"$f":"$N$6","v":"нет"},"Мусакалимов Марат Мансурович","МБОУ \"СОШ № 36\" НМР РТ"]
[3,"17354135260","Гарифуллин","Амир","Айдарович","м","2012-08-30","нет",5,5,45,80,"участник",{"$f":"$N$6","v":"нет"},"Мусакалимов Марат Мансурович","МБОУ \"СОШ № 36\" НМР РТ"]
[4,{"$f":"[1]list!B4","v":"17414706058"},{"$f":"[1]list!C4","v":"Хисамеева"},{"$f":"[1]list!D4","v":"Карина"},{"$f":"[1]list!E4","v":"Рустемовна"},{"$f":"[1]list!F4","v":"ж"},"11.10.2012",{"$f":"[1]list!H4","v":"нет"},{"$f":"[1]list!I4","v":5},"5","43","80","участник",{"$f":"[1]list!N4","v":"нет"},"Старостина Елена Евгеньевна",{"$f":"$P$7","v":"МБОУ \"СОШ № 36\" НМР РТ"}]
[5,"17316416961","Вахтерова","Мирослава","Александровна","ж","2012-08-16","нет",5,5,43,80,"участник",{"$f":"$N$6","v":"нет"},"Мусакалимов Марат Мансурович","МБОУ \"СОШ № 36\" НМР РТ"]
[6,"17247650682","Васильева","Валерия","Евгеньевна","ж","2012-06-10","нет",5,5,39,80,"участник",{"$f":"$N$6","v":"нет"},"Мусакалимов Марат Мансурович","МБОУ \"СОШ № 36\" НМР РТ"]
[7,"17083609473","Нугманова","Иллария","Ильдаровна","ж","2012-02-21","нет",5,5,32,80,"участник",{"$f":"$N$6","v":"нет"},"Мусакалимов Марат Мансурович","МБОУ \"СОШ № 36\" НМР РТ"]
[8,{"$f":"[1]list!B10","v":"16436371301"},{"$f":"[1]list!C10","v":"Мокрушина"},{"$f":"[1]list!D10","v":"София"},{"$f":"[1]list!E10","v":"Андреевна"},{"$f":"[1]list!F10","v":"ж"},"24.01.2011",{"$f":"[1]list!H10","v":"нет"},{"$f":"[1]list!I10","v":6},"6",{"$f":"[1]list!K10","v":64},"80","победитель",{"$f":"[1]list!N10","v":"нет"},"Старостина Елена Евгеньевна","МБОУ \"СОШ № 36\" НМР РТ"]
[10,{"$f":"[2]list!$B$5","v":"16626819699"},{"$f":"[2]list!C11","v":"Тарасова"},"Александра ",{"$f":"[2]list!E11","v":"Андреевна"},"ж","2011-05-20",{"$f":"$H$12","v":"нет"},6,6,51,80,"призер",{"$f":"$N$13","v":"нет"},"Галиева Галина Федоровна","МБОУ \"СОШ № 36\" НМР РТ"]
[9,{"$f":"[1]list!B11","v":"16906986323"},{"$f":"[1]list!C11","v":"Петров"},{"$f":"[1]list!D11","v":"Роман"},{"$f":"[1]list!E11","v":"Русланович"},{"$f":"[1]list!F11","v":"м"},"30.10.2011",{"$f":"[1]list!H11","v":"нет"},{"$f":"[1]list!I11","v":6},"6","41","80","участник",{"$f":"[1]list!N11","v":"нет"},"Старостина Елена Евгеньевна","МБОУ \"СОШ № 36\" НМР РТ"]
[11,{"$f":"[1]list!B15","v":"16767122999"},{"$f":"[1]list!C15","v":"Мирзаянова"},{"$f":"[1]list!D15","v":"Амиля"},{"$f":"[1]list!E15","v":"Ильдаровна"},{"$f":"[1]list!F15","v":"ж"},"18.07.2011",{"$f":"[1]list!H15","v":"нет"},{"$f":"[1]list!I15","v":6},"6","40","80","участник",{"$f":"[1]list!N15","v":"нет"},"Старостина Елена Евгеньевна","МБОУ \"СОШ № 36\" НМР РТ"]
[12,{"$f":"[1]list!B14","v":"16823849000"},{"$f":"[1]list!C14","v":"Миннегалиева"},{"$f":"[1]list!D14","v":"Элина"},{"$f":"[1]list!E14","v":"Маратовна"},{"$f":"[1]list!F14","v":"ж"},{"$f":"[1]list!G14","v":"0709.2011"},{"$f":"[1]list!H14","v":"нет"},{"$f":"[1]list!I14","v":6},"6",{"$f":"[1]list!K14","v":35},"80",{"$f":"[1]list!M14","v":"участник"},{"$f":"[1]list!N14","v":"нет"},"Старостина Елена Евгеньевна","МБОУ \"СОШ № 36\" НМР РТ"]
[13,{"$f":"[2]list!B6","v":16946233197},{"$f":"[2]list!C6","v":"Ганькова"},{"$f":"[2]list!D6","v":"Дарья"},{"$f":"[2]list!E6","v":"Андреевна"},"ж","21.11.2011",{"$f":"[2]list!H6","v":"нет"},{"$f":"[2]list!I6","v":6},{"$f":"[2]list!J6","v":6},{"$f":"[2]list!K6","v":23},{"$f":"[2]list!L6","v":80},{"$f":"[2]list!M6","v":"участник"},{"$f":"N10","v":"нет"},"Галиева Галина Федоровна","МБОУ \"СОШ № 36\" НМР РТ"]
[14,{"$f":"[2]list!B7","v":16382782900},{"$f":"[2]list!C7","v":"Гилязов"},{"$f":"[2]list!D7","v":"Карим"},{"$f":"[2]list!E7","v":"Айдарович"},"м","09.01.2011",{"$f":"[2]list!H7","v":"нет"},{"$f":"[2]list!I7","v":6},{"$f":"[2]list!J7","v":6},{"$f":"[2]list!K7","v":21},{"$f":"[2]list!L7","v":80},{"$f":"[2]list!M7","v":"участник"},{"$f":"N12","v":"нет"},"Галиева Галина Федоровна","МБОУ \"СОШ № 36\" НМР РТ"]
[15,{"$f":"[2]list!B8","v":16746928117},{"$f":"[2]list!C8","v":"Григорьев"},{"$f":"[2]list!D8","v":"Дмитрий"},{"$f":"[2]list!E8","v":"Артемович"},"м","06.07.2011",{"$f":"[2]list!H8","v":"нет"},{"$f":"[2]list!I8","v":6},{"$f":"[2]list!J8","v":6},{"$f":"[2]list!K8","v":19},{"$f":"[2]list!L8","v":80},{"$f":"[2]list!M8","v":"участник"},{"$f":"N11","v":"нет"},"Галиева Галина Федоровна","МБОУ \"СОШ № 36\" НМР РТ"]
[16,{"$f":"[2]list!B9","v":16301331207},{"$f":"[2]list!C9","v":"Дурандина"},{"$f":"[2]list!D9","v":"Амалия"},{"$f":"[2]list!E9","v":"Валентиновна"},"ж","03.11.2011",{"$f":"[2]list!H9","v":"нет"},{"$f":"[2]list!I9","v":6},{"$f":"[2]list!J9","v":6},{"$f":"[2]list!K9","v":17},{"$f":"[2]list!L9","v":80},{"$f":"[2]list!M9","v":"участник"},{"$f":"N13","v":"нет"},"Галиева Галина Федоровна","МБОУ \"СОШ № 36\" НМР РТ"]
[17,{"$f":"[2]list!B10","v":16683915413},{"$f":"[2]list!C10","v":"Закирова"},{"$f":"[2]list!D10","v":"Алсу"},{"$f":"[2]list!E10","v":"Раилевна"},"ж","17.06.2011",{"$f":"[2]list!H10","v":"нет"},{"$f":"[2]list!I10","v":6},{"$f":"[2]list!J10","v":6},{"$f":"[2]list!K10","v":12},{"$f":"[2]list!L10","v":80},{"$f":"[2]list!M10","v":"участник"},"нет","Галиева Галина Федоровна",{"$f":"$P$18","v":"МБОУ \"СОШ № 36\" НМР РТ"}]
[18,{"$f":"[2]list!B11","v":15992713011},{"$f":"[2]list!C11","v":"Тарасова"},{"$f":"[2]list!D11","v":"Екатерина"},{"$f":"[2]list!E11","v":"Андреевна"},"ж","2010-02-20",{"$f":"[2]list!H11","v":"нет"},{"$f":"[2]list!I11","v":7},{"$f":"[2]list!J11","v":7},{"$f":"[2]list!K11","v":45},{"$f":"[2]list!L11","v":85},{"$f":"[2]list!M11","v":"призер"},{"$f":"N14","v":"нет"},"Галиева Галина Федоровна","МБОУ \"СОШ № 36\" НМР РТ"]
[19,{"$f":"[2]list!B12","v":16177308775},{"$f":"[2]list!C12","v":"Тютин"},{"$f":"[2]list!D12","v":"Матвей"},{"$f":"[2]list!E12","v":"Павлович"},"м",{"$f":"[2]list!G12","v":"2010-08-05"},{"$f":"[2]list!H12","v":"нет"},{"$f":"[2]list!I12","v":7},{"$f":"[2]list!J12","v":7},{"$f":"[2]list!K12","v":40},{"$f":"[2]list!L12","v":85},{"$f":"[2]list!M12","v":"участник"},"нет","Галиева Галина Федоровна","МБОУ \"СОШ № 36\" НМР РТ"]
[20,{"$f":"[2]list!B13","v":15872336897},{"$f":"[2]list!C13","v":"Уразаев"},{"$f":"[2]list!D13","v":"Наиль"},{"$f":"[2]list!E13","v":"Рамилевич"},"м",{"$f":"[2]list!G13","v":"2010-03-06"},{"$f":"[2]list!H13","v":"нет"},{"$f":"[2]list!I13","v":7},{"$f":"[2]list!J13","v":7},{"$f":"[2]list!K13","v":38},{"$f":"[2]list!L13","v":85},{"$f":"[2]list!M13","v":"участник"},"нет","Галиева Галина Федоровна","МБОУ \"СОШ № 36\" НМР РТ"]
[21,{"$f":"[2]list!B14","v":16270229953},{"$f":"[2]list!C14","v":"Шакуров"},{"$f":"[2]list!D14","v":"Данил"},{"$f":"[2]list!E14","v":"Ранисович"},"м",{"$f":"[2]list!G14","v":"2009-12-23"},{"$f":"[2]list!H14","v":"нет"},{"$f":"[2]list!I14","v":7},{"$f":"[2]list!J14","v":7},{"$f":"[2]list!K14","v":36},{"$f":"[2]list!L14","v":85},{"$f":"[2]list!M14","v":"участник"},"нет","Галиева Галина Федоровна","МБОУ \"СОШ № 36\" НМР РТ"]
[22,{"$f":"[2]list!B15","v":15809932199},{"$f":"[2]list!C15","v":"Усманов"},{"$f":"[2]list!D15","v":"Данис"},{"$f":"[2]list!E15","v":"Камилевич"},"м",{"$f":"[2]list!G15","v":"2010-01-20"},{"$f":"[2]list!H15","v":"нет"},{"$f":"[2]list!I15","v":7},{"$f":"[2]list!J15","v":7},{"$f":"[2]list!K15","v":35},{"$f":"[2]list!L15","v":85},{"$f":"[2]list!M15","v":"участник"},"нет","Галиева Галина Федоровна","МБОУ \"СОШ № 36\" НМР РТ"]
[23,{"$f":"[2]list!B16","v":15894050295},{"$f":"[2]list!C16","v":"Нуруллина"},{"$f":"[2]list!D16","v":"Ралина"},{"$f":"[2]list!E16","v":"Ринатовна"},"ж",{"$f":"[2]list!G16","v":"2010-04-14"},{"$f":"[2]list!H16","v":"нет"},{"$f":"[2]list!I16","v":7},{"$f":"[2]list!J16","v":7},{"$f":"[2]list!K16","v":34},{"$f":"[2]list!L16","v":85},{"$f":"[2]list!M16","v":"участник"},"нет","Галиева Галина Федоровна","МБОУ \"СОШ № 36\" НМР РТ"]
[24,"15532669273","Карбонова","Ксения","Андреевна","ж","2009-02-01","нет",8,8,48,90,"призер",{"$f":"$N$14","v":"нет"},"Старостина Елена Евгеньевна",{"$f":"$P$18","v":"МБОУ \"СОШ № 36\" НМР РТ"}]
[25,{"$f":"[2]list!B17","v":17399778553},{"$f":"[2]list!C17","v":"Шамина"},{"$f":"[2]list!D17","v":"Ксения"},{"$f":"[2]list!E17","v":"Сергеевна"},{"$f":"[2]list!F17","v":"Ж"},"02.03.2008",{"$f":"[2]list!H17","v":"нет"},{"$f":"[2]list!I17","v":9},{"$f":"[2]list!J17","v":9},{"$f":"[2]list!L17","v":52},95,{"$f":"[2]list!M17","v":"призер"},{"$f":"N19","v":"нет"},"Галиева Галина Федоровна","МБОУ \"СОШ № 36\" НМР РТ"]
[26,{"$f":"[2]list!B18","v":16162564762},{"$f":"[2]list!C18","v":"Шатрова"},{"$f":"[2]list!D18","v":"Анастасия"},{"$f":"[2]list!E18","v":"Валерьевна"},"ж","24.09.2008",{"$f":"[2]list!H18","v":"нет"},{"$f":"[2]list!I18","v":9},{"$f":"[2]list!J18","v":9},{"$f":"[2]list!L18","v":32},95,{"$f":"[2]list!M18","v":"участник"},"нет","Галиева Галина Федоровна","МБОУ \"СОШ № 36\" НМР РТ"]
[27,{"$f":"[2]list!B19","v":15818009472},{"$f":"[2]list!C19","v":"Тудиярова "},{"$f":"[2]list!D19","v":"Алина"},{"$f":"[2]list!E19","v":"Артемовна"},"ж","18.07.2007",{"$f":"[2]list!H19","v":"нет"},{"$f":"[2]list!I19","v":10},{"$f":"[2]list!J19","v":10},{"$f":"[2]list!L19","v":45},95,{"$f":"[2]list!M19","v":"участник"},"нет","Галиева Галина Федоровна","МБОУ \"СОШ № 36\" НМР РТ"]
[28,{"$f":"[2]list!B20","v":15803226550},{"$f":"[2]list!C20","v":"Бессараб"},{"$f":"[2]list!D20","v":"Мелания"},{"$f":"[2]list!E20","v":"Сергеевна"},"ж","01.07.2006",{"$f":"[2]list!H20","v":"нет"},{"$f":"[2]list!I20","v":10},{"$f":"[2]list!J20","v":10},{"$f":"[2]list!L20","v":32},95,{"$f":"[2]list!M20","v":"участник"},"нет","Галиева Галина Федоровна","МБОУ \"СОШ № 36\" НМР РТ"]
[29,{"$f":"[2]list!B21","v":15927188304},{"$f":"[2]list!C21","v":"Ермакова"},{"$f":"[2]list!D21","v":"Диана"},{"$f":"[2]list!E21","v":"Дмитриевна"},"ж","04.11.2007",{"$f":"[2]list!H21","v":"нет"},{"$f":"[2]list!I21","v":10},{"$f":"[2]list!J21","v":10},{"$f":"[2]list!L21","v":31},95,{"$f":"[2]list!M21","v":"участник"},"нет","Галиева Галина Федоровна","МБОУ \"СОШ № 36\" НМР РТ"]
[30,{"$f":"[2]list!B22","v":15833245572},{"$f":"[2]list!C22","v":"Раузетдинова"},{"$f":"[2]list!D22","v":"Лилия"},{"$f":"[2]list!E22","v":"Булатовна"},"ж","31.10.2007",{"$f":"[2]list!H22","v":"нет"},{"$f":"[2]list!I22","v":10},{"$f":"[2]list!J22","v":10},{"$f":"[2]list!L22","v":29},95,{"$f":"[2]list!M22","v":"участник"},"нет","Галиева Галина Федоровна","МБОУ \"СОШ № 36\" НМР РТ"]
[31,{"$f":"[2]list!B23","v":14756340578},{"$f":"[2]list!C23","v":"Ахметгареева "},{"$f":"[2]list!D23","v":"Лилия"},{"$f":"[2]list!E23","v":"Рустамовна"},"ж","30.07.2007",{"$f":"[2]list!H23","v":"нет"},{"$f":"[2]list!I23","v":10},{"$f":"[2]list!J23","v":10},{"$f":"[2]list!L23","v":28},95,{"$f":"[2]list!M23","v":"участник"},"нет","Галиева Галина Федоровна","МБОУ \"СОШ № 36\" НМР РТ"]
[31,{"$f":"[2]list!B24","v":14827069584},{"$f":"[2]list!C24","v":"Асанова"},{"$f":"[2]list!D24","v":"Елизавета"},{"$f":"[2]list!E24","v":"Андреевна"},"ж","03.05.2007",{"$f":"[2]list!H24","v":"нет"},{"$f":"[2]list!I24","v":10},{"$f":"[2]list!J24","v":10},{"$f":"[2]list!L24","v":27},95,{"$f":"[2]list!M24","v":"участник"},"нет","Галиева Галина Федоровна","МБОУ \"СОШ № 36\" НМР РТ"]

{"sheet":"data","index":1,"n_rows":25,"n_cols":3,"rows_kept":25,"hidden":true}
[]
["Техника, технология и техническое творчество .  Ручная обработка древесины"]
["Техника, технология и техническое творчество .  Ручная обработка металла"]
["Техника, технология и техническое творчество .  Механическая обработка древесины"]
["Техника, технология и техническое творчество .  Механическая обработка металла"]
["Техника, технология и техническое творчество .  Электротехника"]
["Техника, технология и техническое творчество .  Робототехника"]
["Техника, технология и техническое творчество .  3d - моделирование и печать"]
["Техника, технология и техническое творчество .  Обработка материалов на лазерно-гравировальной машине"]
["Техника, технология и техническое творчество .  Промышленный дизайн"]
["Культура дома, дизайн и технологии .  Обработка швейного изделия или узла + моделирование швейных изделий"]
["Культура дома, дизайн и технологии .  Обработка швейного изделия или узла + моделирование швейных изделий с использованием графических редакторов"]
["Культура дома, дизайн и технологии .  Обработка швейного изделия или узла на швейно-вышивальном оборудовании + моделирование швейных изделий"]
["Культура дома, дизайн и технологии .  Обработка швейного изделия или узла на швейно-вышивальном оборудовании + моделирование швейных изделий с использованием графических редакторов"]
["Культура дома, дизайн и технологии .  Робототехника"]
["Культура дома, дизайн и технологии .  3d - моделирование и печать"]
["Культура дома, дизайн и технологии .  Обработка материалов на лазерно-гравировальной машине"]
["Культура дома, дизайн и технологии .  Промышленный дизайн"]
["Роботехника .  "]
["Информационная безопасность ."]
[]
[]
["участник"]
["призер",null,"да"]
["победитель"]