{"text_format":"3","workbook":"xlsx","n_sheets":1,"sheets":["1"],"not_rendered":{"external_links":2},"read":"whole","date_system":"1900"}

{"sheet":"1","index":0,"n_rows":12,"n_cols":10,"rows_kept":12,"merged":[[0,1,0,3]]}
["Школа","МБОУ СОШ № 11",{"$nulls":6},"День","2022-09-05"]
[]
["Прием пищи","Раздел","№ рец.","Блюдо","Выход, г","Цена","Калорийность","Белки","Жиры","Углеводы"]
["Завтрак","гор.блюдо",null,{"$f":"'[2]Меню младшие 1-4 кл Осень-Зима'!B57","v":"Огурцы свежие порционно"},{"$f":"'[2]Меню младшие 1-4 кл Осень-Зима'!C57","v":60},null,{"$f":"'[2]Меню младшие 1-4 кл Осень-Зима'!G57","v":{"v":7.199999999999999,"d":"7.20"}},{"$f":"'[2]Меню младшие 1-4 кл Осень-Зима'!D57","v":0.42},{"$f":"'[2]Меню младшие 1-4 кл Осень-Зима'!E57","v":0.06},{"$f":"'[2]Меню младшие 1-4 кл Осень-Зима'!F57","v":1.14}]
[null,"гор.напиток",null,{"$f":"'[2]Меню младшие 1-4 кл Осень-Зима'!B58","v":"Котлета домашняя из говядины"},{"$f":"'[2]Меню младшие 1-4 кл Осень-Зима'!C58","v":90},null,{"$f":"'[2]Меню младшие 1-4 кл Осень-Зима'!G58","v":{"v":199.56521739130434,"d":"199.57"}},{"$f":"'[2]Меню младшие 1-4 кл Осень-Зима'!D58","v":10.15},{"$f":"'[2]Меню младшие 1-4 кл Осень-Зима'!E58","v":{"v":13.7934782608696,"d":"13.79"}},{"$f":"'[2]Меню младшие 1-4 кл Осень-Зима'!F58","v":{"v":8.1,"d":"8.10"}}]
[null,"хлеб",null,{"$f":"'[2]Меню младшие 1-4 кл Осень-Зима'!B59","v":"Макаронные изделия отварные с маслом сливочным"},{"$f":"'[2]Меню младшие 1-4 кл Осень-Зима'!C59","v":"150/5"},null,{"$f":"'[2]Меню младшие 1-4 кл Осень-Зима'!G59","v":{"v":189.29999999999998,"d":"189.30"}},{"$f":"'[2]Меню младшие 1-4 кл Осень-Зима'!D59","v":5.12},{"$f":"'[2]Меню младшие 1-4 кл Осень-Зима'!E59","v":4.53},{"$f":"'[2]Меню младшие 1-4 кл Осень-Зима'!F59","v":{"v":31.990000000000002,"d":"31.99"}}]
[{"$nulls":3},{"$f":"'[2]Меню младшие 1-4 кл Осень-Зима'!B60","v":"Компот из сухофруктов"},{"$f":"'[2]Меню младшие 1-4 кл Осень-Зима'!C60","v":200},null,{"$f":"'[2]Меню младшие 1-4 кл Осень-Зима'!G60","v":{"v":132.8,"d":"132.80"}},{"$f":"'[2]Меню младшие 1-4 кл Осень-Зима'!D60","v":{"v":0.662,"d":"0.66"}},{"$f":"'[2]Меню младшие 1-4 кл Осень-Зима'!E60","v":{"v":0.09000000000000001,"d":"0.09"}},{"$f":"'[2]Меню младшие 1-4 кл Осень-Зима'!F60","v":{"v":32.014,"d":"32.01"}}]
[{"$nulls":3},{"$f":"'[2]Меню младшие 1-4 кл Осень-Зима'!B61","v":"Хлеб пшеничный"},{"$f":"'[2]Меню младшие 1-4 кл Осень-Зима'!C61","v":30},null,{"$f":"'[2]Меню младшие 1-4 кл Осень-Зима'!G61","v":{"v":70.5,"d":"70.50"}},{"$f":"'[2]Меню младшие 1-4 кл Осень-Зима'!D61","v":2.28},{"$f":"'[2]Меню младшие 1-4 кл Осень-Зима'!E61","v":{"v":0.23999999999999996,"d":"0.24"}},{"$f":"'[2]Меню младшие 1-4 кл Осень-Зима'!F61","v":{"v":14.759999999999998,"d":"14.76"}}]
[{"$nulls":3},{"$f":"'[2]Меню младшие 1-4 кл Осень-Зима'!B62","v":"Хлеб ржаной"},{"$f":"'[2]Меню младшие 1-4 кл Осень-Зима'!C62","v":25},null,{"$f":"'[2]Меню младшие 1-4 кл Осень-Зима'!G62","v":{"v":49.5,"d":"49.50"}},{"$f":"'[2]Меню младшие 1-4 кл Осень-Зима'!D62","v":{"v":1.6500000000000001,"d":"1.65"}},{"$f":"'[2]Меню младшие 1-4 кл Осень-Зима'!E62","v":{"v":0.3,"d":"0.30"}},{"$f":"'[2]Меню младшие 1-4 кл Осень-Зима'!F62","v":{"v":9.9,"d":"9.90"}}]
["Завтрак 2","фрукты",null,{"$f":"'[1]Дотация 8,30 руб.'!B12","v":"Печенье"},{"$f":"'[1]Дотация 8,30 руб.'!C12","v":30},null,{"$f":"'[1]Дотация 8,30 руб.'!H12","v":125.1},{"$f":"'[1]Дотация 8,30 руб.'!E12","v":2.25},{"$f":"'[1]Дотация 8,30 руб.'!F12","v":2.94},{"$f":"'[1]Дотация 8,30 руб.'!G12","v":22.32}]
[{"$nulls":3},{"$f":"'[1]Дотация 8,30 руб.'!B13","v":"Чай с сахаром и лимоном"},{"$f":"'[1]Дотация 8,30 руб.'!C13","v":"185/10/5"},null,{"$f":"'[1]Дотация 8,30 руб.'!H13","v":{"v":40.2,"d":"40.20"}},{"$f":"'[1]Дотация 8,30 руб.'!E13","v":0.13},{"$f":"'[1]Дотация 8,30 руб.'!F13","v":0.02},{"$f":"'[1]Дотация 8,30 руб.'!G13","v":{"v":10.2,"d":"10.20"}}]
["Обед"]