{"text_format":"3","workbook":"xlsx","n_sheets":1,"sheets":["1"],"not_rendered":{"external_links":1},"read":"whole","date_system":"1900"}

{"sheet":"1","index":0,"n_rows":12,"n_cols":10,"rows_kept":12,"merged":[[0,1,0,3]]}
["Школа","МБОУ СОШ № 11",{"$nulls":6},"День","2022-09-16"]
[]
["Прием пищи","Раздел","№ рец.","Блюдо","Выход, г","Цена","Калорийность","Белки","Жиры","Углеводы"]
["Завтрак","гор.блюдо",null,{"$f":"'[1]Меню младшие 1-4 кл Осень-Зима'!B200","v":"Помидоры свежие порционно"},{"$f":"'[1]Меню младшие 1-4 кл Осень-Зима'!C200","v":60},null,{"$f":"'[1]Меню младшие 1-4 кл Осень-Зима'!G200","v":{"v":13.2,"d":"13.20"}},{"$f":"'[1]Меню младшие 1-4 кл Осень-Зима'!D200","v":0.66},{"$f":"'[1]Меню младшие 1-4 кл Осень-Зима'!E200","v":0.12},{"$f":"'[1]Меню младшие 1-4 кл Осень-Зима'!F200","v":2.28}]
[null,"гор.напиток",null,{"$f":"'[1]Меню младшие 1-4 кл Осень-Зима'!B201","v":"Фрикадельки в сметанно-томатном соусе"},{"$f":"'[1]Меню младшие 1-4 кл Осень-Зима'!C201","v":"55/50"},null,{"$f":"'[1]Меню младшие 1-4 кл Осень-Зима'!G201","v":{"v":180,"d":"180.00"}},{"$f":"'[1]Меню младшие 1-4 кл Осень-Зима'!D201","v":{"v":8.5,"d":"8.50"}},{"$f":"'[1]Меню младшие 1-4 кл Осень-Зима'!E201","v":11.21},{"$f":"'[1]Меню младшие 1-4 кл Осень-Зима'!F201","v":10.61}]
[null,"хлеб",null,{"$f":"'[1]Меню младшие 1-4 кл Осень-Зима'!B202","v":"Каша гречневая рассыпчатая с маслом сливочным"},{"$f":"'[1]Меню младшие 1-4 кл Осень-Зима'!C202","v":"150/5"},null,{"$f":"'[1]Меню младшие 1-4 кл Осень-Зима'!G202","v":276.75},{"$f":"'[1]Меню младшие 1-4 кл Осень-Зима'!D202","v":8.21},{"$f":"'[1]Меню младшие 1-4 кл Осень-Зима'!E202","v":{"v":8.723,"d":"8.72"}},{"$f":"'[1]Меню младшие 1-4 кл Осень-Зима'!F202","v":{"v":38.7115,"d":"38.71"}}]
[{"$nulls":3},{"$f":"'[1]Меню младшие 1-4 кл Осень-Зима'!B203","v":"Чай с сахаром,с яблоком"},{"$f":"'[1]Меню младшие 1-4 кл Осень-Зима'!C203","v":"180/10/10"},null,{"$f":"'[1]Меню младшие 1-4 кл Осень-Зима'!G203","v":{"v":45.05,"d":"45"}},{"$f":"'[1]Меню младшие 1-4 кл Осень-Зима'!D203","v":0.11},{"$f":"'[1]Меню младшие 1-4 кл Осень-Зима'!E203","v":0.06},{"$f":"'[1]Меню младшие 1-4 кл Осень-Зима'!F203","v":10.99}]
[{"$nulls":3},{"$f":"'[1]Меню младшие 1-4 кл Осень-Зима'!B204","v":"Хлеб пшеничный"},{"$f":"'[1]Меню младшие 1-4 кл Осень-Зима'!C204","v":25},null,{"$f":"'[1]Меню младшие 1-4 кл Осень-Зима'!G204","v":{"v":58.75,"d":"59"}},{"$f":"'[1]Меню младшие 1-4 кл Осень-Зима'!D204","v":{"v":1.9,"d":"1.90"}},{"$f":"'[1]Меню младшие 1-4 кл Осень-Зима'!E204","v":{"v":0.2,"d":"0.20"}},{"$f":"'[1]Меню младшие 1-4 кл Осень-Зима'!F204","v":{"v":12.3,"d":"12.30"}}]
[{"$nulls":3},{"$f":"'[1]Меню младшие 1-4 кл Осень-Зима'!B205","v":"Хлеб ржаной"},{"$f":"'[1]Меню младшие 1-4 кл Осень-Зима'!C205","v":20},null,{"$f":"'[1]Меню младшие 1-4 кл Осень-Зима'!G205","v":{"v":39.6,"d":"40"}},{"$f":"'[1]Меню младшие 1-4 кл Осень-Зима'!D205","v":1.32},{"$f":"'[1]Меню младшие 1-4 кл Осень-Зима'!E205","v":0.24},{"$f":"'[1]Меню младшие 1-4 кл Осень-Зима'!F205","v":{"v":7.920000000000001,"d":"7.92"}}]
["Завтрак 2","фрукты",null,"Батон с маслом","30/10",null,144.6,2.33,8.12,15.6]
[{"$nulls":3},"Чай сахаром и яблоками","180/10/10",null,44.68,0.11,0.06,10.97]
["Обед"]