{"text_format":"3","workbook":"xlsx","n_sheets":1,"sheets":["Лист1"],"not_rendered":{"external_links":5},"read":"whole","date_system":"1900"}

{"sheet":"Лист1","index":0,"n_rows":9,"n_cols":9,"rows_kept":9,"merged":[[0,0,0,2]]}
[{"$f":"'[1]4'!A1","v":"МАОУ \"МАОУ \"Лицей№121\""},null,null,{"$f":"'[1]4'!$D$1","v":"Отд./корп"},{"$f":"'[1]4'!$E$1","v":"А.Камалеева,22, Космонавтов,19"},null,null,{"$f":"'[1]4'!$H$1","v":"День"},"2023-10-05"]
[{"$f":"'[1]4'!A2","v":"Раздел"},{"$f":"'[1]4'!B2","v":"№ рец."},{"$f":"'[1]4'!C2","v":"Блюдо"},{"$f":"'[1]4'!D2","v":"Выход, г"},{"$f":"'[1]4'!E2","v":"Цена"},{"$f":"'[1]4'!F2","v":"Калорийность"},{"$f":"'[1]4'!G2","v":"Белки"},{"$f":"'[1]4'!H2","v":"Жиры"},{"$f":"'[1]4'!I2","v":"Углеводы"}]
[{"$f":"'[2]1-2, 11-16, 25-30 сент.'!B5","v":"гор.блюдо"},"ТТК 2021 г","Плов с говядиной","40/120",null,237,"12,20","10,60","23,09"]
[{"$f":"[3]Лист1!A4","v":"гор.напиток "},{"$f":"[3]Лист1!B4","v":"№630/1996 г"},{"$f":"[3]Лист1!C4","v":"Чай с сахаро, лимоном"},{"$f":"[3]Лист1!D4","v":"200/8/5"},null,{"$f":"[3]Лист1!F4","v":32},{"$f":"[3]Лист1!G4","v":0.02},{"$f":"[3]Лист1!H4","v":0},{"$f":"[3]Лист1!I4","v":7.99}]
[{"$f":"$A$4","v":"гор.напиток "},{"$f":"[3]Лист1!B6","v":"ТТК 2023 г"},"Напиток из замороженной черной смородины",{"$f":"[3]Лист1!D6","v":60},null,44,0.1,0.04,10.7]
[{"$f":"'[2]1-2, 11-16, 25-30 сент.'!B7","v":"закуска"},"ТТК 2023 г","Салат -бар (помидоры свеж.порциями., морковь свеж. порциями, кукуруза конс., сухари из пшенич. хлеба, масло раст)",{"$f":"[4]Лист1!D6","v":60},null,112,1.95,6.18,12.3]
[{"$f":"'[2]1-2, 11-16, 25-30 сент.'!B8","v":"хлеб"},{"$f":"'[2]1-2, 11-16, 25-30 сент.'!C8","v":"ТТК"},{"$f":"'[2]1-2, 11-16, 25-30 сент.'!D8","v":"Хлебная корзина (хлеб пш., хлеб рж.-пш.)"},{"$f":"'[2]1-2, 11-16, 25-30 сент.'!E8","v":40},null,{"$f":"'[2]1-2, 11-16, 25-30 сент.'!G8","v":91},{"$f":"'[2]1-2, 11-16, 25-30 сент.'!H8","v":2.52},{"$f":"'[2]1-2, 11-16, 25-30 сент.'!I8","v":0.36},{"$f":"'[2]1-2, 11-16, 25-30 сент.'!J8","v":18.84}]
[{"$f":"[5]Лист1!A8","v":"фрукт"},{"$f":"[5]Лист1!B8","v":"№338/2105 г"},{"$f":"[5]Лист1!C8","v":"Плоды свежие (яблоки)"},{"$f":"[5]Лист1!D8","v":100},null,{"$f":"[5]Лист1!F8","v":47},{"$f":"[5]Лист1!G8","v":0.4},{"$f":"[5]Лист1!H8","v":0.4},{"$f":"[5]Лист1!I8","v":9.8}]
["Итого",null,null,540,{"v":66.8,"d":"66.80"},481,15.88,18.28,64.03]