{"text_format":"3","workbook":"xlsx","n_sheets":1,"sheets":["Лист2"],"not_rendered":{"external_links":2},"read":"whole","date_system":"1900"}

{"sheet":"Лист2","index":0,"n_rows":9,"n_cols":9,"rows_kept":9,"merged":[[0,0,0,2]]}
[{"$f":"[1]Лист1!$A$1","v":"МАОУ \"МАОУ \"Лицей№121\""},null,null,{"$f":"[1]Лист1!$D$1","v":"Отд./корп"},{"$f":"[1]Лист1!$E$1","v":"А.Камалеева,22, Космонавтов,19"},null,null,{"$f":"[1]Лист1!$H$1","v":"День"},"2023-09-18"]
[{"$f":"[1]Лист1!A2","v":"Раздел"},{"$f":"[1]Лист1!B2","v":"№ рец."},{"$f":"[1]Лист1!C2","v":"Блюдо"},{"$f":"[1]Лист1!D2","v":"Выход, г"},{"$f":"[1]Лист1!E2","v":"Цена"},{"$f":"[1]Лист1!F2","v":"Калорийность"},{"$f":"[1]Лист1!G2","v":"Белки"},{"$f":"[1]Лист1!H2","v":"Жиры"},{"$f":"[1]Лист1!I2","v":"Углеводы"}]
[{"$f":"'[2]4-9, 18-23 сент.'!B4","v":"гор.блюдо"},{"$f":"'[2]4-9, 18-23 сент.'!C4","v":"ТТК 2020"},{"$f":"'[2]4-9, 18-23 сент.'!D4","v":"Ежики с мясом и рисом в соусе томатном"},{"$f":"'[2]4-9, 18-23 сент.'!E4","v":100},null,{"$f":"'[2]4-9, 18-23 сент.'!G4","v":75},{"$f":"'[2]4-9, 18-23 сент.'!H4","v":4.6},{"$f":"'[2]4-9, 18-23 сент.'!I4","v":4},{"$f":"'[2]4-9, 18-23 сент.'!J4","v":5.23}]
[{"$f":"'[2]4-9, 18-23 сент.'!B5","v":"гор.блюдо"},{"$f":"'[2]4-9, 18-23 сент.'!C5","v":"№202/2015 г"},{"$f":"'[2]4-9, 18-23 сент.'!D5","v":"Макаронные изделия отварные"},{"$f":"'[2]4-9, 18-23 сент.'!E5","v":150},null,{"$f":"'[2]4-9, 18-23 сент.'!G5","v":207},{"$f":"'[2]4-9, 18-23 сент.'!H5","v":5.64},{"$f":"'[2]4-9, 18-23 сент.'!I5","v":4.46},{"$f":"'[2]4-9, 18-23 сент.'!J5","v":35.94}]
[{"$f":"'[2]4-9, 18-23 сент.'!B6","v":"гор.напиток"},{"$f":"'[2]4-9, 18-23 сент.'!C6","v":"№348/2015"},{"$f":"'[2]4-9, 18-23 сент.'!D6","v":"Компот из плодов или ягод сушеных (урюк)"},{"$f":"'[2]4-9, 18-23 сент.'!E6","v":180},null,{"$f":"'[2]4-9, 18-23 сент.'!G6","v":51},{"$f":"'[2]4-9, 18-23 сент.'!H6","v":0.39},{"$f":"'[2]4-9, 18-23 сент.'!I6","v":0.04},{"$f":"'[2]4-9, 18-23 сент.'!J6","v":11.98}]
[{"$f":"'[2]4-9, 18-23 сент.'!B7","v":"закуска"},{"$f":"'[2]4-9, 18-23 сент.'!C7","v":"ТТК 2023 г"},{"$f":"'[2]4-9, 18-23 сент.'!D7","v":"Салат-бар (Морковь свежая порциями, капуста белокач., сыр, сухари, масло раст.)"},{"$f":"'[2]4-9, 18-23 сент.'!E7","v":60},null,{"$f":"'[2]4-9, 18-23 сент.'!G7","v":122},{"$f":"'[2]4-9, 18-23 сент.'!H7","v":3.91},{"$f":"'[2]4-9, 18-23 сент.'!I7","v":8.74},{"$f":"'[2]4-9, 18-23 сент.'!J7","v":6.6}]
[{"$f":"'[2]4-9, 18-23 сент.'!B8","v":"хлеб"},{"$f":"'[2]4-9, 18-23 сент.'!C8","v":"ТТК"},{"$f":"'[2]4-9, 18-23 сент.'!D8","v":"Хлебная корзина (хлеб пш., хлеб рж.-пш.)"},{"$f":"'[2]4-9, 18-23 сент.'!E8","v":40},null,{"$f":"'[2]4-9, 18-23 сент.'!G8","v":91},{"$f":"'[2]4-9, 18-23 сент.'!H8","v":2.52},{"$f":"'[2]4-9, 18-23 сент.'!I8","v":0.36},{"$f":"'[2]4-9, 18-23 сент.'!J8","v":18.84}]
[{"$f":"'[2]4-9, 18-23 сент.'!B9","v":"печенье"},{"$f":"'[2]4-9, 18-23 сент.'!C9","v":"АКТ 2021 г"},{"$f":"'[2]4-9, 18-23 сент.'!D9","v":"Печенье сдобное Вкусное"},{"$f":"'[2]4-9, 18-23 сент.'!E9","v":30},null,{"$f":"'[2]4-9, 18-23 сент.'!G9","v":47},{"$f":"'[2]4-9, 18-23 сент.'!H9","v":2.1},{"$f":"'[2]4-9, 18-23 сент.'!I9","v":2.1},{"$f":"'[2]4-9, 18-23 сент.'!J9","v":5.1}]
["Итого",null,null,{"$f":"'[2]4-9, 18-23 сент.'!E10","v":560},null,{"$f":"'[2]4-9, 18-23 сент.'!G10","v":593},{"$f":"'[2]4-9, 18-23 сент.'!H10","v":19.16},{"$f":"'[2]4-9, 18-23 сент.'!I10","v":19.700000000000003},{"$f":"'[2]4-9, 18-23 сент.'!J10","v":83.69}]