{"text_format":"3","workbook":"xlsx","n_sheets":1,"sheets":["1"],"not_rendered":{"external_links":1},"read":"whole","date_system":"1900"}

{"sheet":"1","index":0,"n_rows":20,"n_cols":10,"rows_kept":20,"merged":[[0,1,0,3]]}
["Школа","МБОУ \"Средняя общеобразовательная школа № 101 имени П.А. Полушкина - Центр образования\"",null,null,"Отд./корп",{"$nulls":3},"День","2025-09-08"]
[]
["Прием пищи","Раздел","№ рец.","Блюдо","Выход, г","Цена","Калорийность","Белки","Жиры","Углеводы"]
["Завтрак",{"$f":"[1]Лист1!D120","v":"гор.блюдо"},{"$f":"[1]Лист1!E120","v":"ТТК от 2020г"},{"$f":"[1]Лист1!F120","v":"Тефтели куриные \"Лакомка\" в соусе для запекания и с овощными палочками из огурцов"},{"$f":"[1]Лист1!G120","v":120},"49,77",{"$f":"[1]Лист1!I120","v":177},{"$f":"[1]Лист1!J120","v":9.978},{"$f":"[1]Лист1!K120","v":12.941},{"$f":"[1]Лист1!L120","v":5.787}]
[null,{"$f":"[1]Лист1!D121","v":"гор.блюдо"},{"$f":"[1]Лист1!E121","v":"ТТК 2014 г"},{"$f":"[1]Лист1!F121","v":"Каша гречневая вязкая "},{"$f":"[1]Лист1!G121","v":150},"10",{"$f":"[1]Лист1!I121","v":144},{"$f":"[1]Лист1!J121","v":3.5},{"$f":"[1]Лист1!K121","v":4.643},{"$f":"[1]Лист1!L121","v":22.028}]
[null,{"$f":"[1]Лист1!D122","v":"гор.напиток"},{"$f":"[1]Лист1!E122","v":"ТТК от 2021г"},{"$f":"[1]Лист1!F122","v":"Компот из замороженной компотной смеси"},{"$f":"[1]Лист1!G122","v":200},"10",{"$f":"[1]Лист1!I122","v":46},{"$f":"[1]Лист1!J122","v":0.135},{"$f":"[1]Лист1!K122","v":0.023},{"$f":"[1]Лист1!L122","v":11.15}]
[null,{"$f":"[1]Лист1!D123","v":"хлеб"},null,{"$f":"[1]Лист1!F123","v":"Хлеб ржано-пшеничный/ Хлеб пшеничный"},{"$f":"[1]Лист1!G123","v":40},"10",{"$f":"[1]Лист1!I123","v":91},{"$f":"[1]Лист1!J123","v":2.52},{"$f":"[1]Лист1!K123","v":0.36},{"$f":"[1]Лист1!L123","v":18.84}]
[null,{"$f":"[1]Лист1!D124","v":"фрукты"},{"$f":"[1]Лист1!E124","v":"№338 Дели 2015г "},{"$f":"[1]Лист1!F124","v":"Плоды и ягоды свежие (яблоки)"},{"$f":"[1]Лист1!G124","v":100},"10",{"$f":"[1]Лист1!I124","v":47},{"$f":"[1]Лист1!J124","v":0.4},{"$f":"[1]Лист1!K124","v":0.4},{"$f":"[1]Лист1!L124","v":9.8}]
[]
[]
[null,"Итого",null,null,{"$f":"[1]Лист1!G127","v":610},{"$f":"[1]Лист1!H127","v":89.77},{"$f":"[1]Лист1!I127","v":505},{"$f":"[1]Лист1!J127","v":16.532999999999998},{"$f":"[1]Лист1!K127","v":18.366999999999997},{"$f":"[1]Лист1!L127","v":67.60499999999999}]
["Завтрак 2","фрукты"]
["Обед","закуска"]
[null,"1 блюдо"]
[null,"2 блюдо"]
[null,"гарнир"]
[null,"сладкое"]
[null,"хлеб бел."]
[null,"хлеб черн."]
[null,"напиток"]