{"text_format":"3","workbook":"xlsx","n_sheets":1,"sheets":["Лист1"],"not_rendered":{"external_links":1},"read":"whole","date_system":"1900"}

{"sheet":"Лист1","index":0,"n_rows":10,"n_cols":10,"rows_kept":10,"merged":[[0,1,0,3]]}
["Школа","МБОУ \"Школа №127\"",null,null,"Отд./корп",{"$nulls":3},"День","2023-09-15"]
[]
["Прием пищи","Раздел","№ рец.","Блюдо","Выход, г","Цена, руб","Ккал","Белки,г","Жиры,г","Углеводы,г"]
[{"$f":"'[1]1-2, 11-16, 25-30 сент.'!A29","v":"завтрак"},{"$f":"'[1]1-2, 11-16, 25-30 сент.'!B29","v":"гор.блюдо"},{"$f":"'[1]1-2, 11-16, 25-30 сент.'!C29","v":"ТТК 2021 г"},{"$f":"'[1]1-2, 11-16, 25-30 сент.'!D29","v":"Биточки рыбные из фарша минтая"},{"$f":"'[1]1-2, 11-16, 25-30 сент.'!E29","v":90},null,{"$f":"'[1]1-2, 11-16, 25-30 сент.'!G29","v":98},{"$f":"'[1]1-2, 11-16, 25-30 сент.'!H29","v":9.8},{"$f":"'[1]1-2, 11-16, 25-30 сент.'!I29","v":2.01},{"$f":"'[1]1-2, 11-16, 25-30 сент.'!J29","v":10.2}]
[null,{"$f":"'[1]1-2, 11-16, 25-30 сент.'!B30","v":"гор.блюдо"},{"$f":"'[1]1-2, 11-16, 25-30 сент.'!C30","v":"№312/2015 г"},{"$f":"'[1]1-2, 11-16, 25-30 сент.'!D30","v":"Пюре картофельное"},{"$f":"'[1]1-2, 11-16, 25-30 сент.'!E30","v":155},null,{"$f":"'[1]1-2, 11-16, 25-30 сент.'!G30","v":179},{"$f":"'[1]1-2, 11-16, 25-30 сент.'!H30","v":3.32},{"$f":"'[1]1-2, 11-16, 25-30 сент.'!I30","v":8.28},{"$f":"'[1]1-2, 11-16, 25-30 сент.'!J30","v":22.06}]
[null,{"$f":"'[1]1-2, 11-16, 25-30 сент.'!B31","v":"гор.напиток"},{"$f":"'[1]1-2, 11-16, 25-30 сент.'!C31","v":"ТТК 2021 г"},{"$f":"'[1]1-2, 11-16, 25-30 сент.'!D31","v":"Напиток из замороженной черной смородины"},{"$f":"'[1]1-2, 11-16, 25-30 сент.'!E31","v":180},null,{"$f":"'[1]1-2, 11-16, 25-30 сент.'!G31","v":36},{"$f":"'[1]1-2, 11-16, 25-30 сент.'!H31","v":0.075},{"$f":"'[1]1-2, 11-16, 25-30 сент.'!I31","v":0.025},{"$f":"'[1]1-2, 11-16, 25-30 сент.'!J31","v":8.49}]
[null,{"$f":"'[1]1-2, 11-16, 25-30 сент.'!B32","v":"хлеб"},{"$f":"'[1]1-2, 11-16, 25-30 сент.'!C32","v":"ТТК"},{"$f":"'[1]1-2, 11-16, 25-30 сент.'!D32","v":"Хлебная корзина (хлеб пш., хлеб рж.-пш.)"},{"$f":"'[1]1-2, 11-16, 25-30 сент.'!E32","v":40},null,{"$f":"'[1]1-2, 11-16, 25-30 сент.'!G32","v":91},{"$f":"'[1]1-2, 11-16, 25-30 сент.'!H32","v":2.52},{"$f":"'[1]1-2, 11-16, 25-30 сент.'!I32","v":0.36},{"$f":"'[1]1-2, 11-16, 25-30 сент.'!J32","v":18.84}]
[{"$f":"'[1]1-2, 11-16, 25-30 сент.'!A33","v":"пятница"},{"$f":"'[1]1-2, 11-16, 25-30 сент.'!B33","v":"печенье"},{"$f":"'[1]1-2, 11-16, 25-30 сент.'!C33","v":"АКТ 2021 г"},{"$f":"'[1]1-2, 11-16, 25-30 сент.'!D33","v":"Печенье сдобное Шоколадное"},{"$f":"'[1]1-2, 11-16, 25-30 сент.'!E33","v":15},null,{"$f":"'[1]1-2, 11-16, 25-30 сент.'!G33","v":66},{"$f":"'[1]1-2, 11-16, 25-30 сент.'!H33","v":1.21},{"$f":"'[1]1-2, 11-16, 25-30 сент.'!I33","v":2.3},{"$f":"'[1]1-2, 11-16, 25-30 сент.'!J33","v":10.25}]
[null,{"$f":"'[1]1-2, 11-16, 25-30 сент.'!B34","v":"   закуска"},{"$f":"'[1]1-2, 11-16, 25-30 сент.'!C34","v":"№ 532/2013г, Самара"},"Салат-бар(помидоры, огурцы,соленые фасоль,сухарики,растит.масло)",{"$f":"'[1]1-2, 11-16, 25-30 сент.'!E34","v":60},null,{"$f":"'[1]1-2, 11-16, 25-30 сент.'!G34","v":91},{"$f":"'[1]1-2, 11-16, 25-30 сент.'!H34","v":1.67},{"$f":"'[1]1-2, 11-16, 25-30 сент.'!I34","v":6.11},{"$f":"'[1]1-2, 11-16, 25-30 сент.'!J34","v":7.09}]
[{"$f":"'[1]1-2, 11-16, 25-30 сент.'!A35","v":"ИТОГО"},{"$nulls":3},{"$f":"'[1]1-2, 11-16, 25-30 сент.'!E35","v":540},{"v":66.8,"d":"66.80"},{"$f":"'[1]1-2, 11-16, 25-30 сент.'!G35","v":561},{"$f":"'[1]1-2, 11-16, 25-30 сент.'!H35","v":18.595},{"$f":"'[1]1-2, 11-16, 25-30 сент.'!I35","v":19.084999999999997},{"$f":"'[1]1-2, 11-16, 25-30 сент.'!J35","v":76.93}]