{"text_format":"3","workbook":"xlsx","n_sheets":10,"sheets":["29.11","28.11","30.11","1.12","2.12","5.12","6.12","7.12","8.12","9.12"],"not_rendered":{"external_links":3},"read":"whole","date_system":"1900"}

{"sheet":"29.11","index":0,"n_rows":11,"n_cols":10,"rows_kept":11,"merged":[[0,1,0,3]]}
["Школа","МБОУ \"Школа №127\"",null,null,"Отд./корп",{"$nulls":3},"День","2022-11-29"]
[]
["Прием пищи","Раздел","№ рец.","Блюдо","Выход, г","Цена","Калорийность","Белки","Жиры","Углеводы"]
[]
[null,"овощи",null,"Плоды свежие (яблоки)",100,null,47,{"v":0.4,"d":"0.40"},{"v":0.4,"d":"0.40"},{"v":9.8,"d":"9.80"}]
[{"$nulls":3},"Блинчики со сгущенным молоком","45/10",null,85,2.19,15.18,20.16]
[null,"гарнир",null,"Рагу из птицы","40/120",null,267,12.63,15.18,20.16]
[null,"гор.напиток",null,"Напиток лимоны","200",null,101,0.14,0.01,24.43]
[null,"хлеб",null,"ражано-пшеничный","20",null,44,1,0.2,9]
[null,"хлеб",null,"пшеничный",15,null,35,1.14,0.12,7.38]
[{"$nulls":4},550,{"v":62.1,"d":"62.10"},579,{"v":17.5,"d":"18"},{"v":18.43,"d":"18"},{"v":84.27,"d":"84"}]

{"sheet":"28.11","index":1,"n_rows":11,"n_cols":10,"rows_kept":11,"merged":[[0,1,0,3]]}
["Школа","МБОУ \"Школа №127\"",null,null,"Отд./корп",{"$nulls":3},"День","2022-11-28"]
[]
["Прием пищи","Раздел","№ рец.","Блюдо","Выход, г","Цена","Калорийность","Белки","Жиры","Углеводы"]
[]
[null,"овощи",null,"Салат из белокачанной капусты",60,null,54,0.93,3.05,5.64]
[null,"гор. блюдо",null,"Тефтели из говядины в соусе томатном ","70/40",null,132,0.01,6.83,8.46]
[null,"гарнир",null,"Каша гречневая рассыпчатая","150",null,101,0.14,0.01,24.43]
[null,"гор.напиток",null,"чай с сахаром","200/8",null,32,0.02,null,7.98]
[{"$nulls":3},"Печенье сдобное \"Шоколадное\"","2шт/30",null,164,"1900-01-04T09:50:24",7.24,20.51]
[null,"хлеб",null,"ржано-пшеничный",25,null,55,1.25,0.25,11.25]
[{"$nulls":4},583,{"v":62.1,"d":"62.10"},538,{"v":15.99,"d":"16"},{"v":17.38,"d":"17"},{"v":78.27,"d":"78"}]

{"sheet":"30.11","index":2,"n_rows":11,"n_cols":10,"rows_kept":11,"merged":[[0,1,0,3]]}
["Школа","МБОУ \"Школа№127\"",null,null,"Отд./корп",{"$nulls":3},"День","30.11.22."]
[]
["Прием пищи","Раздел","№ рец.","Блюдо","Выход, г","Цена","Калорийность","Белки","Жиры","Углеводы"]
[null,"закуска",null,"Плоды свежие ( яблоки)",100,null,47,0.44,0.4,9.8]
[{"$nulls":3},"Салат из моркови",60,null,95,0.63,96.04,9.34]
[{"$nulls":3},"Котлеты\" Пожарские\"  с соусом томатным",8,null,95,68.35,6.71,35.91]
[null,"гарнир",null,"Макаронные изделия отварные",150,null,212,5.6,5.06,41.87]
[null,"напиток",null,"Компот из замороженной компотной смеси",200,null,46,0.13,1.02,11.15]
[null,"хлеб",null,"хлеб ржано- пшеничный ",20,null,44,1,0.2,9]
[null,"хлеб",null,"хлеб пшеничный",20,null,47,1.52,0.16,9.84]
[{"$nulls":4},640,{"v":62.1,"d":"62.10"},586,{"v":17.63,"d":"18"},{"v":18.59,"d":"19"},{"v":85.24,"d":"85"}]

{"sheet":"1.12","index":3,"n_rows":11,"n_cols":10,"rows_kept":11,"merged":[[0,1,0,3]]}
["Школа","МБОУ \"Школа№127\"",null,null,"Отд./корп",{"$nulls":3},"День","2022-12-01"]
[]
["Прием пищи","Раздел","№ рец.","Блюдо","Выход, г","Цена","Калорийность","Белки","Жиры","Углеводы"]
["Обед","закуска",null,"Плоды свежие (яблоки",100,null,47,0.4,0.4,9.8]
[{"$nulls":3},"Салат из свеклы отварной с маслом",60,null,56,0.85,3.65,5.02]
[null,"1 блюдо",null,"Плов с птицей",{"v":0.3333333333333333,"d":"0"},null,244,"1900-01-12T10:04:48",10.01,244]
[]
[null,"гор.напиток","ттк 2021","Напиток из шиповника",200,null,41,0.1,null,10.18]
[{"$nulls":3},"Печенье сдобное \"Американер с кунжутом\"","1шт./15",null,38,0.5,1.62,5.25]
[null,"хлеб",null,"хлеб ржано-пшеничный",30,null,66,{"v":1.5,"d":"2"},{"v":0.3,"d":"0"},{"v":13.55,"d":"14"}]
[{"$nulls":4},605,{"v":62.1,"d":"62.10"},492,{"v":15.77,"d":"16"},{"v":15.98,"d":"16"},{"v":69.76,"d":"70"}]

{"sheet":"2.12","index":4,"n_rows":12,"n_cols":10,"rows_kept":12,"merged":[[0,1,0,3]]}
["Школа","МБОУ \"Школа №127\"",null,null,"Отд./корп",{"$nulls":3},"День","2022-12-02"]
[]
["Прием пищи","Раздел","№ рец.","Блюдо","Выход, г","Цена","Калорийность","Белки","Жиры","Углеводы"]
[]
[null,"овощи",null,"Салат из моркови с яблоками",60,null,79,0.63,6.04,9.34]
[null,"гор. блюдо",null,"Ежики мясные с рисом в соусе томатном","60/40",null,155,9.56,8.42,10.23]
[null,"гарнир",null,"Пюре картофельное","150",null,146,3.28,4.65,22.02]
[null,"гор.напиток",null,"Компот из замороженной вишни","200",null,48,0.1,"0.03",11.57]
[]
[null,"хлеб",null,"ржано-пшеничный",20,null,44,{"v":1,"d":"1.00"},0.25,{"v":9,"d":"9.00"}]
[{"$nulls":3},"хлеб пшеничный",20,null,47,{"v":1.52,"d":"2"},{"v":0.156,"d":"0"},{"v":9.84,"d":"10"}]
[{"$nulls":4},550,{"v":62.1,"d":"62.10"},519,{"v":16.07,"d":"16"},{"v":19.54,"d":"20"},{"v":67.93,"d":"68"}]

{"sheet":"5.12","index":5,"n_rows":0,"n_cols":0,"rows_kept":0}

{"sheet":"6.12","index":6,"n_rows":11,"n_cols":10,"rows_kept":11,"merged":[[0,1,0,3]]}
["Школа","МБОУ \"Школа №127\"",null,null,"Отд./корп",{"$nulls":3},"День","2022-12-06"]
[]
["Прием пищи","Раздел","№ рец.","Блюдо","Выход, г","Цена","Калорийность","Белки","Жиры","Углеводы"]
[]
[null,"овощи",null,{"$f":"'[1]1 неделя (без цен)'!B26","v":"Плоды свежие (яблоки)"},{"$f":"'[1]1 неделя (без цен)'!G26","v":{"v":100,"d":"100.00"}},null,{"$f":"'[1]1 неделя (без цен)'!L26","v":47},{"$f":"'[1]1 неделя (без цен)'!I26","v":0.4},{"$f":"'[1]1 неделя (без цен)'!J26","v":0.4},{"$f":"'[1]1 неделя (без цен)'!K26","v":9.8}]
[null,"гор. блюдо",null,{"$f":"'[1]1 неделя (без цен)'!B27","v":"Блинчики со сгущенным молоком"},{"$f":"'[1]1 неделя (без цен)'!G27","v":"45/10"},null,{"$f":"'[1]1 неделя (без цен)'!L27","v":114},{"$f":"'[1]1 неделя (без цен)'!I27","v":3.19},{"$f":"'[1]1 неделя (без цен)'!J27","v":2.52},{"$f":"'[1]1 неделя (без цен)'!K27","v":19.5}]
[null,"гарнир",null,{"$f":"'[1]1 неделя (без цен)'!B28","v":"Жаркое из птицы "},{"$f":"'[1]1 неделя (без цен)'!G28","v":"40/140"},null,{"$f":"'[1]1 неделя (без цен)'!L28","v":250},{"$f":"'[1]1 неделя (без цен)'!I28","v":11.77},{"$f":"'[1]1 неделя (без цен)'!J28","v":12.05},{"$f":"'[1]1 неделя (без цен)'!K28","v":22.53}]
[null,"гор.напиток",null,{"$f":"'[1]1 неделя (без цен)'!B29","v":"Компот из замороженной компотной смеси"},{"$f":"'[1]1 неделя (без цен)'!G29","v":200},null,{"$f":"'[1]1 неделя (без цен)'!L29","v":46},{"$f":"'[1]1 неделя (без цен)'!I29","v":0.13},{"$f":"'[1]1 неделя (без цен)'!J29","v":0.02},{"$f":"'[1]1 неделя (без цен)'!K29","v":11.15}]
[{"$nulls":3},{"$f":"'[1]1 неделя (без цен)'!B30","v":"Хлеб ржано - пшеничный"},{"$f":"'[1]1 неделя (без цен)'!G30","v":20},null,{"$f":"'[1]1 неделя (без цен)'!L30","v":44},{"$f":"'[1]1 неделя (без цен)'!I30","v":1},{"$f":"'[1]1 неделя (без цен)'!J30","v":0.2},{"$f":"'[1]1 неделя (без цен)'!K30","v":9}]
[null,"хлеб",null,{"$f":"'[1]1 неделя (без цен)'!B31","v":"Хлеб пшеничный "},{"$f":"'[1]1 неделя (без цен)'!G31","v":{"v":15,"d":"15.00"}},null,{"$f":"'[1]1 неделя (без цен)'!L31","v":35},{"$f":"'[1]1 неделя (без цен)'!I31","v":1.14},{"$f":"'[1]1 неделя (без цен)'!J31","v":0.12},{"$f":"'[1]1 неделя (без цен)'!K31","v":7.38}]
[{"$nulls":3},"Итого ",{"$f":"'[1]1 неделя (без цен)'!G32","v":570},{"$f":"'[1]1 неделя (без цен)'!$H$32","v":{"v":62.1,"d":"62.10"}},{"$f":"'[1]1 неделя (без цен)'!L32","v":536},{"$f":"'[1]1 неделя (без цен)'!I32","v":17.630000000000003},{"$f":"'[1]1 неделя (без цен)'!J32","v":15.309999999999999},{"$f":"'[1]1 неделя (без цен)'!K32","v":79.35999999999999}]

{"sheet":"7.12","index":7,"n_rows":11,"n_cols":10,"rows_kept":11,"merged":[[0,1,0,3]]}
["Школа","МБОУ \"Школа №127\"",null,null,"Отд./корп",{"$nulls":3},"День","2022-12-07"]
[]
["Прием пищи","Раздел","№ рец.","Блюдо","Выход, г","Цена","Калорийность","Белки","Жиры","Углеводы"]
[]
[null,"овощи",null,"Салат из моркови ",{"$f":"'[1]1 неделя (без цен)'!G35","v":{"v":60,"d":"60.00"}},null,{"$f":"'[1]1 неделя (без цен)'!L35","v":95},{"$f":"'[1]1 неделя (без цен)'!I35","v":0.63},{"$f":"'[1]1 неделя (без цен)'!J35","v":6.04},{"$f":"'[1]1 неделя (без цен)'!L35","v":95}]
[null,"гор. блюдо",null,"Плов с говядиной",{"$f":"'[1]1 неделя (без цен)'!G36","v":"40/150"},null,{"$f":"'[1]1 неделя (без цен)'!L36","v":341},{"$f":"'[1]1 неделя (без цен)'!I36","v":11.62},{"$f":"'[1]1 неделя (без цен)'!J36","v":13.59},{"$f":"'[1]1 неделя (без цен)'!L36","v":341}]
[null,"гарнир"]
[null,"гор.напиток",null,"Чай с сахаром, лимоном",{"$f":"'[1]1 неделя (без цен)'!G37","v":"200/8/5"},null,34,{"$f":"'[1]1 неделя (без цен)'!I37","v":0.06},{"$f":"'[1]1 неделя (без цен)'!J37","v":0.01},{"$f":"'[1]1 неделя (без цен)'!L37","v":34}]
[{"$nulls":3},"Хлеб ржано - пшеничный",{"$f":"'[1]1 неделя (без цен)'!G38","v":20},null,44,{"$f":"'[1]1 неделя (без цен)'!I38","v":{"v":1,"d":"1.00"}},{"$f":"'[1]1 неделя (без цен)'!J38","v":{"v":0.2,"d":"0.20"}},{"$f":"'[1]1 неделя (без цен)'!L38","v":44}]
[null,"хлеб",null,"Хлеб пшеничный ",{"$f":"'[1]1 неделя (без цен)'!G39","v":20},null,47,{"$f":"'[1]1 неделя (без цен)'!I39","v":1.52},{"$f":"'[1]1 неделя (без цен)'!J39","v":0.16},{"$f":"'[1]1 неделя (без цен)'!L39","v":47}]
[{"$nulls":3},{"$f":"'[1]1 неделя (без цен)'!F40","v":"Итого:"},{"$f":"'[1]1 неделя (без цен)'!G40","v":503},{"$f":"'[1]1 неделя (без цен)'!$H$40","v":{"v":62.1,"d":"62.10"}},561,{"$f":"'[1]1 неделя (без цен)'!$I$40","v":14.83},{"$f":"'[1]1 неделя (без цен)'!J40","v":{"v":20,"d":"20.00"}},{"$f":"'[1]1 неделя (без цен)'!L40","v":561}]

{"sheet":"8.12","index":8,"n_rows":11,"n_cols":10,"rows_kept":11,"merged":[[0,1,0,3]]}
["Школа","МБОУ \"Школа №127\"",null,null,"Отд./корп",{"$nulls":3},"День","2022-12-08"]
[]
["Прием пищи","Раздел","№ рец.","Блюдо","Выход, г","Цена","Калорийность","Белки","Жиры","Углеводы"]
[null,"закуска",null,{"$f":"'[2]1 неделя (без цен)'!B43","v":"Плоды свежие (яблоки)"},{"$f":"'[2]1 неделя (без цен)'!G43","v":100},null,{"$f":"'[2]1 неделя (без цен)'!L43","v":47},{"$f":"'[2]1 неделя (без цен)'!I43","v":{"v":0.4,"d":"0.40"}},{"$f":"'[2]1 неделя (без цен)'!J43","v":{"v":0.4,"d":"0.40"}},{"$f":"'[2]1 неделя (без цен)'!K43","v":{"v":9.8,"d":"9.80"}}]
[null,"овощи",null,{"$f":"'[2]1 неделя (без цен)'!B44","v":"Свекла отварная (дольками) с маслом"},{"$f":"'[2]1 неделя (без цен)'!G44","v":{"v":60,"d":"60.00"}},null,{"$f":"'[2]1 неделя (без цен)'!L44","v":56},{"$f":"'[2]1 неделя (без цен)'!I44","v":0.85},{"$f":"'[2]1 неделя (без цен)'!J44","v":3.65},{"$f":"'[2]1 неделя (без цен)'!K44","v":5.02}]
[null,"гор. блюдо",null,{"$f":"'[2]1 неделя (без цен)'!B45","v":"Гуляш из птицы"},{"$f":"'[2]1 неделя (без цен)'!G45","v":"50/50"},null,{"$f":"'[2]1 неделя (без цен)'!L45","v":117},{"$f":"'[2]1 неделя (без цен)'!I45","v":8},{"$f":"'[2]1 неделя (без цен)'!J45","v":8.6},{"$f":"'[2]1 неделя (без цен)'!K45","v":1.8}]
[null,"гарнир",null,{"$f":"'[2]1 неделя (без цен)'!B46","v":"Каша гречневая рассыпчатая"},{"$f":"'[2]1 неделя (без цен)'!G46","v":{"v":150,"d":"150.00"}},null,{"$f":"'[2]1 неделя (без цен)'!L46","v":242},{"$f":"'[2]1 неделя (без цен)'!I46","v":6.62},{"$f":"'[2]1 неделя (без цен)'!J46","v":5.39},{"$f":"'[2]1 неделя (без цен)'!K46","v":41.87}]
[null,"гор.напиток",null,{"$f":"'[2]1 неделя (без цен)'!B47","v":"Напиток из шиповника"},{"$f":"'[2]1 неделя (без цен)'!G47","v":200},null,{"$f":"'[2]1 неделя (без цен)'!L47","v":41},{"$f":"'[2]1 неделя (без цен)'!I47","v":0.1},{"$f":"G21","v":0},{"$f":"'[2]1 неделя (без цен)'!K47","v":10.18}]
[{"$nulls":3},{"$f":"'[2]1 неделя (без цен)'!B48","v":"Хлеб ржано - пшеничный"},{"$f":"'[2]1 неделя (без цен)'!G48","v":20},null,{"$f":"'[2]1 неделя (без цен)'!L48","v":44},{"$f":"'[2]1 неделя (без цен)'!I48","v":1},{"$f":"'[2]1 неделя (без цен)'!J48","v":0.2},{"$f":"'[2]1 неделя (без цен)'!K48","v":9}]
[null,"хлеб",null,{"$f":"'[2]1 неделя (без цен)'!B49","v":"Хлеб пшеничный "},{"$f":"'[2]1 неделя (без цен)'!G49","v":{"v":15,"d":"15.00"}},null,{"$f":"'[2]1 неделя (без цен)'!L49","v":35},{"$f":"'[2]1 неделя (без цен)'!I49","v":1.14},{"$f":"'[2]1 неделя (без цен)'!J49","v":0.12},{"$f":"'[2]1 неделя (без цен)'!K49","v":7.38}]
[{"$nulls":3},"Итого ",{"$f":"'[2]1 неделя (без цен)'!G50","v":645},{"v":62.1,"d":"62.10"},{"$f":"'[2]1 неделя (без цен)'!L50","v":582},{"$f":"'[2]1 неделя (без цен)'!I50","v":18.11},{"$f":"'[2]1 неделя (без цен)'!J50","v":18.36},{"$f":"'[2]1 неделя (без цен)'!K50","v":85.04999999999998}]

{"sheet":"9.12","index":9,"n_rows":11,"n_cols":10,"rows_kept":11,"merged":[[0,1,0,3]]}
["Школа","МБОУ \"Школа №127\"",null,null,"Отд./корп",{"$nulls":3},"День","2022-12-09"]
[]
["Прием пищи","Раздел","№ рец.","Блюдо","Выход, г","Цена","Калорийность","Белки","Жиры","Углеводы"]
[]
[null,"овощи",null,{"$f":"'[3]1 неделя (без цен)'!B53","v":"Блинчики со сгущенным молоком"},{"$f":"'[3]1 неделя (без цен)'!G53","v":"45/10"},null,{"$f":"'[3]1 неделя (без цен)'!L53","v":114},{"$f":"'[3]1 неделя (без цен)'!I53","v":3.19},{"$f":"'[3]1 неделя (без цен)'!J53","v":2.52},{"$f":"'[3]1 неделя (без цен)'!K53","v":19.5}]
[null,"гор. блюдо",null,{"$f":"'[3]1 неделя (без цен)'!B54","v":"Биточки рыбные, огурец соленый (доп. гарнир)"},{"$f":"'[3]1 неделя (без цен)'!G54","v":"65/25"},null,{"$f":"'[3]1 неделя (без цен)'!L54","v":132},{"$f":"'[3]1 неделя (без цен)'!I54","v":9.5},{"$f":"'[3]1 неделя (без цен)'!J54","v":8.3},{"$f":"'[3]1 неделя (без цен)'!K54","v":4.8}]
[null,"гарнир",null,{"$f":"'[3]1 неделя (без цен)'!B55","v":"Пюре картофельное "},{"$f":"'[3]1 неделя (без цен)'!G55","v":{"v":150,"d":"150.00"}},null,{"$f":"'[3]1 неделя (без цен)'!L55","v":146},{"$f":"'[3]1 неделя (без цен)'!I55","v":3.28},{"$f":"'[3]1 неделя (без цен)'!J55","v":4.66},{"$f":"'[3]1 неделя (без цен)'!K55","v":22.03}]
[null,"гор.напиток",null,{"$f":"'[3]1 неделя (без цен)'!B56","v":"Компот из замороженной вишни"},{"$f":"'[3]1 неделя (без цен)'!G56","v":200},null,{"$f":"'[3]1 неделя (без цен)'!L56","v":48},{"$f":"'[3]1 неделя (без цен)'!I56","v":0.12},{"$f":"'[3]1 неделя (без цен)'!J56","v":0.03},{"$f":"'[3]1 неделя (без цен)'!K56","v":11.57}]
[{"$nulls":3},{"$f":"'[3]1 неделя (без цен)'!B57","v":"Хлеб ржано - пшеничный"},{"$f":"'[3]1 неделя (без цен)'!G57","v":20},null,{"$f":"'[3]1 неделя (без цен)'!L57","v":44},{"$f":"'[3]1 неделя (без цен)'!I57","v":1},{"$f":"'[3]1 неделя (без цен)'!J57","v":0.2},{"$f":"'[3]1 неделя (без цен)'!K57","v":9}]
[null,"хлеб",null,{"$f":"'[3]1 неделя (без цен)'!B58","v":"Хлеб пшеничный "},{"$f":"'[3]1 неделя (без цен)'!G58","v":{"v":20,"d":"20.00"}},null,{"$f":"'[3]1 неделя (без цен)'!L58","v":47},{"$f":"'[3]1 неделя (без цен)'!I58","v":1.52},{"$f":"'[3]1 неделя (без цен)'!J58","v":0.16},{"$f":"'[3]1 неделя (без цен)'!K58","v":9.84}]
[{"$nulls":3},"Итого",{"$f":"'[3]1 неделя (без цен)'!G59","v":535},{"v":62.1,"d":"62.10"},{"$f":"'[3]1 неделя (без цен)'!L59","v":531},{"$f":"'[3]1 неделя (без цен)'!I59","v":18.61},{"$f":"'[3]1 неделя (без цен)'!J59","v":15.87},{"$f":"'[3]1 неделя (без цен)'!K59","v":76.74000000000001}]