{"text_format":"3","workbook":"xlsx","n_sheets":1,"sheets":["9-14, 23-28.01.2023"],"not_rendered":{"external_links":1},"read":"whole","date_system":"1900"}

{"sheet":"9-14, 23-28.01.2023","index":0,"n_rows":13,"n_cols":10,"rows_kept":13,"merged":[[0,1,0,3]]}
["Школа","МБОУ \"Гимназия 155 с татарским языком обучения\"",null,null,"Отд./корп",{"$nulls":3},"День","2023-05-17"]
[]
["Прием пищи","Раздел","№ рец.","Блюдо","Выход, г","Цена","Калорийность","Белки","Жиры","Углеводы"]
["Завтрак",{"$f":"'[1]01-06.05, 15-20.05'!B21","v":"гор.блюдо"},{"$f":"'[1]01-06.05, 15-20.05'!C21","v":"ТТК 2021 г"},{"$f":"'[1]01-06.05, 15-20.05'!D21","v":"Гуляш из говядины"},"35/35",null,{"$f":"'[1]01-06.05, 15-20.05'!G21","v":{"v":134,"d":"134.00"}},{"$f":"'[1]01-06.05, 15-20.05'!H21","v":10.64},{"$f":"'[1]01-06.05, 15-20.05'!I21","v":8.37},{"$f":"'[1]01-06.05, 15-20.05'!J21","v":3.99}]
[null,{"$f":"'[1]01-06.05, 15-20.05'!B22","v":"гор.блюдо"},{"$f":"'[1]01-06.05, 15-20.05'!C22","v":"№ 304/2015 г"},{"$f":"'[1]01-06.05, 15-20.05'!D22","v":"Рис отварной"},{"$f":"'[1]01-06.05, 15-20.05'!E22","v":150},null,{"$f":"'[1]01-06.05, 15-20.05'!G22","v":{"v":224,"d":"224.00"}},{"$f":"'[1]01-06.05, 15-20.05'!H22","v":3.83},{"$f":"'[1]01-06.05, 15-20.05'!I22","v":5.43},{"$f":"'[1]01-06.05, 15-20.05'!J22","v":40.01}]
[null,{"$f":"'[1]01-06.05, 15-20.05'!B23","v":"гор.напиток"},{"$f":"'[1]01-06.05, 15-20.05'!C23","v":"ТТК  2023 г"},{"$f":"'[1]01-06.05, 15-20.05'!D23","v":"чай с сахаром"},"180/7",null,{"$f":"'[1]01-06.05, 15-20.05'!G23","v":{"v":43,"d":"43.00"}},{"$f":"'[1]01-06.05, 15-20.05'!H23","v":{"v":0.1,"d":"0.10"}},{"$f":"'[1]01-06.05, 15-20.05'!I23","v":0.03},{"$f":"'[1]01-06.05, 15-20.05'!J23","v":10.41}]
[null,{"$f":"'[1]01-06.05, 15-20.05'!B24","v":"хлеб"},{"$f":"'[1]01-06.05, 15-20.05'!C24","v":0},{"$f":"'[1]01-06.05, 15-20.05'!D24","v":"Хлеб ржано-пшеничный"},{"$f":"'[1]01-06.05, 15-20.05'!E24","v":15},null,{"$f":"'[1]01-06.05, 15-20.05'!G24","v":{"v":33,"d":"33.00"}},{"$f":"'[1]01-06.05, 15-20.05'!H24","v":0.75},{"$f":"'[1]01-06.05, 15-20.05'!I24","v":0.15},{"$f":"'[1]01-06.05, 15-20.05'!J24","v":6.75}]
[null,{"$f":"'[1]01-06.05, 15-20.05'!B25","v":"хлеб"},{"$f":"'[1]01-06.05, 15-20.05'!C25","v":0},{"$f":"'[1]01-06.05, 15-20.05'!D25","v":"Хлеб пшеничный"},15,null,{"$f":"'[1]01-06.05, 15-20.05'!G25","v":{"v":47,"d":"47.00"}},{"$f":"'[1]01-06.05, 15-20.05'!H25","v":1.52},{"$f":"'[1]01-06.05, 15-20.05'!I25","v":0.16},{"$f":"'[1]01-06.05, 15-20.05'!J25","v":9.84}]
[null,{"$f":"'[1]01-06.05, 15-20.05'!B26","v":0},{"$f":"'[1]01-06.05, 15-20.05'!C26","v":"ТТК "},"Ассорти овощные (помидоры, огурцы) - доп.гарнир","30/30/5",null,{"$f":"'[1]01-06.05, 15-20.05'!G26","v":{"v":55,"d":"55.00"}},{"$f":"'[1]01-06.05, 15-20.05'!H26","v":0.54},{"$f":"'[1]01-06.05, 15-20.05'!I26","v":5.08},{"$f":"'[1]01-06.05, 15-20.05'!J26","v":1.71}]
[]
[]
[]
["ИТОГО",{"$nulls":4},{"v":62.1,"d":"62.10"}]