{"text_format":"3","workbook":"xlsx","n_sheets":1,"sheets":["1"],"not_rendered":{"external_links":1},"read":"whole","date_system":"1900"}

{"sheet":"1","index":0,"n_rows":16,"n_cols":10,"rows_kept":16,"merged":[[0,1,0,3]]}
["Школа","МБОУ \"Гимназия 155 с татарским языком обучения\" Ново - Савиновского района г.Казани ",null,null,"Отд./корп",{"$nulls":3},"День","2022-10-07"]
[]
["Прием пищи","Раздел","№ рец.","Блюдо","Выход, г","Цена","Калорийность","Белки","Жиры","Углеводы"]
["Завтрак",{"$f":"'[1]1нед'!B34","v":"гор.блюдо"},{"$f":"'[1]1нед'!C34","v":"№250/2015"},{"$f":"'[1]1нед'!D34","v":"Жаркое по домашнему"},{"$f":"'[1]1нед'!E34","v":190},{"$f":"'[1]1нед'!F34","v":0},{"$f":"'[1]1нед'!G34","v":315},{"$f":"'[1]1нед'!H34","v":12.53},{"$f":"'[1]1нед'!I34","v":12.78},{"$f":"'[1]1нед'!J34","v":37.5}]
[null,{"$f":"'[1]1нед'!B35","v":"гор.напиток"},{"$f":"'[1]1нед'!C35","v":"ТТК 2021г"},{"$f":"'[1]1нед'!D35","v":"Чай с сахаром, лимоном"},{"$f":"'[1]1нед'!E35","v":215},{"$f":"'[1]1нед'!F35","v":0},{"$f":"'[1]1нед'!G35","v":35},{"$f":"'[1]1нед'!H35","v":0.11},{"$f":"'[1]1нед'!I35","v":0.01},{"$f":"'[1]1нед'!J35","v":8.29}]
[null,{"$f":"'[1]1нед'!B36","v":"хлеб"},{"$f":"'[1]1нед'!C36","v":0},{"$f":"'[1]1нед'!D36","v":"Хлеб ржано-пшеничный"},{"$f":"'[1]1нед'!E36","v":20},{"$f":"'[1]1нед'!F36","v":0},{"$f":"'[1]1нед'!G36","v":44},{"$f":"'[1]1нед'!H36","v":1},{"$f":"'[1]1нед'!I36","v":0.2},{"$f":"'[1]1нед'!J36","v":9}]
[null,{"$f":"'[1]1нед'!B37","v":"хлеб"},{"$f":"'[1]1нед'!C37","v":0},{"$f":"'[1]1нед'!D37","v":"Хлеб пшеничный"},{"$f":"'[1]1нед'!E37","v":15},{"$f":"'[1]1нед'!F37","v":0},{"$f":"'[1]1нед'!G37","v":35},{"$f":"'[1]1нед'!H37","v":1.14},{"$f":"'[1]1нед'!I37","v":0.12},{"$f":"'[1]1нед'!J37","v":7.38}]
[null,{"$f":"'[1]1нед'!B38","v":"закуска"},{"$f":"'[1]1нед'!C38","v":"№52/2015"},{"$f":"'[1]1нед'!D38","v":"Салат из свкеклы отварной с маслом"},{"$f":"'[1]1нед'!E38","v":60},{"$f":"'[1]1нед'!F38","v":0},{"$f":"'[1]1нед'!G38","v":56},{"$f":"'[1]1нед'!H38","v":0.85},{"$f":"'[1]1нед'!I38","v":3.65},{"$f":"'[1]1нед'!J38","v":5.02}]
[null,{"$f":"'[1]1нед'!B39","v":0},{"$f":"'[1]1нед'!C39","v":0},{"$f":"'[1]1нед'!D39","v":0},{"$f":"'[1]1нед'!E39","v":500},{"$f":"'[1]1нед'!F39","v":62.1},{"$f":"'[1]1нед'!G39","v":485},{"$f":"'[1]1нед'!H39","v":15.629999999999999},{"$f":"'[1]1нед'!I39","v":16.759999999999998},{"$f":"'[1]1нед'!J39","v":67.19}]
[]
[]
["Завтрак 2"]
[]
[]
[]
["Обед"]