{"text_format":"3","workbook":"xlsx","n_sheets":1,"sheets":["1"],"not_rendered":{"external_links":1},"read":"whole","date_system":"1900"}

{"sheet":"1","index":0,"n_rows":18,"n_cols":10,"rows_kept":18,"merged":[[0,1,0,3]]}
["Школа","Гимназия 155",null,null,"Отд./корп",{"$nulls":3},"День","2022-03-23"]
[]
["Прием пищи","Раздел","№ рец.","Блюдо","Выход, г","Цена","Калорийность","Белки","Жиры","Углеводы"]
["Завтрак","гор.блюдо",{"$f":"[1]Лист1!B24","v":"ТТК 2020 г"},{"$f":"[1]Лист1!C24","v":"ЁЖИКИ МЯСНЫЕ С РИСОМ п/ф В СОУСЕ ТОМАТНОМ 60/40 г"},{"$f":"[1]Лист1!G24","v":"60/40"},null,{"$f":"[1]Лист1!Q24","v":178},{"$f":"[1]Лист1!K24","v":9.566},{"$f":"[1]Лист1!M24","v":11.424},{"$f":"[1]Лист1!N24","v":9.228}]
[null,"гор.напиток",{"$f":"[1]Лист1!B25","v":"№312/2015г,Дели"},{"$f":"[1]Лист1!C25","v":"ПЮРЕ КАРТОФЕЛЬНОЕ 150 г"},{"$f":"[1]Лист1!G25","v":150},null,{"$f":"[1]Лист1!Q25","v":146},{"$f":"[1]Лист1!K25","v":3.282},{"$f":"[1]Лист1!M25","v":4.657},{"$f":"[1]Лист1!N25","v":22.027}]
[null,null,{"$f":"[1]Лист1!B26","v":"№70/2015г,Дели"},{"$f":"[1]Лист1!C26","v":"ОВОЩИ НАТУРАЛЬНЫЕ СОЛЕНЫЕ (ОГУРЦЫ) 30 г"},{"$f":"[1]Лист1!G26","v":30},null,{"$f":"[1]Лист1!Q26","v":4},{"$f":"[1]Лист1!K26","v":0.24},{"$f":"[1]Лист1!M26","v":0.03},{"$f":"[1]Лист1!N26","v":0.51}]
[null,null,{"$f":"[1]Лист1!B27","v":"ТТК 2021 г"},{"$f":"[1]Лист1!C27","v":"КОМПОТ ИЗ ЗАМОРОЖЕННОЙ КОМПОТНОЙ СМЕСИ 200 г"},{"$f":"[1]Лист1!G27","v":200},null,{"$f":"[1]Лист1!Q27","v":46},{"$f":"[1]Лист1!K27","v":0.135},{"$f":"[1]Лист1!M27","v":0.023},{"$f":"[1]Лист1!N27","v":11.15}]
[null,"хлеб",{"$f":"[1]Лист1!B28","v":0},{"$f":"[1]Лист1!C28","v":"ХЛЕБ РЖАНО - ПШЕНИЧНЫЙ 20 г"},{"$f":"[1]Лист1!G28","v":20},null,{"$f":"[1]Лист1!Q28","v":44},{"$f":"[1]Лист1!K28","v":1},{"$f":"[1]Лист1!M28","v":0.2},{"$f":"[1]Лист1!N28","v":9}]
[null,"хлеб",{"$f":"[1]Лист1!B29","v":0},{"$f":"[1]Лист1!C29","v":"ХЛЕБ ПШЕНИЧНЫЙ 20 г"},{"$f":"[1]Лист1!G29","v":20},null,{"$f":"[1]Лист1!Q29","v":47},{"$f":"[1]Лист1!K29","v":1.52},{"$f":"[1]Лист1!M29","v":0.16},{"$f":"[1]Лист1!N29","v":9.84}]
["Завтрак 2",{"$nulls":4},55.01]
[]
["Обед","закуска"]
[null,"1 блюдо"]
[null,"2 блюдо"]
[null,"гарнир"]
[null,"сладкое"]
[null,"хлеб бел."]
[null,"хлеб черн."]