{"text_format":"3","workbook":"xlsx","n_sheets":1,"sheets":["1"],"not_rendered":{"external_links":1},"read":"whole","date_system":"1900"}

{"sheet":"1","index":0,"n_rows":18,"n_cols":10,"rows_kept":18,"merged":[[0,1,0,3]]}
["Школа","Гимназия 155",null,null,"Отд./корп",{"$nulls":3},"День","2022-03-21"]
[]
["Прием пищи","Раздел","№ рец.","Блюдо","Выход, г","Цена","Калорийность","Белки","Жиры","Углеводы"]
["Завтрак","гор.блюдо","ТТК  2019",{"$f":"'[1]05 марта'!D4","v":"СЫР ПОРЦИЯМИ 15 г"},{"$f":"'[1]05 марта'!E4","v":15},null,{"$f":"'[1]05 марта'!G4","v":53},{"$f":"'[1]05 марта'!H4","v":3.945},{"$f":"'[1]05 марта'!I4","v":3.99},{"$f":"'[1]05 марта'!J4","v":"-"}]
[null,"гор.напиток",null,{"$f":"'[1]05 марта'!D5","v":"КОТЛЕТЫ АППЕТИТНЫЕ С СОУСОМ ТОМАТНЫМ 80/15 г (из п/ф 92 г)"},{"$f":"'[1]05 марта'!E5","v":"80/15"},null,{"$f":"'[1]05 марта'!G5","v":201},{"$f":"'[1]05 марта'!H5","v":"11,766"},{"$f":"'[1]05 марта'!I5","v":"13,939"},{"$f":"'[1]05 марта'!J5","v":"7,72"}]
[{"$nulls":3},{"$f":"'[1]05 марта'!D6","v":"МАКАРОННЫЕ ИЗДЕЛИЯ ОТВАРНЫЕ 150 г"},{"$f":"'[1]05 марта'!E6","v":"150"},null,{"$f":"'[1]05 марта'!G6","v":207},{"$f":"'[1]05 марта'!H6","v":"5,644"},{"$f":"'[1]05 марта'!I6","v":"4,468"},{"$f":"'[1]05 марта'!J6","v":"35,948"}]
[null,null,"342/2015",{"$f":"'[1]05 марта'!D7","v":"ЧАЙ С САХАРОМ, ЛИМОНОМ 200/8/10 г"},{"$f":"'[1]05 марта'!E7","v":"200/8/10"},null,{"$f":"'[1]05 марта'!G7","v":35},{"$f":"'[1]05 марта'!H7","v":"0,111"},{"$f":"'[1]05 марта'!I7","v":"0,015"},{"$f":"'[1]05 марта'!J7","v":"8,289"}]
[null,"хлеб",null,{"$f":"'[1]05 марта'!D8","v":"ХЛЕБ РЖАНО - ПШЕНИЧНЫЙ 20 г"},{"$f":"'[1]05 марта'!E8","v":20},null,{"$f":"'[1]05 марта'!G8","v":44},{"$f":"'[1]05 марта'!H8","v":"1"},{"$f":"'[1]05 марта'!I8","v":"0,2"},{"$f":"'[1]05 марта'!J8","v":"9"}]
[null,"хлеб",null,{"$f":"'[1]05 марта'!D9","v":"ХЛЕБ ПШЕНИЧНЫЙ 20 г"},{"$f":"'[1]05 марта'!E9","v":20},null,{"$f":"'[1]05 марта'!G9","v":47},{"$f":"'[1]05 марта'!H9","v":"1,52"},{"$f":"'[1]05 марта'!I9","v":"0,16"},{"$f":"'[1]05 марта'!J9","v":"9,84"}]
["Завтрак 2",{"$nulls":4},55.01]
[]
["Обед","закуска"]
[null,"1 блюдо"]
[null,"2 блюдо"]
[null,"гарнир"]
[null,"сладкое"]
[null,"хлеб бел."]
[null,"хлеб черн."]