{"text_format":"3","workbook":"xlsx","n_sheets":1,"sheets":["1"],"not_rendered":{"external_links":1},"read":"whole","date_system":"1900"}

{"sheet":"1","index":0,"n_rows":18,"n_cols":10,"rows_kept":18,"merged":[[0,1,0,3]]}
["Школа","МБОУ \"Школа №87\" Московского района г.Казани",null,null,"Отд./корп",{"$nulls":3},"День","2025-09-03"]
[]
["Прием пищи","Раздел","№ рец.","Блюдо","Выход, г","Цена","Калорийность","Белки","Жиры","Углеводы"]
["Завтрак","гор.блюдо",{"$f":"[1]Лист1!$K$44","v":"№243/2015 Дели"},{"$f":"[1]Лист1!E44","v":"Сосиски отварные с соусом для запекания"},{"$f":"[1]Лист1!F44","v":90},{"$f":"[1]Лист1!$L$43","v":89.77},103,{"$f":"[1]Лист1!G44","v":6.916},{"$f":"[1]Лист1!H44","v":7.543},{"$f":"[1]Лист1!I44","v":1.758}]
[null,"гор.напиток",{"$f":"[1]Лист1!$K$46","v":"ТТК №2693 от 14.09.2023 г"},{"$f":"[1]Лист1!E46","v":"Напиток из урюка"},{"$f":"[1]Лист1!F46","v":200},null,42,{"$f":"[1]Лист1!G46","v":0.8},{"$f":"[1]Лист1!H46","v":0.064},{"$f":"[1]Лист1!I46","v":9.46}]
[null,"хлеб",null,"Хлеб ржано-пшеничный/ Хлеб пшеничный",40,null,91,2.52,0.36,18.84]
[null,"гор.блюдо",{"$f":"[1]Лист1!$K$45","v":"№309/2015г Дели"},{"$f":"[1]Лист1!E45","v":"Макаронные изделия отварные"},{"$f":"[1]Лист1!F45","v":150},null,174,{"$f":"[1]Лист1!G45","v":5.602},{"$f":"[1]Лист1!H45","v":3.868},{"$f":"[1]Лист1!I45","v":29.306}]
[null,{"$f":"$B$12","v":"закуска"},{"$f":"[1]Лист1!$K$49","v":"ТТК"},{"$f":"[1]Лист1!E49","v":"Салат из моркови"},{"$f":"[1]Лист1!F49","v":60},null,58,{"$f":"[1]Лист1!G49","v":0.702},{"$f":"[1]Лист1!H49","v":3.051},{"$f":"[1]Лист1!I49","v":{"v":6.72,"d":"6.720"}}]
["Завтрак 2","фрукты",{"$f":"[1]Лист1!$K$48","v":"№338 Дели 2015г "},{"$f":"[1]Лист1!E48","v":"Плоды и ягоды свежие (яблоки)"},{"$f":"[1]Лист1!F48","v":100},null,47,{"$f":"[1]Лист1!G48","v":{"v":0.4,"d":"0"}},{"$f":"[1]Лист1!H48","v":{"v":0.4,"d":"0"}},{"$f":"[1]Лист1!I48","v":{"v":9.8,"d":"10"}}]
[null,{"$f":"[1]Лист1!$D$50","v":"конд. изд."},{"$f":"[1]Лист1!$K$50","v":"ТТК от 19.06.2025 г"},{"$f":"[1]Лист1!E50","v":"Маффин классический"},{"$f":"[1]Лист1!F50","v":30},null,101,{"$f":"[1]Лист1!G50","v":{"v":2.168,"d":"2"}},{"$f":"[1]Лист1!H50","v":{"v":4.341,"d":"4"}},{"$f":"[1]Лист1!I50","v":{"v":11.864,"d":"12"}}]
[]
["Обед","закуска"]
[null,"1 блюдо"]
[null,"2 блюдо"]
[null,"гарнир"]
[null,"сладкое"]
[null,"хлеб бел."]
[null,"хлеб черн."]