{"text_format":"3","workbook":"xlsx","n_sheets":1,"sheets":["1"],"not_rendered":{"external_links":2},"read":"whole","date_system":"1900"}

{"sheet":"1","index":0,"n_rows":21,"n_cols":10,"rows_kept":21,"merged":[[0,1,0,3]]}
["Школа","МБОУ \"Школа №65\" г.Казань",null,null,"Отд./корп",{"$nulls":3},"День","2024-12-24"]
[]
["Прием пищи","Раздел","№ рец.","Блюдо","Выход, г","Цена","Калорийность","Белки","Жиры","Углеводы"]
["Завтрак","гор.блюдо",{"$f":"[1]Лист1!K140","v":"ТТК №2738 от 07.12.2023г2023г"},{"$f":"[1]Лист1!E140","v":"Жаркое по - домашнему"},{"$f":"[1]Лист1!F140","v":200},null,{"$f":"[2]Лист1!J6","v":223},{"$f":"[2]Лист1!G6","v":12.79},{"$f":"[2]Лист1!H6","v":13.93},{"$f":"[2]Лист1!I6","v":11.73}]
[null,"гор.блюдо",null,{"$f":"[1]Лист1!E141","v":0},{"$f":"[1]Лист1!F141","v":0},null,{"$f":"[2]Лист1!J7","v":142},{"$f":"[2]Лист1!G7","v":2.303},{"$f":"[2]Лист1!H7","v":4.129},{"$f":"[2]Лист1!I7","v":23.944}]
[null,"гор.напиток",{"$f":"[1]Лист1!K142","v":"ТТК от 2021г Дели"},{"$f":"[1]Лист1!E142","v":"Чай с сахаром"},{"$f":"[1]Лист1!F142","v":208},null,{"$f":"[2]Лист1!J8","v":32},{"$f":"[2]Лист1!G8","v":0.021},{"$f":"[2]Лист1!H8","v":0.005},{"$f":"[2]Лист1!I8","v":7.989}]
[null,"хлеб",null,{"$f":"[1]Лист1!E143","v":"Хлеб ржано-пшеничный/ Хлеб пшеничный"},{"$f":"[1]Лист1!F143","v":40},null,{"$f":"[2]Лист1!J9","v":91},{"$f":"[2]Лист1!G9","v":2.52},{"$f":"[2]Лист1!H9","v":0.36},{"$f":"[2]Лист1!I9","v":18.84}]
[null,"фрукты",null,{"$f":"[1]Лист1!E144","v":0},{"$f":"[1]Лист1!F144","v":0},null,{"$f":"[2]Лист1!J10","v":56},{"$f":"[2]Лист1!G10","v":0.48},{"$f":"[2]Лист1!H10","v":0.48},{"$f":"[2]Лист1!I10","v":11.76}]
[{"$nulls":3},{"$f":"[1]Лист1!E145","v":"Салат из моркови"},{"$f":"[1]Лист1!F145","v":60}]
[]
[null,"итого",null,null,{"$f":"SUM(E4:E10)","v":508},{"v":66.8,"d":"66.80"},{"$f":"SUM(G4:G10)","v":544},18.114,18.903999999999996,74.263]
["Завтрак 2","фрукты"]
[]
[]
["Обед","закуска"]
[null,"1 блюдо"]
[null,"2 блюдо"]
[null,"гарнир"]
[null,"сладкое"]
[null,"хлеб бел."]
[null,"хлеб черн."]