{"text_format":"3","workbook":"xlsx","n_sheets":1,"sheets":["Лист1"],"not_rendered":{"external_links":10},"read":"whole","date_system":"1900"}

{"sheet":"Лист1","index":0,"n_rows":196,"n_cols":12,"rows_kept":196,"merged":[[0,2,0,4],[0,7,0,10],[1,7,1,10],[23,2,23,3],[42,2,42,3],[61,2,61,3],[80,2,80,3],[99,2,99,3],[118,2,118,3],[137,2,137,3],[156,2,156,3],[175,2,175,3],[194,2,194,3],[195,2,195,4]]}
["Школа",null,"МБОУ \"Школа №55\"",null,null,"Утвердил:","должность","директор"]
["Типовое примерное меню приготавливаемых блюд",{"$nulls":5},"фамилия","Киркина Е.Г."]
["Возрастная категория",{"$nulls":3},"7-11 лет",null,"дата",31,8,2023]
[{"$nulls":7},"день","месяц","год"]
["Неделя","День недели","Прием пищи","Раздел меню","Блюда","Вес блюда, г","Белки","Жиры","Углеводы","Калорийность","№ рецептуры","Цена"]
[1,1,"Завтрак","гор.блюдо",{"$f":"'[1]1'!D4","v":"Биточки рыбные из фарша минтая"},{"$f":"'[1]1'!E4","v":90},{"$f":"'[1]1'!H4","v":9.8},{"$f":"'[1]1'!I4","v":2.01},{"$f":"'[1]1'!J4","v":10.2},{"$f":"'[1]1'!G4","v":98},{"$f":"'[1]1'!C4","v":"ТТК 2021 г"}]
[{"$nulls":4},{"$f":"'[1]1'!D5","v":"Пюре картофельное"},{"$f":"'[1]1'!E5","v":155},{"$f":"'[1]1'!H5","v":3.32},{"$f":"'[1]1'!I5","v":8.28},{"$f":"'[1]1'!J5","v":22.06},{"$f":"'[1]1'!G5","v":179},{"$f":"'[1]1'!C5","v":"№312/2015 г"}]
[{"$nulls":3},"гор.напиток",{"$f":"'[1]1'!D6","v":"Напиток из замороженной черной смородины"},{"$f":"'[1]1'!E6","v":180},{"$f":"'[1]1'!H6","v":0.09},{"$f":"'[1]1'!I6","v":0.04},{"$f":"'[1]1'!J6","v":9.64},{"$f":"'[1]1'!G6","v":40},{"$f":"'[1]1'!C6","v":"ТТК 2021 г"}]
[{"$nulls":3},"хлеб",{"$f":"'[2]1'!$D$8","v":"Хлебная корзина (хлеб пш., хлеб рж.-пш.)"},{"$f":"'[2]1'!$E$8","v":40},{"$f":"'[2]1'!$H$8","v":2.52},{"$f":"'[2]1'!$I$8","v":0.36},{"$f":"'[2]1'!$J$8","v":18.84},{"$f":"'[2]1'!$G$8","v":91},{"$f":"K10","v":"ТТК"}]
[{"$nulls":3},"фрукты",{"$nulls":6},{"$f":"'[1]1'!C8","v":"ТТК"}]
[{"$nulls":3},"десерт",{"$f":"'[1]1'!$D$9","v":"Печенье сдобное Шоколадное"},{"$f":"'[1]1'!$E$9","v":15},{"$f":"'[1]1'!$H$9","v":1.21},{"$f":"'[1]1'!$I$9","v":2.3},{"$f":"'[1]1'!$J$9","v":10.25},{"$f":"'[1]1'!$G$9","v":66}]
[{"$nulls":3},"закуска",{"$f":"'[1]1'!$D$7","v":"Салат-бар (Помидоры свежие порциями, огурцы соленые, фасоль конс., сухарики, масло раст.)"},{"$f":"'[1]1'!$E$7","v":60},{"$f":"'[1]1'!$H$7","v":1.67},{"$f":"'[1]1'!$I$7","v":6.11},{"$f":"'[1]1'!$J$7","v":7.09},{"$f":"'[1]1'!$G$7","v":91},{"$f":"K9","v":"ТТК"}]
[{"$nulls":3},"итого",null,{"$f":"SUM(F6:F12)","v":540},{"$f":"SUM(G6:G12)","v":18.61},19.099999999999998,78.08,565,null,{"$f":"SUM(L6:L12)","v":0}]
[{"$f":"A6","v":1},{"$f":"B6","v":1},"Обед","закуска"]
[{"$nulls":3},"1 блюдо"]
[{"$nulls":3},"2 блюдо"]
[{"$nulls":3},"гарнир"]
[{"$nulls":3},"напиток"]
[{"$nulls":3},"хлеб бел."]
[{"$nulls":3},"хлеб черн."]
[]
[]
[{"$nulls":3},"итого",null,{"$f":"SUM(F14:F22)","v":0},{"$f":"SUM(G14:G22)","v":0},0,0,0,null,{"$f":"SUM(L14:L22)","v":0}]
[{"$f":"A6","v":1},{"$f":"B6","v":1},"Итого за день:",null,null,{"$f":"F13+F23","v":540},{"$f":"G13+G23","v":18.61},19.099999999999998,78.08,565,null,{"$f":"L13+L23","v":0}]
[1,2,"Завтрак","гор.блюдо",{"$f":"'[2]1'!D4","v":"Ежики с мясом и рисом в соусе томатном"},{"$f":"'[2]1'!E4","v":100},{"$f":"'[2]1'!H4","v":{"v":4.6,"d":"4.60"}},{"$f":"'[2]1'!I4","v":{"v":4,"d":"4.00"}},{"$f":"'[2]1'!J4","v":3.23},{"$f":"'[2]1'!G4","v":49},{"$f":"'[2]1'!C4","v":"ТТК 2020"}]
[{"$nulls":4},{"$f":"'[2]1'!D5","v":"Макаронные изделия отварные"},{"$f":"'[2]1'!E5","v":150},{"$f":"'[2]1'!H5","v":5.64},{"$f":"'[2]1'!I5","v":4.46},{"$f":"'[2]1'!J5","v":35.94},{"$f":"'[2]1'!G5","v":207},{"$f":"'[2]1'!C5","v":"№202/2015 г"}]
[{"$nulls":3},"гор.напиток",{"$f":"'[2]1'!D6","v":"Компот из плодов сушеных (урюк)"},{"$f":"'[2]1'!E6","v":180},{"$f":"'[2]1'!H6","v":0.72},{"$f":"'[2]1'!I6","v":0.06},{"$f":"'[2]1'!J6","v":16.61},{"$f":"'[2]1'!G6","v":71},{"$f":"'[2]1'!C6","v":"№348/2015"}]
[{"$nulls":3},"хлеб",{"$f":"'[2]1'!$D$8","v":"Хлебная корзина (хлеб пш., хлеб рж.-пш.)"},{"$f":"'[2]1'!$E$8","v":40},{"$f":"'[2]1'!$H$8","v":2.52},{"$f":"'[2]1'!$I$8","v":0.36},{"$f":"'[2]1'!$J$8","v":18.84},{"$f":"'[2]1'!$G$8","v":91},{"$f":"'[2]1'!$C$8","v":"ТТК"}]
[{"$nulls":3},"фрукты"]
[{"$nulls":3},"закуска",{"$f":"'[2]1'!$D$7","v":"Салат-бар (Морковь свежая порциями, капуста белокач., сыр, сухари, масло раст.)"},{"$f":"'[2]1'!$E$7","v":60},{"$f":"'[2]1'!$H$7","v":3.91},{"$f":"'[2]1'!$I$7","v":8.74},{"$f":"'[2]1'!$J$7","v":6.6},{"$f":"'[2]1'!$G$7","v":122},{"$f":"'[2]1'!$C$7","v":"ТТК 2023 г"}]
[{"$nulls":3},"печенье",{"$f":"'[2]1'!$D$9","v":"Печенье сдобное Вкусное"},{"$f":"'[2]1'!$E$9","v":30},{"$f":"'[2]1'!$H$9","v":2.1},{"$f":"'[2]1'!$I$9","v":2.1},{"$f":"'[2]1'!$J$9","v":5.1},{"$f":"'[2]1'!$G$9","v":47},{"$f":"'[2]1'!$C$9","v":"АКТ 2021 г"}]
[{"$nulls":3},"итого",null,{"$f":"SUM(F25:F31)","v":560},{"$f":"SUM(G25:G31)","v":19.490000000000002},{"$f":"SUM(H25:H31)","v":19.720000000000002},{"$f":"SUM(I25:I31)","v":86.31999999999998},{"$f":"SUM(J25:J31)","v":587},null,0]
[{"$f":"A25","v":1},{"$f":"B25","v":2},"Обед","закуска"]
[{"$nulls":3},"1 блюдо"]
[{"$nulls":3},"2 блюдо"]
[{"$nulls":3},"гарнир"]
[{"$nulls":3},"напиток"]
[{"$nulls":3},"хлеб бел."]
[{"$nulls":3},"хлеб черн."]
[]
[]
[{"$nulls":3},"итого",null,{"$f":"SUM(F33:F41)","v":0},{"$f":"SUM(G33:G41)","v":0},{"$f":"SUM(H33:H41)","v":0},{"$f":"SUM(I33:I41)","v":0},{"$f":"SUM(J33:J41)","v":0},null,0]
[{"$f":"A25","v":1},{"$f":"B25","v":2},"Итого за день:",null,null,{"$f":"F32+F42","v":560},{"$f":"G32+G42","v":19.490000000000002},{"$f":"H32+H42","v":19.720000000000002},{"$f":"I32+I42","v":86.31999999999998},{"$f":"J32+J42","v":587},null,0]
[1,3,"Завтрак","гор.блюдо",{"$f":"'[3]1'!D4","v":"Котлеты \"Аппетитные\""},{"$f":"'[3]1'!E4","v":90},{"$f":"'[3]1'!H4","v":{"v":11.2,"d":"11.20"}},{"$f":"'[3]1'!I4","v":4.45},{"$f":"'[3]1'!J4","v":{"v":18.5,"d":"18.50"}},{"$f":"'[3]1'!G4","v":{"v":158,"d":"158.00"}},{"$f":"'[3]1'!C4","v":"ТТК 2022 г"}]
[{"$nulls":4},{"$f":"'[3]1'!D5","v":"Пюре картофельное"},{"$f":"'[3]1'!E5","v":150},{"$f":"'[3]1'!H5","v":3.28},{"$f":"'[3]1'!I5","v":7.28},{"$f":"'[3]1'!J5","v":{"v":22,"d":"22.00"}},{"$f":"'[3]1'!G5","v":{"v":169,"d":"169.00"}},{"$f":"'[3]1'!C5","v":"№312/2015 г"}]
[{"$nulls":3},"гор.напиток",{"$f":"'[3]1'!D6","v":"Компот из замороженной компотной смеси"},{"$f":"'[3]1'!E6","v":180},{"$f":"'[3]1'!H6","v":0.12},{"$f":"'[3]1'!I6","v":0.02},{"$f":"'[3]1'!J6","v":10.03},{"$f":"'[3]1'!G6","v":{"v":41,"d":"41.00"}},{"$f":"'[3]1'!C6","v":"ТТК 2022 г"}]
[{"$nulls":3},"хлеб",{"$f":"'[3]1'!$D$8","v":"Хлебная корзина (хлеб пш., хлеб рж.-пш.)"},{"$f":"'[3]1'!$E$8","v":40},{"$f":"'[3]1'!$H$8","v":2.52},{"$f":"'[3]1'!$I$8","v":0.36},{"$f":"'[3]1'!$J$8","v":18.84},{"$f":"'[3]1'!$G$8","v":91},{"$f":"'[3]1'!$C$8","v":"ТТК"}]
[{"$nulls":3},"фрукты"]
[{"$nulls":3},"закуска",{"$f":"'[3]1'!$D$7","v":"Салат-бар (Огурцы свежая порциями, помидоры, фасоль конс., сухарики, масло раст.)"},{"$f":"'[3]1'!$E$7","v":60},{"$f":"'[3]1'!$H$7","v":1.62},{"$f":"'[3]1'!$I$7","v":6.1},{"$f":"'[3]1'!$J$7","v":6.92},{"$f":"'[3]1'!$G$7","v":90},{"$f":"'[3]1'!$C$7","v":"ТТК 2023 г"}]
[]
[{"$nulls":3},"итого",null,{"$f":"SUM(F44:F50)","v":520},{"$f":"SUM(G44:G50)","v":18.74},{"$f":"SUM(H44:H50)","v":18.21},{"$f":"SUM(I44:I50)","v":76.29},{"$f":"SUM(J44:J50)","v":549},null,0]
[{"$f":"A44","v":1},{"$f":"B44","v":3},"Обед","закуска"]
[{"$nulls":3},"1 блюдо"]
[{"$nulls":3},"2 блюдо"]
[{"$nulls":3},"гарнир"]
[{"$nulls":3},"напиток"]
[{"$nulls":3},"хлеб бел."]
[{"$nulls":3},"хлеб черн."]
[]
[]
[{"$nulls":3},"итого",null,{"$f":"SUM(F52:F60)","v":0},{"$f":"SUM(G52:G60)","v":0},{"$f":"SUM(H52:H60)","v":0},{"$f":"SUM(I52:I60)","v":0},{"$f":"SUM(J52:J60)","v":0},null,0]
[{"$f":"A44","v":1},{"$f":"B44","v":3},"Итого за день:",null,null,{"$f":"F51+F61","v":520},{"$f":"G51+G61","v":18.74},{"$f":"H51+H61","v":18.21},{"$f":"I51+I61","v":76.29},{"$f":"J51+J61","v":549},null,0]
[1,4,"Завтрак","гор.блюдо",{"$f":"'[4]1'!D4","v":"Плов с куриными грудками"},{"$f":"'[4]1'!E4","v":200},{"$f":"'[4]1'!H4","v":14.01},{"$f":"'[4]1'!I4","v":{"v":12.3,"d":"12.30"}},{"$f":"'[4]1'!J4","v":{"v":30.2,"d":"30.20"}},{"$f":"'[4]1'!G4","v":278},{"$f":"'[4]1'!C4","v":"ТТК 2021 г"}]
[]
[{"$nulls":3},"гор.напиток",{"$f":"'[4]1'!D6","v":"Компот из плодов  сушеных (урюк)"},{"$f":"'[4]1'!E6","v":180},{"$f":"'[4]1'!H6","v":0.72},{"$f":"'[4]1'!I6","v":0.06},{"$f":"'[4]1'!J6","v":16.61},{"$f":"'[4]1'!G6","v":71},{"$f":"'[4]1'!C6","v":"ТТК"}]
[{"$nulls":3},"хлеб",{"$f":"'[4]1'!$D$8","v":"Хлебная корзина (хлеб пш., хлеб рж.-пш.)"},{"$f":"'[4]1'!$E$8","v":40},{"$f":"'[4]1'!$H$8","v":2.52},{"$f":"'[4]1'!$I$8","v":0.36},{"$f":"'[4]1'!$J$8","v":18.84},{"$f":"'[4]1'!$G$8","v":91},{"$f":"'[4]1'!$C$8","v":"ТТК"}]
[{"$nulls":3},"фрукты",{"$f":"'[4]1'!$D$9","v":"Плодые свежие (яблоко)"},{"$f":"'[4]1'!$E$9","v":120},{"$f":"'[4]1'!$H$9","v":0.48},{"$f":"'[4]1'!$I$9","v":0.48},{"$f":"'[4]1'!$J$9","v":11.76},{"$f":"'[4]1'!$G$9","v":56},{"$f":"'[4]1'!$C$9","v":"№ 338/2015"}]
[{"$nulls":3},"закуска",{"$f":"'[4]1'!$D$7","v":"Салат-бар (Помидоры свежая порциями, капуста белокач., зел. горошек конс., сухарики, масло раст.)"},{"$f":"'[4]1'!$E$7","v":60},{"$f":"'[4]1'!$H$7","v":1.55},{"$f":"'[4]1'!$I$7","v":6.12},{"$f":"'[4]1'!$J$7","v":6.63},{"$f":"'[4]1'!$G$7","v":89},{"$f":"'[4]1'!$C$7","v":"№ 532/2013г, Самара"}]
[]
[{"$nulls":3},"итого",null,{"$f":"SUM(F63:F69)","v":600},{"$f":"SUM(G63:G69)","v":19.28},{"$f":"SUM(H63:H69)","v":19.32},{"$f":"SUM(I63:I69)","v":84.04},{"$f":"SUM(J63:J69)","v":585},null,0]
[{"$f":"A63","v":1},{"$f":"B63","v":4},"Обед","закуска"]
[{"$nulls":3},"1 блюдо"]
[{"$nulls":3},"2 блюдо"]
[{"$nulls":3},"гарнир"]
[{"$nulls":3},"напиток"]
[{"$nulls":3},"хлеб бел."]
[{"$nulls":3},"хлеб черн."]
[]
[]
[{"$nulls":3},"итого",null,{"$f":"SUM(F71:F79)","v":0},{"$f":"SUM(G71:G79)","v":0},{"$f":"SUM(H71:H79)","v":0},{"$f":"SUM(I71:I79)","v":0},{"$f":"SUM(J71:J79)","v":0},null,0]
[{"$f":"A63","v":1},{"$f":"B63","v":4},"Итого за день:",null,null,{"$f":"F70+F80","v":600},{"$f":"G70+G80","v":19.28},{"$f":"H70+H80","v":19.32},{"$f":"I70+I80","v":84.04},{"$f":"J70+J80","v":585},null,0]
[1,5,"Завтрак","гор.блюдо",{"$f":"'[5]1'!D4","v":"Котлеты Домашние"},{"$f":"'[5]1'!E4","v":90},{"$f":"'[5]1'!H4","v":7.1},{"$f":"'[5]1'!I4","v":5.1},{"$f":"'[5]1'!J4","v":10.9},{"$f":"'[5]1'!G4","v":97},{"$f":"'[5]1'!C4","v":"№ 2023 г "}]
[{"$nulls":4},{"$f":"'[5]1'!D5","v":"Каша гречневая рассыпчатая "},{"$f":"'[5]1'!E5","v":150},{"$f":"'[5]1'!H5","v":6.62},{"$f":"'[5]1'!I5","v":5.39},{"$f":"'[5]1'!J5","v":41.87},{"$f":"'[5]1'!G5","v":242},{"$f":"'[5]1'!C5","v":"№302/2004"}]
[{"$nulls":3},"гор.напиток",{"$f":"'[5]1'!D6","v":"Напиток из замороженной черной смородины"},{"$f":"'[5]1'!E6","v":180},{"$f":"'[5]1'!H6","v":0.09},{"$f":"'[5]1'!I6","v":0.04},{"$f":"'[5]1'!J6","v":9.64},{"$f":"'[5]1'!G6","v":40},{"$f":"'[5]1'!C6","v":"ТТК 2022 г"}]
[{"$nulls":3},"хлеб",{"$f":"'[5]1'!$D$8","v":"Хлебная корзина (хлеб пш., хлеб рж.-пш.)"},{"$f":"'[5]1'!$E$8","v":40},{"$f":"'[5]1'!$H$8","v":2.52},{"$f":"'[5]1'!$I$8","v":0.36},{"$f":"'[5]1'!$J$8","v":18.84},{"$f":"'[5]1'!$G$8","v":91},{"$f":"'[5]1'!$C$8","v":"ТТК"}]
[{"$nulls":3},"фрукты"]
[{"$nulls":3},"закуска",{"$f":"'[5]1'!$D$7","v":"Салат-бар (Свекла отвар.тертая, морковь свежая порциями, сыр, сухарики, масло раст."},{"$f":"'[5]1'!$E$7","v":60},{"$f":"'[5]1'!$H$7","v":1.56},{"$f":"'[5]1'!$I$7","v":8.72},{"$f":"'[5]1'!$J$7","v":5.73},{"$f":"'[5]1'!$G$7","v":117},{"$f":"'[5]1'!$C$7","v":"№ 532/2013г, Самара"}]
[]
[{"$nulls":3},"итого",null,{"$f":"SUM(F82:F88)","v":520},{"$f":"SUM(G82:G88)","v":17.889999999999997},{"$f":"SUM(H82:H88)","v":19.61},{"$f":"SUM(I82:I88)","v":86.98},{"$f":"SUM(J82:J88)","v":587},null,0]
[{"$f":"A82","v":1},{"$f":"B82","v":5},"Обед","закуска"]
[{"$nulls":3},"1 блюдо"]
[{"$nulls":3},"2 блюдо"]
[{"$nulls":3},"гарнир"]
[{"$nulls":3},"напиток"]
[{"$nulls":3},"хлеб бел."]
[{"$nulls":3},"хлеб черн."]
[]
[]
[{"$nulls":3},"итого",null,{"$f":"SUM(F90:F98)","v":0},{"$f":"SUM(G90:G98)","v":0},{"$f":"SUM(H90:H98)","v":0},{"$f":"SUM(I90:I98)","v":0},{"$f":"SUM(J90:J98)","v":0},null,0]
[{"$f":"A82","v":1},{"$f":"B82","v":5},"Итого за день:",null,null,{"$f":"F89+F99","v":520},{"$f":"G89+G99","v":17.889999999999997},{"$f":"H89+H99","v":19.61},{"$f":"I89+I99","v":86.98},{"$f":"J89+J99","v":587},null,0]
[2,1,"Завтрак","гор.блюдо",{"$f":"'[6]1'!D4","v":"Биточки рыбные из фарша минтая"},{"$f":"'[6]1'!E4","v":90},{"$f":"'[6]1'!H4","v":9.8},{"$f":"'[6]1'!I4","v":2.01},{"$f":"'[6]1'!J4","v":10.2},{"$f":"'[6]1'!G4","v":98},{"$f":"'[6]1'!C4","v":"ТТК 2021 г"}]
[{"$nulls":4},{"$f":"'[6]1'!D5","v":"Пюре картофельное"},{"$f":"'[6]1'!E5","v":150},{"$f":"'[6]1'!H5","v":3.28},{"$f":"'[6]1'!I5","v":7.28},{"$f":"'[6]1'!J5","v":22},{"$f":"'[6]1'!G5","v":169},{"$f":"'[6]1'!C5","v":"№312/2015 г"}]
[{"$nulls":3},"гор.напиток",{"$f":"'[6]1'!D6","v":"Компот из плодов сушеных (урюк)"},{"$f":"'[6]1'!E6","v":180},{"$f":"'[6]1'!H6","v":0.72},{"$f":"'[6]1'!I6","v":0.06},{"$f":"'[6]1'!J6","v":16.61},{"$f":"'[6]1'!G6","v":71},{"$f":"'[6]1'!C6","v":"ТТК 2021 г"}]
[{"$nulls":3},"хлеб",{"$f":"'[6]1'!$D$8","v":"Хлебная корзина (хлеб пш., хлеб рж.-пш.)"},{"$f":"'[6]1'!$E$8","v":40},{"$f":"'[6]1'!$H$8","v":2.52},{"$f":"'[6]1'!$I$8","v":0.36},{"$f":"'[6]1'!$J$8","v":18.84},91,{"$f":"'[6]1'!$C$8","v":"ТТК"}]
[{"$nulls":3},"фрукты",{"$f":"'[6]1'!$D$9","v":"Десерт фруктовый (яблоки)"},{"$f":"'[6]1'!$E$9","v":80},{"$f":"'[6]1'!$H$9","v":0.32},{"$f":"'[6]1'!$I$9","v":0.32},{"$f":"'[6]1'!$J$9","v":7.84},{"$f":"'[6]1'!$G$9","v":38},{"$f":"'[6]1'!$C$9","v":"№532/2013 г"}]
[{"$nulls":3},"закуска",{"$f":"'[6]1'!$D$7","v":"Салат-бар (Помидоры свежие порциями, огурцы соленые, фасоль конс., сухарики, масло раст.)"},{"$f":"'[6]1'!$E$7","v":60},{"$f":"'[6]1'!$H$7","v":1.67},{"$f":"'[6]1'!$I$7","v":6.11},{"$f":"'[6]1'!$J$7","v":7.09},{"$f":"'[6]1'!$G$7","v":91},{"$f":"'[6]1'!$C$7","v":"№ 532/2013г, Самара"}]
[]
[{"$nulls":3},"итого",null,{"$f":"SUM(F101:F107)","v":600},{"$f":"SUM(G101:G107)","v":18.310000000000002},16.14,82.58000000000001,558,null,{"$f":"SUM(L101:L107)","v":0}]
[{"$f":"A101","v":2},{"$f":"B101","v":1},"Обед","закуска"]
[{"$nulls":3},"1 блюдо"]
[{"$nulls":3},"2 блюдо"]
[{"$nulls":3},"гарнир"]
[{"$nulls":3},"напиток"]
[{"$nulls":3},"хлеб бел."]
[{"$nulls":3},"хлеб черн."]
[]
[]
[{"$nulls":3},"итого",null,{"$f":"SUM(F109:F117)","v":0},{"$f":"SUM(G109:G117)","v":0},0,0,0,null,{"$f":"SUM(L109:L117)","v":0}]
[{"$f":"A101","v":2},{"$f":"B101","v":1},"Итого за день:",null,null,{"$f":"F108+F118","v":600},{"$f":"G108+G118","v":18.310000000000002},{"$f":"H108+H118","v":16.14},{"$f":"I108+I118","v":82.58000000000001},{"$f":"J108+J118","v":558},null,0]
[2,2,"Завтрак","гор.блюдо",{"$f":"'[7]1'!D4","v":"Котлеты \"Столичные\""},{"$f":"'[7]1'!E4","v":90},{"$f":"'[7]1'!H4","v":{"v":8.1,"d":"8.10"}},{"$f":"'[7]1'!I4","v":4.05},{"$f":"'[7]1'!J4","v":{"v":3.4,"d":"3.40"}},{"$f":"'[7]1'!G4","v":{"v":82.5,"d":"83"}},{"$f":"'[7]1'!C4","v":"ТТК июль 2023 г"}]
[{"$nulls":4},{"$f":"'[7]1'!D5","v":"Каша гречневая рассыпчатая"},{"$f":"'[7]1'!E5","v":155},{"$f":"'[7]1'!H5","v":6.66},{"$f":"'[7]1'!I5","v":9.02},{"$f":"'[7]1'!J5","v":41.91},{"$f":"'[7]1'!G5","v":276},{"$f":"'[7]1'!C5","v":"№ 302/2015, Дели"}]
[{"$nulls":3},"гор.напиток",{"$f":"'[7]1'!D6","v":"Напиток из замороженной черной смородины"},{"$f":"'[7]1'!E6","v":180},{"$f":"'[7]1'!H6","v":0.09},{"$f":"'[7]1'!I6","v":0.04},{"$f":"'[7]1'!J6","v":9.64},{"$f":"'[7]1'!G6","v":40},{"$f":"'[7]1'!C6","v":"ТТК"}]
[{"$nulls":3},"хлеб",{"$f":"'[7]1'!$D$8","v":"Хлебная корзина (хлеб пш., хлеб рж.-пш.)"},{"$f":"'[7]1'!$E$8","v":40},{"$f":"'[7]1'!$H$8","v":2.52},{"$f":"'[7]1'!$I$8","v":0.36},{"$f":"'[7]1'!$J$8","v":18.84},{"$f":"'[7]1'!$G$8","v":91},{"$f":"'[7]1'!$C$8","v":"ТТК"}]
[{"$nulls":3},"фрукты"]
[{"$nulls":3},"закуска",{"$f":"'[7]1'!$D$7","v":"Салат-бар (Морковь свежая порциями, капуста белокач., кукуруза конс., сухарики, масло раст.)"},{"$f":"'[7]1'!$E$7","v":60},{"$f":"'[7]1'!$H$7","v":1.56},{"$f":"'[7]1'!$I$7","v":6.16},{"$f":"'[7]1'!$J$7","v":7.78},{"$f":"'[7]1'!$G$7","v":94},{"$f":"'[7]1'!$C$7","v":"ТТК 2023 г"}]
[]
[{"$nulls":3},"итого",null,{"$f":"SUM(F120:F126)","v":525},{"$f":"SUM(G120:G126)","v":18.93},19.63,81.57,583.5,null,{"$f":"SUM(L120:L126)","v":0}]
[{"$f":"A120","v":2},{"$f":"B120","v":2},"Обед","закуска"]
[{"$nulls":3},"1 блюдо"]
[{"$nulls":3},"2 блюдо"]
[{"$nulls":3},"гарнир"]
[{"$nulls":3},"напиток"]
[{"$nulls":3},"хлеб бел."]
[{"$nulls":3},"хлеб черн."]
[]
[]
[{"$nulls":3},"итого",null,{"$f":"SUM(F128:F136)","v":0},{"$f":"SUM(G128:G136)","v":0},0,0,0,null,{"$f":"SUM(L128:L136)","v":0}]
[{"$f":"A120","v":2},{"$f":"B120","v":2},"Итого за день:",null,null,{"$f":"F127+F137","v":525},{"$f":"G127+G137","v":18.93},{"$f":"H127+H137","v":19.63},{"$f":"I127+I137","v":81.57},{"$f":"J127+J137","v":583.5},null,0]
[2,3,"Завтрак","гор.блюдо",{"$f":"'[8]1'!D4","v":"Тефтели из говядины в соусе томатном"},{"$f":"'[8]1'!E4","v":90},{"$f":"'[8]1'!H4","v":{"v":8.6,"d":"8.60"}},{"$f":"'[8]1'!I4","v":{"v":2.8,"d":"2.80"}},{"$f":"'[8]1'!J4","v":{"v":10.9,"d":"10.90"}},{"$f":"'[8]1'!G4","v":{"v":103,"d":"103.00"}},{"$f":"'[8]1'!C4","v":"ТТК от 19.07.2023 г"}]
[{"$nulls":4},{"$f":"'[8]1'!D5","v":"Картофель запечённый"},{"$f":"'[8]1'!E5","v":160},{"$f":"'[8]1'!H5","v":4.64},{"$f":"'[8]1'!I5","v":7.71},{"$f":"'[8]1'!J5","v":{"v":37.8,"d":"37.80"}},{"$f":"'[8]1'!G5","v":{"v":239,"d":"239.00"}},{"$f":"'[8]1'!C5","v":"ТТК"}]
[{"$nulls":3},"гор.напиток",{"$f":"'[8]1'!D6","v":"Напиток из шиповника"},{"$f":"'[8]1'!E6","v":180},{"$f":"'[8]1'!H6","v":0.01},{"$f":"'[8]1'!I6","v":{"v":0,"d":"0.00"}},{"$f":"'[8]1'!J6","v":9.16},{"$f":"'[8]1'!G6","v":{"v":37,"d":"37.00"}},{"$f":"'[8]1'!C6","v":"ТТК 2021 г"}]
[{"$nulls":3},"хлеб",{"$f":"'[8]1'!$D$8","v":"Хлебная корзина (хлеб пш., хлеб рж.-пш.)"},{"$f":"'[8]1'!$E$8","v":40},{"$f":"'[8]1'!$H$8","v":2.52},{"$f":"'[8]1'!$I$8","v":0.36},{"$f":"'[8]1'!$J$8","v":18.84},{"$f":"'[8]1'!$G$8","v":91},{"$f":"'[8]1'!$C$8","v":"ТТК"}]
[{"$nulls":3},"фрукты"]
[{"$nulls":3},"закуска",{"$f":"'[8]1'!$D$7","v":"Салат-бар (Огурцы свежая порциями, помидоры, фасоль конс., сухарики, масло раст.)"},{"$f":"'[8]1'!$E$7","v":60},{"$f":"'[8]1'!$H$7","v":1.62},{"$f":"'[8]1'!$I$7","v":6.1},{"$f":"'[8]1'!$J$7","v":6.92},{"$f":"'[8]1'!$G$7","v":90},{"$f":"'[8]1'!$C$7","v":"№ 532/2013г, Самара"}]
[]
[{"$nulls":3},"итого",null,{"$f":"SUM(F139:F145)","v":530},{"$f":"SUM(G139:G145)","v":17.389999999999997},16.97,83.62,560,null,{"$f":"SUM(L139:L145)","v":0}]
[{"$f":"A139","v":2},{"$f":"B139","v":3},"Обед","закуска"]
[{"$nulls":3},"1 блюдо"]
[{"$nulls":3},"2 блюдо"]
[{"$nulls":3},"гарнир"]
[{"$nulls":3},"напиток"]
[{"$nulls":3},"хлеб бел."]
[{"$nulls":3},"хлеб черн."]
[]
[]
[{"$nulls":3},"итого",null,{"$f":"SUM(F147:F155)","v":0},{"$f":"SUM(G147:G155)","v":0},0,0,0,null,{"$f":"SUM(L147:L155)","v":0}]
[{"$f":"A139","v":2},{"$f":"B139","v":3},"Итого за день:",null,null,{"$f":"F146+F156","v":530},{"$f":"G146+G156","v":17.389999999999997},{"$f":"H146+H156","v":16.97},{"$f":"I146+I156","v":83.62},{"$f":"J146+J156","v":560},null,0]
[2,4,"Завтрак","гор.блюдо",{"$f":"'[9]1'!D4","v":"Гуляш из филе грудок индейки"},{"$f":"'[9]1'!E4","v":90},{"$f":"'[9]1'!H4","v":{"v":11.9,"d":"11.90"}},{"$f":"'[9]1'!I4","v":{"v":8.2,"d":"8.20"}},{"$f":"'[9]1'!J4","v":11.85},{"$f":"'[9]1'!G4","v":152},{"$f":"'[9]1'!C4","v":"ТТК 2022 г"}]
[{"$nulls":4},{"$f":"'[9]1'!D5","v":"Каша рисовая вязкая"},{"$f":"'[9]1'!E5","v":150},{"$f":"'[9]1'!H5","v":{"v":2.3,"d":"2.30"}},{"$f":"'[9]1'!I5","v":4.13},{"$f":"'[9]1'!J5","v":23.94},{"$f":"'[9]1'!G5","v":142},{"$f":"'[9]1'!C5","v":"ТТК 2021 г"}]
[{"$nulls":3},"гор.напиток",{"$f":"'[9]1'!D6","v":"Компот из плодов или ягод сушеных"},{"$f":"'[9]1'!E6","v":180},{"$f":"'[9]1'!H6","v":0.72},{"$f":"'[9]1'!I6","v":0.06},{"$f":"'[9]1'!J6","v":16.61},{"$f":"'[9]1'!G6","v":71},{"$f":"'[9]1'!C6","v":"ТТК"}]
[{"$nulls":3},"хлеб",{"$f":"'[9]1'!D8","v":"Хлебная корзина (хлеб пш., хлеб рж.-пш.)"},{"$f":"'[9]1'!E8","v":40},{"$f":"'[9]1'!H8","v":2.52},{"$f":"'[9]1'!I8","v":0.36},{"$f":"'[9]1'!J8","v":18.84},{"$f":"'[9]1'!G8","v":91},{"$f":"'[9]1'!C8","v":"ТТК"}]
[{"$nulls":3},"фрукты",{"$f":"'[9]1'!D9","v":"Десерт фруктовый"},{"$f":"'[9]1'!E9","v":90},{"$f":"'[9]1'!H9","v":0.36},{"$f":"'[9]1'!I9","v":0.36},{"$f":"'[9]1'!J9","v":8.82},{"$f":"'[9]1'!G9","v":42},{"$f":"'[9]1'!C9","v":"№ 532/2013г, Самара"}]
[{"$nulls":3},"закуска",{"$f":"'[9]1'!$D$7","v":"Салат-бар (Помидоры свежая порциями, капуста белокач., зел. горошек конс., сухарики, масло раст.)"},{"$f":"'[9]1'!$E$7","v":60},{"$f":"'[9]1'!$H$7","v":1.55},{"$f":"'[9]1'!$I$7","v":6.12},{"$f":"'[9]1'!$J$7","v":6.63},{"$f":"'[9]1'!$G$7","v":89},{"$f":"'[9]1'!$C$7","v":"№ 532/2013г, Самара"}]
[]
[{"$nulls":3},"итого",null,{"$f":"SUM(F158:F164)","v":610},{"$f":"SUM(G158:G164)","v":19.35},19.229999999999997,86.69,587,null,{"$f":"SUM(L158:L164)","v":0}]
[{"$f":"A158","v":2},{"$f":"B158","v":4},"Обед","закуска"]
[{"$nulls":3},"1 блюдо"]
[{"$nulls":3},"2 блюдо"]
[{"$nulls":3},"гарнир"]
[{"$nulls":3},"напиток"]
[{"$nulls":3},"хлеб бел."]
[{"$nulls":3},"хлеб черн."]
[]
[]
[{"$nulls":3},"итого",null,{"$f":"SUM(F166:F174)","v":0},{"$f":"SUM(G166:G174)","v":0},0,0,0,null,{"$f":"SUM(L166:L174)","v":0}]
[{"$f":"A158","v":2},{"$f":"B158","v":4},"Итого за день:",null,null,{"$f":"F165+F175","v":610},{"$f":"G165+G175","v":19.35},{"$f":"H165+H175","v":19.229999999999997},{"$f":"I165+I175","v":86.69},{"$f":"J165+J175","v":587},null,0]
[2,5,"Завтрак","гор.блюдо",{"$f":"'[10]1'!D4","v":"Сосиски отварные с соусом \"Переменка\""},{"$f":"'[10]1'!E4","v":110},{"$f":"'[10]1'!H4","v":10.1},{"$f":"'[10]1'!I4","v":4.8},{"$f":"'[10]1'!J4","v":11.75},{"$f":"'[10]1'!G4","v":126},{"$f":"'[10]1'!C4","v":"№243/2015"}]
[{"$nulls":4},{"$f":"'[10]1'!D5","v":"Макаронные изделия отварные"},{"$f":"'[10]1'!E5","v":150},{"$f":"'[10]1'!H5","v":5.64},{"$f":"'[10]1'!I5","v":4.46},{"$f":"'[10]1'!J5","v":35.94},{"$f":"'[10]1'!G5","v":210},{"$f":"'[10]1'!C5","v":"№202/2015"}]
[{"$nulls":3},"гор.напиток",{"$f":"'[10]1'!D6","v":"Компот из замор. Вишни"},{"$f":"'[10]1'!E6","v":180},{"$f":"'[10]1'!H6","v":0.1},{"$f":"'[10]1'!I6","v":0.03},{"$f":"'[10]1'!J6","v":10.41},{"$f":"'[10]1'!G6","v":43},{"$f":"'[10]1'!C6","v":"ТТК 2021 г"}]
[{"$nulls":3},"хлеб",{"$f":"'[10]1'!$D$7","v":"Хлебная корзина (хлеб пш., хлеб рж.-пш.)"},{"$f":"'[10]1'!$E$7","v":40},{"$f":"'[10]1'!$H$7","v":2.52},{"$f":"'[10]1'!$I$7","v":0.36},{"$f":"'[10]1'!$J$7","v":18.84},{"$f":"'[10]1'!$G$7","v":91},{"$f":"'[10]1'!$C$7","v":"ТТК"}]
[{"$nulls":3},"фрукты"]
[{"$nulls":3},"закуска",{"$f":"'[10]1'!$D$8","v":"Салат-бар (Свекла отвар.тертая, морковь свежая порциями, сыр, сухарики, масло раст."},{"$f":"'[10]1'!$E$8","v":60},{"$f":"'[10]1'!$H$8","v":1.56},{"$f":"'[10]1'!$I$8","v":8.72},{"$f":"'[10]1'!$J$8","v":5.73},{"$f":"'[10]1'!$G$8","v":117},{"$f":"'[10]1'!$C$8","v":"№ 532/2013г, Самара"}]
[]
[{"$nulls":3},"итого",null,{"$f":"SUM(F177:F183)","v":540},{"$f":"SUM(G177:G183)","v":19.919999999999998},18.369999999999997,82.67,587,null,{"$f":"SUM(L177:L183)","v":0}]
[{"$f":"A177","v":2},{"$f":"B177","v":5},"Обед","закуска"]
[{"$nulls":3},"1 блюдо"]
[{"$nulls":3},"2 блюдо"]
[{"$nulls":3},"гарнир"]
[{"$nulls":3},"напиток"]
[{"$nulls":3},"хлеб бел."]
[{"$nulls":3},"хлеб черн."]
[]
[]
[{"$nulls":3},"итого",null,{"$f":"SUM(F185:F193)","v":0},{"$f":"SUM(G185:G193)","v":0},0,0,0,null,{"$f":"SUM(L185:L193)","v":0}]
[{"$f":"A177","v":2},{"$f":"B177","v":5},"Итого за день:",null,null,{"$f":"F184+F194","v":540},{"$f":"G184+G194","v":19.919999999999998},{"$f":"H184+H194","v":18.369999999999997},{"$f":"I184+I194","v":82.67},{"$f":"J184+J194","v":587},null,0]
[null,null,"Среднее значение за период:",null,null,{"$f":"(F24+F43+F62+F81+F100+F119+F138+F157+F176+F195)/(IF(F24=0,0,1)+IF(F43=0,0,1)+IF(F62=0,0,1)+IF(F81=0,0,1)+IF(F100=0,0,1)+IF(F119=0,0,1)+IF(F138=0,0,1)+IF(F157=0,0,1)+IF(F176=0,0,1)+IF(F195=0,0,1))","v":554.5},{"$f":"(G24+G43+G62+G81+G100+G119+G138+G157+G176+G195)/(IF(G24=0,0,1)+IF(G43=0,0,1)+IF(G62=0,0,1)+IF(G81=0,0,1)+IF(G100=0,0,1)+IF(G119=0,0,1)+IF(G138=0,0,1)+IF(G157=0,0,1)+IF(G176=0,0,1)+IF(G195=0,0,1))","v":18.790999999999997},18.63,82.884,574.85,null,{"$f":"(L24+L43+L62+L81+L100+L119+L138+L157+L176+L195)/(IF(L24=0,0,1)+IF(L43=0,0,1)+IF(L62=0,0,1)+IF(L81=0,0,1)+IF(L100=0,0,1)+IF(L119=0,0,1)+IF(L138=0,0,1)+IF(L157=0,0,1)+IF(L176=0,0,1)+IF(L195=0,0,1))","v":{"$error":"#DIV/0!"}}]