{"text_format":"3","workbook":"xlsx","n_sheets":1,"sheets":["1"],"not_rendered":{"external_links":1},"read":"whole","date_system":"1900"}

{"sheet":"1","index":0,"n_rows":19,"n_cols":10,"rows_kept":19,"merged":[[0,1,0,3]]}
["Школа","МБОУ \"Гимназия №28\" Вахитовского района г. Казани",null,null,"Отд./корп",{"$nulls":3},"День","2022-11-09"]
[]
["Прием пищи","Раздел","№ рец.","Блюдо","Выход, г","Цена","Калорийность","Белки","Жиры","Углеводы"]
["Завтрак","гор.блюдо"]
[null,"гор.напиток"]
[null,"хлеб"]
[]
[]
["Завтрак 2","фрукты"]
[]
[]
["Обед","закуска","ТТК","САЛАТ ИЗ МОРКОВИ 60 г (морковь,сахар,м/раститительное)",{"$f":"[1]Лист1!$G$9","v":60},null,{"$f":"[1]Лист1!$M$9","v":95},{"$f":"[1]Лист1!I9","v":0.632},{"$f":"[1]Лист1!J9","v":6.043},{"$f":"[1]Лист1!K9","v":{"v":9.341,"d":"9.34"}}]
[null,"2 блюдо","от 2021г","КОТЛЕТЫ ПОЖАРСКИЕ С СОУСОМ ТОМАТНЫМ 80/10 г",{"$f":"[1]Лист1!$G$10","v":"80/10"},null,{"$f":"[1]Лист1!$M$10","v":95},{"$f":"[1]Лист1!I10","v":{"v":8.35,"d":"8.350"}},{"$f":"[1]Лист1!J10","v":{"v":6.71,"d":"6.710"}},{"$f":"[1]Лист1!K10","v":{"v":0.2,"d":"0.20"}}]
[null,"гарнир","№309/2015г,Дели","МАКАРОННЫЕ ИЗДЕЛИЯ ОТВАРНЫЕ 150 г",{"$f":"[1]Лист1!$G$11","v":150},null,{"$f":"[1]Лист1!$M$11","v":212},{"$f":"[1]Лист1!I11","v":5.602},{"$f":"[1]Лист1!J11","v":{"v":5.06,"d":"5.060"}},{"$f":"[1]Лист1!K11","v":{"v":35.906,"d":"35.91"}}]
[null,"сладкое","ТТК 2021 г","КОМПОТ ИЗ ЗАМОРОЖЕННОЙ КОМПОТНОЙ СМЕСИ 200 г",{"$f":"[1]Лист1!$G$12","v":200},null,{"$f":"[1]Лист1!$M$12","v":46},{"$f":"[1]Лист1!I12","v":{"v":0.13,"d":"0.130"}},{"$f":"[1]Лист1!J12","v":{"v":0.02,"d":"0.020"}},{"$f":"[1]Лист1!K12","v":11.15}]
[null,"хлеб бел.",null,{"$f":"[1]Лист1!$C$14","v":"ХЛЕБ ПШЕНИЧНЫЙ 20 г"},20,null,{"$f":"[1]Лист1!$M$14","v":47},{"$f":"[1]Лист1!I14","v":{"v":1.52,"d":"1.520"}},{"$f":"[1]Лист1!J14","v":{"v":0.16,"d":"0.160"}},{"$f":"[1]Лист1!K14","v":9.84}]
[null,"хлеб черн.",null,{"$f":"[1]Лист1!$C$13","v":"ХЛЕБ РЖАНО - ПШЕНИЧНЫЙ 20 г"},20,null,{"$f":"[1]Лист1!$M$13","v":44},{"$f":"[1]Лист1!I13","v":{"v":1,"d":"1.000"}},{"$f":"[1]Лист1!J13","v":{"v":0.2,"d":"0.200"}},{"$f":"[1]Лист1!K13","v":{"v":9,"d":"9.00"}}]
[]
[{"$nulls":5},{"v":62.1,"d":"62.10"}]