{"text_format":"3","workbook":"xlsx","n_sheets":1,"sheets":["1"],"not_rendered":{"external_links":2},"read":"whole","date_system":"1900"}

{"sheet":"1","index":0,"n_rows":12,"n_cols":10,"rows_kept":12,"merged":[[0,1,0,3]]}
["Школа","МБОУ \"Лицей № 5\" Вахитовского района г. Казани",null,null,"Отд./корп",{"$nulls":3},"День","2023-03-01"]
[]
["Прием пищи","Раздел","№ рец.",null,"Выход, г","Цена","Калорийность","Белки","Жиры","Углеводы"]
["Завтрак","закуска",{"$f":"'[1]13-18 фев.'!C25","v":"№52/2015 г"},{"$f":"'[1]13-18 фев.'!D25","v":"Свекла отварная (долькам) с маслом"},{"$f":"'[1]13-18 фев.'!E25","v":60},{"$f":"'[1]13-18 фев.'!F25","v":{"v":0,"d":"0.00"}},{"$f":"'[1]13-18 фев.'!G25","v":56},{"$f":"'[1]13-18 фев.'!H25","v":0.85},{"$f":"'[1]13-18 фев.'!I25","v":3.65},{"$f":"'[1]13-18 фев.'!J25","v":5.02}]
[null,"сладкое"]
[null,"2 блюдо",{"$f":"'[1]13-18 фев.'!C20","v":"ТТК 2021 г"},{"$f":"'[1]13-18 фев.'!D20","v":"Котлеты \"Школьные\""},{"$f":"'[1]13-18 фев.'!E20","v":90},{"$f":"'[1]13-18 фев.'!F20","v":{"v":0,"d":"0.00"}},{"$f":"'[1]13-18 фев.'!G20","v":113},{"$f":"'[1]13-18 фев.'!H20","v":{"v":11,"d":"11.00"}},{"$f":"'[1]13-18 фев.'!I20","v":6.09},{"$f":"'[1]13-18 фев.'!J20","v":{"v":3.6,"d":"3.60"}}]
[null,"гарнир",{"$f":"'[1]13-18 фев.'!C21","v":"№ 304/2015 г"},{"$f":"'[1]13-18 фев.'!D21","v":"Рис отварной с маслом сливочным"},{"$f":"'[1]13-18 фев.'!E21","v":155},{"$f":"'[1]13-18 фев.'!F21","v":{"v":0,"d":"0.00"}},{"$f":"'[1]13-18 фев.'!G21","v":257},{"$f":"'[1]13-18 фев.'!H21","v":3.87},{"$f":"'[1]13-18 фев.'!I21","v":9.05},{"$f":"'[1]13-18 фев.'!J21","v":40.05}]
[null,"сладкое"]
[null,"хлеб бел.",null,{"$f":"'[2]13-18 фев.'!D15","v":"Хлеб пшеничный"},{"$f":"'[2]13-18 фев.'!E15","v":15},{"$f":"'[2]13-18 фев.'!F15","v":{"v":0,"d":"0.00"}},{"$f":"'[2]13-18 фев.'!G15","v":35},{"$f":"'[2]13-18 фев.'!H15","v":1.14},{"$f":"'[2]13-18 фев.'!I15","v":0.12},{"$f":"'[2]13-18 фев.'!J15","v":7.38}]
[null,"хлеб черн.",null,{"$f":"'[1]13-18 фев.'!D23","v":"Хлеб ржано-пшеничный"},{"$f":"'[1]13-18 фев.'!E23","v":20},{"$f":"'[1]13-18 фев.'!F23","v":{"v":0,"d":"0.00"}},{"$f":"'[1]13-18 фев.'!G23","v":44},{"$f":"'[1]13-18 фев.'!H23","v":{"v":1,"d":"1.00"}},{"$f":"'[1]13-18 фев.'!I23","v":{"v":0.2,"d":"0.20"}},{"$f":"'[1]13-18 фев.'!J23","v":{"v":9,"d":"9.00"}}]
[null,"гор.напиток",{"$f":"'[1]13-18 фев.'!C22","v":"№ 699/2004"},{"$f":"'[1]13-18 фев.'!D22","v":"Компот из замороженной вишни"},{"$f":"'[1]13-18 фев.'!E22","v":200},{"$f":"'[1]13-18 фев.'!F22","v":{"v":0,"d":"0.00"}},{"$f":"'[1]13-18 фев.'!G22","v":48},{"$f":"'[1]13-18 фев.'!H22","v":0.12},{"$f":"'[1]13-18 фев.'!I22","v":0.03},{"$f":"'[1]13-18 фев.'!J22","v":11.57}]
[{"$nulls":3},"ИТОГО",{"$f":"'[1]13-18 фев.'!E27","v":540},{"$f":"'[1]13-18 фев.'!F27","v":{"v":62.1,"d":"62.10"}},{"$f":"'[1]13-18 фев.'!G27","v":553},{"$f":"'[1]13-18 фев.'!H27","v":17.98},{"$f":"'[1]13-18 фев.'!I27","v":{"v":19.139999999999997,"d":"19.14"}},{"$f":"'[1]13-18 фев.'!J27","v":{"v":76.61999999999999,"d":"76.62"}}]