{"text_format":"3","workbook":"xlsx","n_sheets":1,"sheets":["Лист1"],"read":"whole","date_system":"1900"}

{"sheet":"Лист1","index":0,"n_rows":206,"n_cols":12,"rows_kept":206,"merged":[[0,2,0,4],[0,7,0,10],[1,7,1,10],[24,2,24,3],[44,2,44,3],[64,2,64,3],[84,2,84,3],[104,2,104,3],[124,2,124,3],[144,2,144,3],[164,2,164,3],[184,2,184,3],[204,2,204,3],[205,2,205,4]]}
["Школа",null,"МБОУ \"Акбашская НОШ\"",null,null,"Согласовал:","должность","И.о.директор"]
["Типовое примерное меню приготавливаемых блюд",{"$nulls":5},"фамилия","Хазиева Г.Ф."]
["Возрастная категория",{"$nulls":3},"7-11 лет",null,"дата",1,9,2025]
[{"$nulls":7},"день","месяц","год"]
["Неделя","День недели","Прием пищи","Раздел меню","Блюда","Вес блюда, г","Белки","Жиры","Углеводы","Калорийность","№ рецептуры","Цена"]
[1,1,"Завтрак","гор.блюдо","Пюре гороховое с маслом","155","8,8","5,64","32,56","259,9",183]
[{"$nulls":4},"Котлеты \"Школьные\" с соусом сметанным с томатом","100","4,8","10,5","9,01","110,2",347]
[{"$nulls":3},"гор.напиток","Чай с сахаром","200","0,2","0","9,1","36",300]
[{"$nulls":3},"хлеб","Хлеб пшеничный",30,2.28,0.24,14.76,70.2,573]
[{"$nulls":4},"Хлеб ржаной (ржано-пшеничный)",20,1.36,0.26,7.96,39.6,574]
[{"$nulls":3},"салат","Салат из белокочанной капусты",60,"1,3","2,7","6,2","57",6]
[]
[]
[{"$nulls":3},"итого",null,{"$f":"SUM(F6:F13)","v":110},{"$f":"SUM(G6:G13)","v":3.6399999999999997},0.5,22.72,109.80000000000001,null,{"$f":"SUM(L6:L13)","v":0}]
[{"$f":"A6","v":1},{"$f":"B6","v":1},"Обед","закуска"]
[{"$nulls":3},"1 блюдо"]
[{"$nulls":3},"2 блюдо"]
[{"$nulls":3},"гарнир"]
[{"$nulls":3},"напиток"]
[{"$nulls":3},"хлеб бел."]
[{"$nulls":3},"хлеб черн."]
[]
[]
[{"$nulls":3},"итого",null,{"$f":"SUM(F15:F23)","v":0},{"$f":"SUM(G15:G23)","v":0},0,0,0,null,{"$f":"SUM(L15:L23)","v":0}]
[{"$f":"A6","v":1},{"$f":"B6","v":1},"Итого за день:",null,null,{"$f":"F14+F24","v":110},{"$f":"G14+G24","v":3.6399999999999997},0.5,22.72,109.80000000000001,null,{"$f":"L14+L24","v":0}]
[1,2,"Завтрак","гор.блюдо","Макаронные изделия отварные с маслом","155","5,42","3,67","20,1","194,2",227]
[{"$nulls":4},"Биточки рыбные с соусом","100","8,8","12,55","8,47",134.6,83]
[{"$nulls":3},"гор.напиток","Компот из сухофруктов","200","0,5","0,1","30,9","123",310]
[{"$nulls":3},"хлеб","Хлеб пшеничный",30,2.28,0.24,14.76,70.2,573]
[{"$nulls":4},"Хлеб ржаной (ржано-пшеничный)",20,1.36,0.26,7.96,39.6,574]
[]
[]
[]
[{"$nulls":3},"итого",null,{"$f":"SUM(F26:F33)","v":50},{"$f":"SUM(G26:G33)","v":3.6399999999999997},{"$f":"SUM(H26:H33)","v":0.5},{"$f":"SUM(I26:I33)","v":22.72},{"$f":"SUM(J26:J33)","v":244.4},null,{"$f":"SUM(L26:L33)","v":0}]
[{"$f":"A26","v":1},{"$f":"B26","v":2},"Обед","закуска"]
[{"$nulls":3},"1 блюдо"]
[{"$nulls":3},"2 блюдо"]
[{"$nulls":3},"гарнир"]
[{"$nulls":3},"напиток"]
[{"$nulls":3},"хлеб бел."]
[{"$nulls":3},"хлеб черн."]
[]
[]
[{"$nulls":3},"итого",null,{"$f":"SUM(F35:F43)","v":0},{"$f":"SUM(G35:G43)","v":0},{"$f":"SUM(H35:H43)","v":0},{"$f":"SUM(I35:I43)","v":0},{"$f":"SUM(J35:J43)","v":0},null,0]
[{"$f":"A26","v":1},{"$f":"B26","v":2},"Итого за день:",null,null,{"$f":"F34+F44","v":50},{"$f":"G34+G44","v":3.6399999999999997},{"$f":"H34+H44","v":0.5},{"$f":"I34+I44","v":22.72},{"$f":"J34+J44","v":244.4},null,0]
[1,3,"Завтрак","гор.блюдо","Плов из птицы","200","12,3","15,2","28,5","296",138]
[]
[{"$nulls":3},"гор.напиток","Чай с сахаром","200","0,2","0","9,1","36",300]
[{"$nulls":3},"хлеб","Хлеб пшеничный",30,2.28,0.24,14.76,70.2,573]
[{"$nulls":4},"Хлеб ржаной (ржано-пшеничный)",20,1.36,0.26,7.96,39.6,574]
[{"$nulls":3},"фрукты","Фрукты свежие",100,"0,4","0,4","9,8","47",338]
[]
[]
[{"$nulls":3},"итого",null,{"$f":"SUM(F46:F53)","v":150},{"$f":"SUM(G46:G53)","v":3.6399999999999997},{"$f":"SUM(H46:H53)","v":0.5},{"$f":"SUM(I46:I53)","v":22.72},{"$f":"SUM(J46:J53)","v":109.80000000000001},null,0]
[{"$f":"A46","v":1},{"$f":"B46","v":3},"Обед","закуска"]
[{"$nulls":3},"1 блюдо"]
[{"$nulls":3},"2 блюдо"]
[{"$nulls":3},"гарнир"]
[{"$nulls":3},"напиток"]
[{"$nulls":3},"хлеб бел."]
[{"$nulls":3},"хлеб черн."]
[]
[]
[{"$nulls":3},"итого",null,{"$f":"SUM(F55:F63)","v":0},{"$f":"SUM(G55:G63)","v":0},{"$f":"SUM(H55:H63)","v":0},{"$f":"SUM(I55:I63)","v":0},{"$f":"SUM(J55:J63)","v":0},null,0]
[{"$f":"A46","v":1},{"$f":"B46","v":3},"Итого за день:",null,null,{"$f":"F54+F64","v":150},{"$f":"G54+G64","v":3.6399999999999997},{"$f":"H54+H64","v":0.5},{"$f":"I54+I64","v":22.72},{"$f":"J54+J64","v":109.80000000000001},null,0]
[1,4,"Завтрак","гор.блюдо","Каша пшеничная рассыпчатая с маслом","155","6,67","4,08","39,17","217,5",185]
[{"$nulls":4},"Фрикадельки куриные тушенные в соусе","90","4,5","9,98","5,7","77,7",134]
[{"$nulls":3},"гор.напиток","Чай с сахаром","200","0,2","0","9,1","36",300]
[{"$nulls":3},"хлеб","Хлеб пшеничный",30,2.28,0.24,14.76,70.2,573]
[{"$nulls":4},"Хлеб ржаной (ржано-пшеничный)",20,1.36,0.26,7.96,39.6,574]
[{"$nulls":3},"салат","Салат из свеклы с растительным маслом",60,"1","4,8","5","69",25]
[]
[]
[{"$nulls":3},"итого",null,{"$f":"SUM(F66:F73)","v":110},{"$f":"SUM(G66:G73)","v":3.6399999999999997},{"$f":"SUM(H66:H73)","v":0.5},{"$f":"SUM(I66:I73)","v":22.72},{"$f":"SUM(J66:J73)","v":109.80000000000001},null,0]
[{"$f":"A66","v":1},{"$f":"B66","v":4},"Обед","закуска"]
[{"$nulls":3},"1 блюдо"]
[{"$nulls":3},"2 блюдо"]
[{"$nulls":3},"гарнир"]
[{"$nulls":3},"напиток"]
[{"$nulls":3},"хлеб бел."]
[{"$nulls":3},"хлеб черн."]
[]
[]
[{"$nulls":3},"итого",null,{"$f":"SUM(F75:F83)","v":0},{"$f":"SUM(G75:G83)","v":0},{"$f":"SUM(H75:H83)","v":0},{"$f":"SUM(I75:I83)","v":0},{"$f":"SUM(J75:J83)","v":0},null,0]
[{"$f":"A66","v":1},{"$f":"B66","v":4},"Итого за день:",null,null,{"$f":"F74+F84","v":110},{"$f":"G74+G84","v":3.6399999999999997},{"$f":"H74+H84","v":0.5},{"$f":"I74+I84","v":22.72},{"$f":"J74+J84","v":109.80000000000001},null,0]
[1,5,"Завтрак","гор.блюдо","Гречка с курицей по-купечески","200","13,42","13,67","33,3","294,2",139]
[]
[{"$nulls":3},"гор.напиток","Чай с сахаром","200","0,2","0","9,1","36",300]
[{"$nulls":3},"хлеб","Хлеб пшеничный",30,2.28,0.24,14.76,70.2,573]
[{"$nulls":4},"Хлеб ржаной (ржано-пшеничный)",20,1.36,0.26,7.96,39.6,574]
[{"$nulls":3},"салат","Салат из моркови",60,"0,6","2,3","5","72",17]
[]
[]
[{"$nulls":3},"итого",null,{"$f":"SUM(F86:F93)","v":110},{"$f":"SUM(G86:G93)","v":3.6399999999999997},0.5,22.72,109.80000000000001,null,{"$f":"SUM(L86:L93)","v":0}]
[{"$f":"A86","v":1},{"$f":"B86","v":5},"Обед","закуска"]
[{"$nulls":3},"1 блюдо"]
[{"$nulls":3},"2 блюдо"]
[{"$nulls":3},"гарнир"]
[{"$nulls":3},"напиток"]
[{"$nulls":3},"хлеб бел."]
[{"$nulls":3},"хлеб черн."]
[]
[]
[{"$nulls":3},"итого",null,{"$f":"SUM(F95:F103)","v":0},{"$f":"SUM(G95:G103)","v":0},0,0,0,null,{"$f":"SUM(L95:L103)","v":0}]
[{"$f":"A86","v":1},{"$f":"B86","v":5},"Итого за день:",null,null,{"$f":"F94+F104","v":110},{"$f":"G94+G104","v":3.6399999999999997},0.5,22.72,109.80000000000001,null,{"$f":"L94+L104","v":0}]
[2,1,"Завтрак","гор.блюдо","Макаронные изделия отварные с маслом","155","5,42","3,67","20,1","194,2",227]
[{"$nulls":4},"Тефтели говяжьи с соусом","90","8,6","14,3","10,3","177,1",110]
[{"$nulls":3},"гор.напиток","Чай с сахаром","200","0,2","0","9,1","36",300]
[{"$nulls":3},"хлеб","Хлеб пшеничный",30,2.28,0.24,14.76,70.2,573]
[{"$nulls":4},"Хлеб ржаной (ржано-пшеничный)",20,1.36,0.26,7.96,39.6,574]
[{"$nulls":3},"фрукты","Фрукты свежие",100,"0,4","0,4","9,8","47",338]
[]
[]
[{"$nulls":3},"итого",null,{"$f":"SUM(F106:F113)","v":150},{"$f":"SUM(G106:G113)","v":3.6399999999999997},0.5,22.72,109.80000000000001,null,{"$f":"SUM(L106:L113)","v":0}]
[{"$f":"A106","v":2},{"$f":"B106","v":1},"Обед","закуска"]
[{"$nulls":3},"1 блюдо"]
[{"$nulls":3},"2 блюдо"]
[{"$nulls":3},"гарнир"]
[{"$nulls":3},"напиток"]
[{"$nulls":3},"хлеб бел."]
[{"$nulls":3},"хлеб черн."]
[]
[]
[{"$nulls":3},"итого",null,{"$f":"SUM(F115:F123)","v":0},{"$f":"SUM(G115:G123)","v":0},0,0,0,null,{"$f":"SUM(L115:L123)","v":0}]
[{"$f":"A106","v":2},{"$f":"B106","v":1},"Итого за день:",null,null,{"$f":"F114+F124","v":150},{"$f":"G114+G124","v":3.6399999999999997},{"$f":"H114+H124","v":0.5},{"$f":"I114+I124","v":22.72},{"$f":"J114+J124","v":109.80000000000001},null,0]
[2,2,"Завтрак","гор.блюдо","Каша гречневая рассыпчатая с маслом","155","8,83","5,67","32,58","260",183]
[{"$nulls":4},"Котлеты \"Школьные\" с соусом сметанным с томатом","100","4,8","10,5","9,01","110,2",347]
[{"$nulls":3},"гор.напиток","Чай с сахаром","200","0,2","0","9,1","36",300]
[{"$nulls":3},"хлеб","Хлеб пшеничный",30,2.28,0.24,14.76,70.2,573]
[{"$nulls":4},"Хлеб ржаной (ржано-пшеничный)",20,1.36,0.26,7.96,39.6,574]
[{"$nulls":3},"фрукты"]
[]
[]
[{"$nulls":3},"итого",null,{"$f":"SUM(F126:F133)","v":50},{"$f":"SUM(G126:G133)","v":3.6399999999999997},0.5,22.72,109.80000000000001,null,{"$f":"SUM(L126:L133)","v":0}]
[{"$f":"A126","v":2},{"$f":"B126","v":2},"Обед","закуска"]
[{"$nulls":3},"1 блюдо"]
[{"$nulls":3},"2 блюдо"]
[{"$nulls":3},"гарнир"]
[{"$nulls":3},"напиток"]
[{"$nulls":3},"хлеб бел."]
[{"$nulls":3},"хлеб черн."]
[]
[]
[{"$nulls":3},"итого",null,{"$f":"SUM(F135:F143)","v":0},{"$f":"SUM(G135:G143)","v":0},0,0,0,null,{"$f":"SUM(L135:L143)","v":0}]
[{"$f":"A126","v":2},{"$f":"B126","v":2},"Итого за день:",null,null,{"$f":"F134+F144","v":50},{"$f":"G134+G144","v":3.6399999999999997},{"$f":"H134+H144","v":0.5},{"$f":"I134+I144","v":22.72},{"$f":"J134+J144","v":109.80000000000001},null,0]
[2,3,"Завтрак","гор.блюдо","Картофельное пюре","150","3,08","3,7","32,03","190,25",146]
[{"$nulls":4},"Биточки рыбные с соусом","100","8,8","12,55","8,47",134.6,83]
[{"$nulls":3},"гор.напиток","Чай с лимоном и сахаром","200","0,2","0","9,3","38",302]
[{"$nulls":3},"хлеб","Хлеб пшеничный",30,2.28,0.24,14.76,70.2,573]
[{"$nulls":4},"Хлеб ржаной (ржано-пшеничный)",20,1.36,0.26,7.96,39.6,574]
[{"$nulls":3},"салат","Салат из моркови",60,"0,6","2,3","5","72",17]
[]
[]
[{"$nulls":3},"итого",null,{"$f":"SUM(F146:F153)","v":110},{"$f":"SUM(G146:G153)","v":3.6399999999999997},0.5,22.72,244.4,null,{"$f":"SUM(L146:L153)","v":0}]
[{"$f":"A146","v":2},{"$f":"B146","v":3},"Обед","закуска"]
[{"$nulls":3},"1 блюдо"]
[{"$nulls":3},"2 блюдо"]
[{"$nulls":3},"гарнир"]
[{"$nulls":3},"напиток"]
[{"$nulls":3},"хлеб бел."]
[{"$nulls":3},"хлеб черн."]
[]
[]
[{"$nulls":3},"итого",null,{"$f":"SUM(F155:F163)","v":0},{"$f":"SUM(G155:G163)","v":0},0,0,0,null,{"$f":"SUM(L155:L163)","v":0}]
[{"$f":"A146","v":2},{"$f":"B146","v":3},"Итого за день:",null,null,{"$f":"F154+F164","v":110},{"$f":"G154+G164","v":3.6399999999999997},{"$f":"H154+H164","v":0.5},{"$f":"I154+I164","v":22.72},{"$f":"J154+J164","v":244.4},null,0]
[2,4,"Завтрак","гор.блюдо","Плов из птицы","200","12,2","13,2","22,2","267",138]
[]
[{"$nulls":3},"гор.напиток","Компот из сухофруктов","200","0,5","0,1","30,9","123",310]
[{"$nulls":3},"хлеб","Хлеб пшеничный",30,2.28,0.24,14.76,70.2,573]
[{"$nulls":4},"Хлеб ржаной (ржано-пшеничный)",20,1.36,0.26,7.96,39.6,574]
[{"$nulls":3},"салат","Салат из свеклы с растительным маслом",60,"1","4,8","5","69",25]
[]
[]
[{"$nulls":3},"итого",null,{"$f":"SUM(F166:F173)","v":110},{"$f":"SUM(G166:G173)","v":3.6399999999999997},0.5,22.72,109.80000000000001,null,{"$f":"SUM(L166:L173)","v":0}]
[{"$f":"A166","v":2},{"$f":"B166","v":4},"Обед","закуска"]
[{"$nulls":3},"1 блюдо"]
[{"$nulls":3},"2 блюдо"]
[{"$nulls":3},"гарнир"]
[{"$nulls":3},"напиток"]
[{"$nulls":3},"хлеб бел."]
[{"$nulls":3},"хлеб черн."]
[]
[]
[{"$nulls":3},"итого",null,{"$f":"SUM(F175:F183)","v":0},{"$f":"SUM(G175:G183)","v":0},0,0,0,null,{"$f":"SUM(L175:L183)","v":0}]
[{"$f":"A166","v":2},{"$f":"B166","v":4},"Итого за день:",null,null,{"$f":"F174+F184","v":110},{"$f":"G174+G184","v":3.6399999999999997},{"$f":"H174+H184","v":0.5},{"$f":"I174+I184","v":22.72},{"$f":"J174+J184","v":109.80000000000001},null,0]
[2,5,"Завтрак","гор.блюдо","Каша гречневая рассыпчатая с маслом","155","8,83","5,67","32,58","260",183]
[{"$nulls":4},"Фрикадельки куриные тушенные в соусе","90","4,5","9,98","5,7","77,7",134]
[{"$nulls":3},"гор.напиток","Чай с сахаром","200","0,2","0","9,1","36",300]
[{"$nulls":3},"хлеб","Хлеб пшеничный",30,2.28,0.24,14.76,70.2,573]
[{"$nulls":4},"Хлеб ржаной (ржано-пшеничный)",20,1.36,0.26,7.96,39.6,574]
[{"$nulls":3},"фрукты","Фрукты свежие",100,"0,4","0,4","9,8","47",338]
[]
[]
[{"$nulls":3},"итого",null,{"$f":"SUM(F186:F193)","v":150},{"$f":"SUM(G186:G193)","v":3.6399999999999997},0.5,22.72,109.80000000000001,null,{"$f":"SUM(L186:L193)","v":0}]
[{"$f":"A186","v":2},{"$f":"B186","v":5},"Обед","закуска"]
[{"$nulls":3},"1 блюдо"]
[{"$nulls":3},"2 блюдо"]
[{"$nulls":3},"гарнир"]
[{"$nulls":3},"напиток"]
[{"$nulls":3},"хлеб бел."]
[{"$nulls":3},"хлеб черн."]
[]
[]
[{"$nulls":3},"итого",null,{"$f":"SUM(F195:F203)","v":0},{"$f":"SUM(G195:G203)","v":0},0,0,0,null,{"$f":"SUM(L195:L203)","v":0}]
[{"$f":"A186","v":2},{"$f":"B186","v":5},"Итого за день:",null,null,{"$f":"F194+F204","v":150},{"$f":"G194+G204","v":3.6399999999999997},0.5,22.72,109.80000000000001,null,{"$f":"L194+L204","v":0}]
[null,null,"Среднее значение за период:",null,null,{"$f":"(F25+F45+F65+F85+#REF!+F125+F145+F165+F185+#REF!)/(IF(F25=0,0,1)+IF(F45=0,0,1)+IF(F65=0,0,1)+IF(F85=0,0,1)+IF(#REF!=0,0,1)+IF(F125=0,0,1)+IF(F145=0,0,1)+IF(F165=0,0,1)+IF(F185=0,0,1)+IF(#REF!=0,0,1))","v":{"$error":"#REF!"}},{"$f":"(G25+G45+G65+G85+#REF!+G125+G145+G165+G185+#REF!)/(IF(G25=0,0,1)+IF(G45=0,0,1)+IF(G65=0,0,1)+IF(G85=0,0,1)+IF(#REF!=0,0,1)+IF(G125=0,0,1)+IF(G145=0,0,1)+IF(G165=0,0,1)+IF(G185=0,0,1)+IF(#REF!=0,0,1))","v":{"$error":"#REF!"}},{"$f":"(H25+H45+H65+H85+#REF!+H125+H145+H165+H185+#REF!)/(IF(H25=0,0,1)+IF(H45=0,0,1)+IF(H65=0,0,1)+IF(H85=0,0,1)+IF(#REF!=0,0,1)+IF(H125=0,0,1)+IF(H145=0,0,1)+IF(H165=0,0,1)+IF(H185=0,0,1)+IF(#REF!=0,0,1))","v":{"$error":"#REF!"}},{"$f":"(I25+I45+I65+I85+#REF!+I125+I145+I165+I185+#REF!)/(IF(I25=0,0,1)+IF(I45=0,0,1)+IF(I65=0,0,1)+IF(I85=0,0,1)+IF(#REF!=0,0,1)+IF(I125=0,0,1)+IF(I145=0,0,1)+IF(I165=0,0,1)+IF(I185=0,0,1)+IF(#REF!=0,0,1))","v":{"$error":"#REF!"}},{"$f":"(J25+J45+J65+J85+#REF!+J125+J145+J165+J185+#REF!)/(IF(J25=0,0,1)+IF(J45=0,0,1)+IF(J65=0,0,1)+IF(J85=0,0,1)+IF(#REF!=0,0,1)+IF(J125=0,0,1)+IF(J145=0,0,1)+IF(J165=0,0,1)+IF(J185=0,0,1)+IF(#REF!=0,0,1))","v":{"$error":"#REF!"}},null,{"$f":"(L25+L45+L65+L85+#REF!+L125+L145+L165+L185+#REF!)/(IF(L25=0,0,1)+IF(L45=0,0,1)+IF(L65=0,0,1)+IF(L85=0,0,1)+IF(#REF!=0,0,1)+IF(L125=0,0,1)+IF(L145=0,0,1)+IF(L165=0,0,1)+IF(L185=0,0,1)+IF(#REF!=0,0,1))","v":{"$error":"#REF!"}}]