{"text_format":"3","workbook":"xlsx","n_sheets":1,"sheets":["Лист1"],"read":"whole","date_system":"1900"}

{"sheet":"Лист1","index":0,"n_rows":586,"n_cols":12,"rows_kept":586,"merged":[[0,2,0,4],[0,7,0,10],[1,7,1,10],[24,2,24,3],[67,2,67,3],[110,2,110,3],[154,2,154,3],[197,2,197,3],[240,2,240,3],[282,2,282,3],[325,2,325,3],[369,2,369,3],[412,2,412,3],[456,2,456,3],[499,2,499,3],[542,2,542,3],[584,2,584,3],[585,2,585,4]]}
["Школа",null,"МБОУ \"Кутлушкинская ООШ\"",null,null,"Утвердил:","должность","Директор "]
["Типовое примерное меню приготавливаемых блюд",{"$nulls":5},"фамилия","Шакирова"]
["Возрастная категория",{"$nulls":3},"7-11 лет",null,"дата",1,9,2023]
[{"$nulls":7},"день","месяц","год"]
["Неделя","День недели","Прием пищи","Раздел меню","Блюда","Вес блюда, г","Белки","Жиры","Углеводы","Калорийность","№ рецептуры","Цена"]
[1,1,"Завтрак","гор.блюдо","Мясо тушеное",100,{"v":11.52,"d":"12"},{"v":6.04,"d":"6"},{"v":21.78,"d":"22"},196,"№266 ",43.26]
[{"$nulls":3},"гарнир","Каша гречневая рассыпчатая",150,{"v":3.09,"d":"3"},{"v":8.28,"d":"8"},21,193,"№312",10.82]
[{"$nulls":3},"гор.напиток","Чай с сахаром",215,{"v":0.084,"d":"0"},{"v":0.012,"d":"0"},9,40,"№376",{"v":1.115,"d":"1.12"}]
[{"$nulls":3},"хлеб","Хлеб ржаной (ржано-пшеничный)",30,1,{"v":0.2,"d":"0"},9,35,null,1.04]
[{"$nulls":3},"хлеб","Хлеб пшеничный ",20,{"v":2.28,"d":"2"},{"v":0.24,"d":"0"},{"v":14.76,"d":"15"},71,null,{"v":1.5,"d":"1.50"}]
[{"$nulls":3},"салат","Плоды и ягоды свежие",100,{"$nulls":4},"№338",{"v":19,"d":"19.00"}]
[{"$nulls":3},"фрукты"]
[]
[{"$nulls":3},"итого",null,{"$f":"SUM(F6:F13)","v":615},{"$f":"SUM(G6:G13)","v":17.974},{"$f":"SUM(H6:H13)","v":14.772},{"$f":"SUM(I6:I13)","v":75.54},{"$f":"SUM(J6:J13)","v":535},null,{"$f":"SUM(L6:L13)","v":76.735}]
[{"$f":"A6","v":1},{"$f":"B6","v":1},"Обед","закуска"]
[{"$nulls":3},"1 блюдо"]
[{"$nulls":3},"2 блюдо"]
[{"$nulls":3},"гарнир"]
[{"$nulls":3},"напиток"]
[{"$nulls":3},"хлеб бел."]
[{"$nulls":3},"хлеб черн."]
[]
[]
[{"$nulls":3},"итого",null,{"$f":"SUM(F15:F23)","v":0},{"$f":"SUM(G15:G23)","v":0},0,0,0,null,{"$f":"SUM(L15:L23)","v":0}]
[{"$f":"A6","v":1},{"$f":"B6","v":1},"Итого за день:",null,null,{"$f":"F14+F24","v":615},{"$f":"G14+G24","v":17.974},14.772,75.54,535,null,{"$f":"L14+L24","v":76.735}]
[1,2,"Завтрак","гор.блюдо","Плов из говядины",200,14,11,{"v":13.9,"d":"14"},224,"№ 289",51.95]
[{"$nulls":5},150,{"v":3.83,"d":"4"},{"v":5.43,"d":"5"},{"v":29.6,"d":"30"},210,"№304",6.97]
[{"$nulls":3},"гор.напиток","Какао с молоком",200,{"v":3.78,"d":"4"},{"v":0.012,"d":"0"},26,125,"№382",{"v":1.115,"d":"1.12"}]
[{"$nulls":3},"хлеб","Хлеб пшеничный ",30,71,{"v":2.28,"d":"2"},{"v":0.24,"d":"0"},14,null,2.04]
[{"$nulls":3},"хлеб","Хлеб ржаной (ржано-пшеничный)",20,35,1,{"v":0.2,"d":"0"},7,null,{"v":1.5,"d":"1.50"}]
[{"$nulls":3},"фрукты"]
[{"$nulls":3},"салат","Салат из свеклы отварной",60,{"v":0.8,"d":"1"},{"v":3.6,"d":"4"},{"v":11.5,"d":"12"},56,"№45",3.84]
[]
[{"$nulls":3},"итого",null,{"$f":"SUM(F26:F33)","v":660},{"$f":"SUM(G26:G33)","v":128.41},{"$f":"SUM(H26:H33)","v":23.322000000000003},{"$f":"SUM(I26:I33)","v":81.44},{"$f":"SUM(J26:J33)","v":636},null,{"$f":"SUM(L26:L33)","v":67.415}]
[{"$f":"A26","v":1},{"$f":"B26","v":2},"Завтрак 2","фрукты"]
[]
[]
[{"$nulls":3},"итого",null,{"$f":"SUM(F35:F37)","v":0},{"$f":"SUM(G35:G37)","v":0},{"$f":"SUM(H35:H37)","v":0},{"$f":"SUM(I35:I37)","v":0},{"$f":"SUM(J35:J37)","v":0},null,{"$f":"SUM(L35:L43)","v":0}]
[{"$f":"A26","v":1},{"$f":"B26","v":2},"Обед","закуска"]
[{"$nulls":3},"1 блюдо"]
[{"$nulls":3},"2 блюдо"]
[{"$nulls":3},"гарнир"]
[{"$nulls":3},"напиток"]
[{"$nulls":3},"хлеб бел."]
[{"$nulls":3},"хлеб черн."]
[]
[]
[{"$nulls":3},"итого",null,{"$f":"SUM(F39:F47)","v":0},{"$f":"SUM(G39:G47)","v":0},{"$f":"SUM(H39:H47)","v":0},{"$f":"SUM(I39:I47)","v":0},{"$f":"SUM(J39:J47)","v":0},null,{"$f":"SUM(L45:L53)","v":0}]
[{"$f":"A26","v":1},{"$f":"B26","v":2},"Полдник","булочное"]
[{"$nulls":3},"напиток"]
[]
[]
[{"$nulls":3},"итого",null,{"$f":"SUM(F49:F52)","v":0},{"$f":"SUM(G49:G52)","v":0},{"$f":"SUM(H49:H52)","v":0},{"$f":"SUM(I49:I52)","v":0},{"$f":"SUM(J49:J52)","v":0},null,{"$f":"SUM(L46:L52)","v":0}]
[{"$f":"A26","v":1},{"$f":"B26","v":2},"Ужин","гор.блюдо"]
[{"$nulls":3},"гарнир"]
[{"$nulls":3},"напиток"]
[{"$nulls":3},"хлеб"]
[]
[]
[{"$nulls":3},"итого",null,{"$f":"SUM(F54:F59)","v":0},{"$f":"SUM(G54:G59)","v":0},{"$f":"SUM(H54:H59)","v":0},{"$f":"SUM(I54:I59)","v":0},{"$f":"SUM(J54:J59)","v":0},null,{"$f":"SUM(L54:L62)","v":0}]
[{"$f":"A26","v":1},{"$f":"B26","v":2},"Ужин 2","кисломол."]
[{"$nulls":3},"булочное"]
[{"$nulls":3},"напиток"]
[{"$nulls":3},"фрукты"]
[]
[]
[{"$nulls":3},"итого",null,{"$f":"SUM(F61:F66)","v":0},{"$f":"SUM(G61:G66)","v":0},{"$f":"SUM(H61:H66)","v":0},{"$f":"SUM(I61:I66)","v":0},{"$f":"SUM(J61:J66)","v":0},null,{"$f":"SUM(L61:L69)","v":0}]
[{"$f":"A26","v":1},{"$f":"B26","v":2},"Итого за день:",null,null,{"$f":"F34+F38+F48+F53+F60+F67","v":660},{"$f":"G34+G38+G48+G53+G60+G67","v":128.41},{"$f":"H34+H38+H48+H53+H60+H67","v":23.322000000000003},{"$f":"I34+I38+I48+I53+I60+I67","v":81.44},{"$f":"J34+J38+J48+J53+J60+J67","v":636},null,{"$f":"L34+L38+L48+L53+L60+L67","v":0}]
[1,3,"Завтрак","гор.блюдо","Фрикодельки в соусе",120,{"v":8.33,"d":"8"},{"v":7.74,"d":"8"},{"v":3.19,"d":"3"},175,"№280",24.08]
[{"$nulls":3},"гарнир","Макаронные изделия с маслом",155,5,4,28,187,"№171",{"v":6.9,"d":"6.90"}]
[{"$nulls":3},"гор.напиток","Чай с лимоном","   200/15/7",{"v":0.084,"d":"0"},{"v":0.012,"d":"0"},15,62,"№377",4.26]
[{"$nulls":3},"хлеб","Хлеб пшеничный ",30,1,{"v":0.2,"d":"0"},7,35,null,2.04]
[{"$nulls":3},"хлеб","Хлеб ржаной (ржано-пшеничный)",20,{"v":0.084,"d":"0"},{"v":0.012,"d":"0"},15,62,null,{"v":1.5,"d":"1.50"}]
[{"$nulls":3},"фрукты","Плоды и ягоды свежие ",100,{"v":0.8,"d":"1"},{"v":0.8,"d":"1"},12,57,null,{"v":20,"d":"20.00"}]
[]
[]
[{"$nulls":3},"итого",null,{"$f":"SUM(F69:F76)","v":425},{"$f":"SUM(G69:G76)","v":15.298},{"$f":"SUM(H69:H76)","v":12.764000000000001},{"$f":"SUM(I69:I76)","v":80.19},{"$f":"SUM(J69:J76)","v":578},null,{"$f":"SUM(L69:L76)","v":58.779999999999994}]
[{"$f":"A69","v":1},{"$f":"B69","v":3},"Завтрак 2","фрукты"]
[]
[]
[{"$nulls":3},"итого",null,{"$f":"SUM(F78:F80)","v":0},{"$f":"SUM(G78:G80)","v":0},{"$f":"SUM(H78:H80)","v":0},{"$f":"SUM(I78:I80)","v":0},{"$f":"SUM(J78:J80)","v":0},null,{"$f":"SUM(L78:L86)","v":0}]
[{"$f":"A69","v":1},{"$f":"B69","v":3},"Обед","закуска"]
[{"$nulls":3},"1 блюдо"]
[{"$nulls":3},"2 блюдо"]
[{"$nulls":3},"гарнир"]
[{"$nulls":3},"напиток"]
[{"$nulls":3},"хлеб бел."]
[{"$nulls":3},"хлеб черн."]
[]
[]
[{"$nulls":3},"итого",null,{"$f":"SUM(F82:F90)","v":0},{"$f":"SUM(G82:G90)","v":0},{"$f":"SUM(H82:H90)","v":0},{"$f":"SUM(I82:I90)","v":0},{"$f":"SUM(J82:J90)","v":0},null,{"$f":"SUM(L88:L96)","v":0}]
[{"$f":"A69","v":1},{"$f":"B69","v":3},"Полдник","булочное"]
[{"$nulls":3},"напиток"]
[]
[]
[{"$nulls":3},"итого",null,{"$f":"SUM(F92:F95)","v":0},{"$f":"SUM(G92:G95)","v":0},{"$f":"SUM(H92:H95)","v":0},{"$f":"SUM(I92:I95)","v":0},{"$f":"SUM(J92:J95)","v":0},null,{"$f":"SUM(L89:L95)","v":0}]
[{"$f":"A69","v":1},{"$f":"B69","v":3},"Ужин","гор.блюдо"]
[{"$nulls":3},"гарнир"]
[{"$nulls":3},"напиток"]
[{"$nulls":3},"хлеб"]
[]
[]
[{"$nulls":3},"итого",null,{"$f":"SUM(F97:F102)","v":0},{"$f":"SUM(G97:G102)","v":0},{"$f":"SUM(H97:H102)","v":0},{"$f":"SUM(I97:I102)","v":0},{"$f":"SUM(J97:J102)","v":0},null,{"$f":"SUM(L97:L105)","v":0}]
[{"$f":"A69","v":1},{"$f":"B69","v":3},"Ужин 2","кисломол."]
[{"$nulls":3},"булочное"]
[{"$nulls":3},"напиток"]
[{"$nulls":3},"фрукты"]
[]
[]
[{"$nulls":3},"итого",null,{"$f":"SUM(F104:F109)","v":0},{"$f":"SUM(G104:G109)","v":0},{"$f":"SUM(H104:H109)","v":0},{"$f":"SUM(I104:I109)","v":0},{"$f":"SUM(J104:J109)","v":0},null,{"$f":"SUM(L104:L112)","v":0}]
[{"$f":"A69","v":1},{"$f":"B69","v":3},"Итого за день:",null,null,{"$f":"F77+F81+F91+F96+F103+F110","v":425},{"$f":"G77+G81+G91+G96+G103+G110","v":15.298},{"$f":"H77+H81+H91+H96+H103+H110","v":12.764000000000001},{"$f":"I77+I81+I91+I96+I103+I110","v":80.19},{"$f":"J77+J81+J91+J96+J103+J110","v":578},null,{"$f":"L77+L81+L91+L96+L103+L110","v":0}]
[1,4,"Завтрак","гор.блюдо","Котлеты рыбные",100,{"v":6.45,"d":"6"},4,7,116,"№ 338",34.29]
[{"$nulls":3},"гарнир","Пюре картофельное",150,3,8,22,172,"№295",{"v":22.5,"d":"22.50"}]
[{"$nulls":3},"гор.напиток","Чай с сахаром","200/15",{"v":0.084,"d":"0"},0,{"v":9.47,"d":"9"},40,"№291",5.63]
[{"$nulls":3},"хлеб","Хлеб пшеничный ",30,{"v":2.28,"d":"2"},{"v":0.24,"d":"0"},{"v":14.76,"d":"15"},71,null,2.04]
[{"$nulls":3},"хлеб","Хлеб ржаной (ржано-пшеничный)",20,1,{"v":0.2,"d":"0"},9,35,null,{"v":1.1,"d":"1.10"}]
[{"$nulls":3},"салат","Салат из свеклы отварной",60,{"v":0.8,"d":"1"},{"v":3.6,"d":"4"},{"v":11.5,"d":"12"},56,"№45",3.84]
[{"$nulls":3},"фрукты"]
[]
[]
[{"$nulls":3},"итого",null,{"$f":"SUM(F112:F120)","v":360},{"$f":"SUM(G112:G120)","v":13.613999999999999},{"$f":"SUM(H112:H120)","v":16.04},{"$f":"SUM(I112:I120)","v":73.72999999999999},{"$f":"SUM(J112:J120)","v":490},null,{"$f":"SUM(L112:L120)","v":69.4}]
[{"$f":"A112","v":1},{"$f":"B112","v":4},"Завтрак 2","фрукты"]
[]
[]
[{"$nulls":3},"итого",null,{"$f":"SUM(F122:F124)","v":0},{"$f":"SUM(G122:G124)","v":0},{"$f":"SUM(H122:H124)","v":0},{"$f":"SUM(I122:I124)","v":0},{"$f":"SUM(J122:J124)","v":0},null,{"$f":"SUM(L122:L130)","v":0}]
[{"$f":"A112","v":1},{"$f":"B112","v":4},"Обед","закуска"]
[{"$nulls":3},"1 блюдо"]
[{"$nulls":3},"2 блюдо"]
[{"$nulls":3},"гарнир"]
[{"$nulls":3},"напиток"]
[{"$nulls":3},"хлеб бел."]
[{"$nulls":3},"хлеб черн."]
[]
[]
[{"$nulls":3},"итого",null,{"$f":"SUM(F126:F134)","v":0},{"$f":"SUM(G126:G134)","v":0},{"$f":"SUM(H126:H134)","v":0},{"$f":"SUM(I126:I134)","v":0},{"$f":"SUM(J126:J134)","v":0},null,{"$f":"SUM(L132:L140)","v":0}]
[{"$f":"A112","v":1},{"$f":"B112","v":4},"Полдник","булочное"]
[{"$nulls":3},"напиток"]
[]
[]
[{"$nulls":3},"итого",null,{"$f":"SUM(F136:F139)","v":0},{"$f":"SUM(G136:G139)","v":0},{"$f":"SUM(H136:H139)","v":0},{"$f":"SUM(I136:I139)","v":0},{"$f":"SUM(J136:J139)","v":0},null,{"$f":"SUM(L133:L139)","v":0}]
[{"$f":"A112","v":1},{"$f":"B112","v":4},"Ужин","гор.блюдо"]
[{"$nulls":3},"гарнир"]
[{"$nulls":3},"напиток"]
[{"$nulls":3},"хлеб"]
[]
[]
[{"$nulls":3},"итого",null,{"$f":"SUM(F141:F146)","v":0},{"$f":"SUM(G141:G146)","v":0},{"$f":"SUM(H141:H146)","v":0},{"$f":"SUM(I141:I146)","v":0},{"$f":"SUM(J141:J146)","v":0},null,{"$f":"SUM(L141:L149)","v":0}]
[{"$f":"A112","v":1},{"$f":"B112","v":4},"Ужин 2","кисломол."]
[{"$nulls":3},"булочное"]
[{"$nulls":3},"напиток"]
[{"$nulls":3},"фрукты"]
[]
[]
[{"$nulls":3},"итого",null,{"$f":"SUM(F148:F153)","v":0},{"$f":"SUM(G148:G153)","v":0},{"$f":"SUM(H148:H153)","v":0},{"$f":"SUM(I148:I153)","v":0},{"$f":"SUM(J148:J153)","v":0},null,{"$f":"SUM(L148:L156)","v":0}]
[{"$f":"A112","v":1},{"$f":"B112","v":4},"Итого за день:",null,null,{"$f":"F121+F125+F135+F140+F147+F154","v":360},{"$f":"G121+G125+G135+G140+G147+G154","v":13.613999999999999},{"$f":"H121+H125+H135+H140+H147+H154","v":16.04},{"$f":"I121+I125+I135+I140+I147+I154","v":73.72999999999999},{"$f":"J121+J125+J135+J140+J147+J154","v":490},null,{"$f":"L121+L125+L135+L140+L147+L154","v":0}]
[1,5,"Завтрак","гор.блюдо","Котлеты из птицы",100,10,{"v":4.77,"d":"5"},19,159,"№ 338",41.16]
[{"$nulls":3},"гарнир","Рис отварной",150,{"v":3.09,"d":"3"},5,29,210,"№268",7.64]
[{"$nulls":3},"гор.напиток","Кофейный напиток",200,3,2,{"v":29.2,"d":"29"},155,"№378",6.09]
[{"$nulls":3},"хлеб","Хлеб пшеничный ",30,{"v":2.28,"d":"2"},{"v":0.24,"d":"0"},{"v":14.76,"d":"15"},71,null,2.04]
[{"$nulls":3},"хлеб","Хлеб ржаной (ржано-пшеничный)",20,1,{"v":0.2,"d":"0"},7,35,null,1.05]
[{"$nulls":3},"фрукты","Плоды и ягоды свежие",100,{"v":0.8,"d":"1"},{"v":0.8,"d":"1"},12,57,null,{"v":19,"d":"19.00"}]
[]
[]
[{"$nulls":3},"итого",null,{"$f":"SUM(F156:F163)","v":600},{"$f":"SUM(G156:G163)","v":20.17},{"$f":"SUM(H156:H163)","v":13.01},{"$f":"SUM(I156:I163)","v":110.96000000000001},{"$f":"SUM(J156:J163)","v":687},null,{"$f":"SUM(L156:L163)","v":76.97999999999999}]
[{"$f":"A156","v":1},{"$f":"B156","v":5},"Завтрак 2","фрукты"]
[]
[]
[{"$nulls":3},"итого",null,{"$f":"SUM(F165:F167)","v":0},{"$f":"SUM(G165:G167)","v":0},{"$f":"SUM(H165:H167)","v":0},{"$f":"SUM(I165:I167)","v":0},{"$f":"SUM(J165:J167)","v":0},null,{"$f":"SUM(L165:L173)","v":0}]
[{"$f":"A156","v":1},{"$f":"B156","v":5},"Обед","закуска"]
[{"$nulls":3},"1 блюдо"]
[{"$nulls":3},"2 блюдо"]
[{"$nulls":3},"гарнир"]
[{"$nulls":3},"напиток"]
[{"$nulls":3},"хлеб бел."]
[{"$nulls":3},"хлеб черн."]
[]
[]
[{"$nulls":3},"итого",null,{"$f":"SUM(F169:F177)","v":0},{"$f":"SUM(G169:G177)","v":0},{"$f":"SUM(H169:H177)","v":0},{"$f":"SUM(I169:I177)","v":0},{"$f":"SUM(J169:J177)","v":0},null,{"$f":"SUM(L175:L183)","v":0}]
[{"$f":"A156","v":1},{"$f":"B156","v":5},"Полдник","булочное"]
[{"$nulls":3},"напиток"]
[]
[]
[{"$nulls":3},"итого",null,{"$f":"SUM(F179:F182)","v":0},{"$f":"SUM(G179:G182)","v":0},{"$f":"SUM(H179:H182)","v":0},{"$f":"SUM(I179:I182)","v":0},{"$f":"SUM(J179:J182)","v":0},null,{"$f":"SUM(L176:L182)","v":0}]
[{"$f":"A156","v":1},{"$f":"B156","v":5},"Ужин","гор.блюдо"]
[{"$nulls":3},"гарнир"]
[{"$nulls":3},"напиток"]
[{"$nulls":3},"хлеб"]
[]
[]
[{"$nulls":3},"итого",null,{"$f":"SUM(F184:F189)","v":0},{"$f":"SUM(G184:G189)","v":0},{"$f":"SUM(H184:H189)","v":0},{"$f":"SUM(I184:I189)","v":0},{"$f":"SUM(J184:J189)","v":0},null,{"$f":"SUM(L184:L192)","v":0}]
[{"$f":"A156","v":1},{"$f":"B156","v":5},"Ужин 2","кисломол."]
[{"$nulls":3},"булочное"]
[{"$nulls":3},"напиток"]
[{"$nulls":3},"фрукты"]
[]
[]
[{"$nulls":3},"итого",null,{"$f":"SUM(F191:F196)","v":0},{"$f":"SUM(G191:G196)","v":0},{"$f":"SUM(H191:H196)","v":0},{"$f":"SUM(I191:I196)","v":0},{"$f":"SUM(J191:J196)","v":0},null,{"$f":"SUM(L191:L199)","v":0}]
[{"$f":"A156","v":1},{"$f":"B156","v":5},"Итого за день:",null,null,{"$f":"F164+F168+F178+F183+F190+F197","v":600},{"$f":"G164+G168+G178+G183+G190+G197","v":20.17},{"$f":"H164+H168+H178+H183+H190+H197","v":13.01},{"$f":"I164+I168+I178+I183+I190+I197","v":110.96000000000001},{"$f":"J164+J168+J178+J183+J190+J197","v":687},null,{"$f":"L164+L168+L178+L183+L190+L197","v":0}]
[1,6,"Завтрак","гор.блюдо","Рагу из птицы",200,12,17,29,313,"№338",38.45]
[]
[{"$nulls":3},"гор.напиток","Чай  сахаром",215,{"v":0.53,"d":"1"},0,{"v":9.47,"d":"9"},40,"№378",4.26]
[{"$nulls":3},"хлеб","Хлеб пшеничный ",30,{"v":2.28,"d":"2"},{"v":0.24,"d":"0"},{"v":14.76,"d":"15"},71,null,2.04]
[{"$nulls":3},"хлеб","Хлеб дарницкий",20,1,{"v":0.2,"d":"0"},7,35,null,{"v":1.5,"d":"1.50"}]
[{"$nulls":3},"фрукты","Плоды и ягоды свежие",100,1,1,10,47,null,12]
[]
[]
[{"$nulls":3},"итого",null,{"$f":"SUM(F199:F206)","v":565},{"$f":"SUM(G199:G206)","v":16.81},{"$f":"SUM(H199:H206)","v":18.439999999999998},{"$f":"SUM(I199:I206)","v":70.22999999999999},{"$f":"SUM(J199:J206)","v":506},null,{"$f":"SUM(L199:L206)","v":58.25}]
[{"$f":"A199","v":1},{"$f":"B199","v":6},"Завтрак 2","фрукты"]
[]
[]
[{"$nulls":3},"итого",null,{"$f":"SUM(F208:F210)","v":0},{"$f":"SUM(G208:G210)","v":0},{"$f":"SUM(H208:H210)","v":0},{"$f":"SUM(I208:I210)","v":0},{"$f":"SUM(J208:J210)","v":0},null,{"$f":"SUM(L208:L216)","v":0}]
[{"$f":"A199","v":1},{"$f":"B199","v":6},"Обед","закуска"]
[{"$nulls":3},"1 блюдо"]
[{"$nulls":3},"2 блюдо"]
[{"$nulls":3},"гарнир"]
[{"$nulls":3},"напиток"]
[{"$nulls":3},"хлеб бел."]
[{"$nulls":3},"хлеб черн."]
[]
[]
[{"$nulls":3},"итого",null,{"$f":"SUM(F212:F220)","v":0},{"$f":"SUM(G212:G220)","v":0},{"$f":"SUM(H212:H220)","v":0},{"$f":"SUM(I212:I220)","v":0},{"$f":"SUM(J212:J220)","v":0},null,{"$f":"SUM(L218:L226)","v":0}]
[{"$f":"A199","v":1},{"$f":"B199","v":6},"Полдник","булочное"]
[{"$nulls":3},"напиток"]
[]
[]
[{"$nulls":3},"итого",null,{"$f":"SUM(F222:F225)","v":0},{"$f":"SUM(G222:G225)","v":0},{"$f":"SUM(H222:H225)","v":0},{"$f":"SUM(I222:I225)","v":0},{"$f":"SUM(J222:J225)","v":0},null,{"$f":"SUM(L219:L225)","v":0}]
[{"$f":"A199","v":1},{"$f":"B199","v":6},"Ужин","гор.блюдо"]
[{"$nulls":3},"гарнир"]
[{"$nulls":3},"напиток"]
[{"$nulls":3},"хлеб"]
[]
[]
[{"$nulls":3},"итого",null,{"$f":"SUM(F227:F232)","v":0},{"$f":"SUM(G227:G232)","v":0},{"$f":"SUM(H227:H232)","v":0},{"$f":"SUM(I227:I232)","v":0},{"$f":"SUM(J227:J232)","v":0},null,{"$f":"SUM(L227:L235)","v":0}]
[{"$f":"A199","v":1},{"$f":"B199","v":6},"Ужин 2","кисломол."]
[{"$nulls":3},"булочное"]
[{"$nulls":3},"напиток"]
[{"$nulls":3},"фрукты"]
[]
[]
[{"$nulls":3},"итого",null,{"$f":"SUM(F234:F239)","v":0},{"$f":"SUM(G234:G239)","v":0},{"$f":"SUM(H234:H239)","v":0},{"$f":"SUM(I234:I239)","v":0},{"$f":"SUM(J234:J239)","v":0},null,{"$f":"SUM(L234:L242)","v":0}]
[{"$f":"A199","v":1},{"$f":"B199","v":6},"Итого за день:",null,null,{"$f":"F207+F211+F221+F226+F233+F240","v":565},{"$f":"G207+G211+G221+G226+G233+G240","v":16.81},{"$f":"H207+H211+H221+H226+H233+H240","v":18.439999999999998},{"$f":"I207+I211+I221+I226+I233+I240","v":70.22999999999999},{"$f":"J207+J211+J221+J226+J233+J240","v":506},null,{"$f":"L207+L211+L221+L226+L233+L240","v":0}]
[1,7,"Завтрак","гор.блюдо"]
[]
[{"$nulls":3},"гор.напиток"]
[{"$nulls":3},"хлеб"]
[{"$nulls":3},"фрукты"]
[]
[]
[{"$nulls":3},"итого",null,{"$f":"SUM(F242:F248)","v":0},{"$f":"SUM(G242:G248)","v":0},{"$f":"SUM(H242:H248)","v":0},{"$f":"SUM(I242:I248)","v":0},{"$f":"SUM(J242:J248)","v":0},null,{"$f":"SUM(L242:L248)","v":0}]
[{"$f":"A242","v":1},{"$f":"B242","v":7},"Завтрак 2","фрукты"]
[]
[]
[{"$nulls":3},"итого",null,{"$f":"SUM(F250:F252)","v":0},{"$f":"SUM(G250:G252)","v":0},{"$f":"SUM(H250:H252)","v":0},{"$f":"SUM(I250:I252)","v":0},{"$f":"SUM(J250:J252)","v":0},null,{"$f":"SUM(L250:L258)","v":0}]
[{"$f":"A242","v":1},{"$f":"B242","v":7},"Обед","закуска"]
[{"$nulls":3},"1 блюдо"]
[{"$nulls":3},"2 блюдо"]
[{"$nulls":3},"гарнир"]
[{"$nulls":3},"напиток"]
[{"$nulls":3},"хлеб бел."]
[{"$nulls":3},"хлеб черн."]
[]
[]
[{"$nulls":3},"итого",null,{"$f":"SUM(F254:F262)","v":0},{"$f":"SUM(G254:G262)","v":0},{"$f":"SUM(H254:H262)","v":0},{"$f":"SUM(I254:I262)","v":0},{"$f":"SUM(J254:J262)","v":0},null,{"$f":"SUM(L260:L268)","v":0}]
[{"$f":"A242","v":1},{"$f":"B242","v":7},"Полдник","булочное"]
[{"$nulls":3},"напиток"]
[]
[]
[{"$nulls":3},"итого",null,{"$f":"SUM(F264:F267)","v":0},{"$f":"SUM(G264:G267)","v":0},{"$f":"SUM(H264:H267)","v":0},{"$f":"SUM(I264:I267)","v":0},{"$f":"SUM(J264:J267)","v":0},null,{"$f":"SUM(L261:L267)","v":0}]
[{"$f":"A242","v":1},{"$f":"B242","v":7},"Ужин","гор.блюдо"]
[{"$nulls":3},"гарнир"]
[{"$nulls":3},"напиток"]
[{"$nulls":3},"хлеб"]
[]
[]
[{"$nulls":3},"итого",null,{"$f":"SUM(F269:F274)","v":0},{"$f":"SUM(G269:G274)","v":0},{"$f":"SUM(H269:H274)","v":0},{"$f":"SUM(I269:I274)","v":0},{"$f":"SUM(J269:J274)","v":0},null,{"$f":"SUM(L269:L277)","v":0}]
[{"$f":"A242","v":1},{"$f":"B242","v":7},"Ужин 2","кисломол."]
[{"$nulls":3},"булочное"]
[{"$nulls":3},"напиток"]
[{"$nulls":3},"фрукты"]
[]
[]
[{"$nulls":3},"итого",null,{"$f":"SUM(F276:F281)","v":0},{"$f":"SUM(G276:G281)","v":0},{"$f":"SUM(H276:H281)","v":0},{"$f":"SUM(I276:I281)","v":0},{"$f":"SUM(J276:J281)","v":0},null,{"$f":"SUM(L276:L284)","v":0}]
[{"$f":"A242","v":1},{"$f":"B242","v":7},"Итого за день:",null,null,{"$f":"F249+F253+F263+F268+F275+F282","v":0},{"$f":"G249+G253+G263+G268+G275+G282","v":0},{"$f":"H249+H253+H263+H268+H275+H282","v":0},{"$f":"I249+I253+I263+I268+I275+I282","v":0},{"$f":"J249+J253+J263+J268+J275+J282","v":0},null,{"$f":"L249+L253+L263+L268+L275+L282","v":0}]
[2,1,"Завтрак","гор.блюдо","Гуляш из говядины",100,{"v":11.65,"d":"12"},{"v":10.75,"d":"11"},{"v":11.63,"d":"12"},164,"№266 ",30.48]
[{"$nulls":3},"гарнир","Пюре картофельное",150,3,8,22,172,"№295",{"v":11,"d":"11.00"}]
[{"$nulls":3},"гор.напиток","Чай  сахаром",215,{"v":0.53,"d":"1"},0,{"v":9.47,"d":"9"},40,"№378",4.26]
[{"$nulls":3},"хлеб","Хлеб пшеничный ",30,{"v":2.28,"d":"2"},{"v":0.24,"d":"0"},{"v":14.76,"d":"15"},71,null,2.04]
[{"$nulls":3},"хлеб","Хлеб ржаной (ржано-пшеничный)",20,1,{"v":0.2,"d":"0"},7,35,null,1.05]
[{"$nulls":3},"фрукты","Плоды и ягоды свежие",100,{"v":0.8,"d":"1"},{"v":0.8,"d":"1"},12,57,null,22]
[]
[]
[{"$nulls":3},"итого",null,{"$f":"SUM(F284:F291)","v":615},{"$f":"SUM(G284:G291)","v":19.26},{"$f":"SUM(H284:H291)","v":19.99},{"$f":"SUM(I284:I291)","v":76.86},{"$f":"SUM(J284:J291)","v":539},null,{"$f":"SUM(L284:L291)","v":70.83}]
[{"$f":"A284","v":2},{"$f":"B284","v":1},"Завтрак 2","фрукты"]
[]
[]
[{"$nulls":3},"итого",null,{"$f":"SUM(F293:F295)","v":0},{"$f":"SUM(G293:G295)","v":0},{"$f":"SUM(H293:H295)","v":0},{"$f":"SUM(I293:I295)","v":0},{"$f":"SUM(J293:J295)","v":0},null,{"$f":"SUM(L293:L301)","v":0}]
[{"$f":"A284","v":2},{"$f":"B284","v":1},"Обед","закуска"]
[{"$nulls":3},"1 блюдо"]
[{"$nulls":3},"2 блюдо"]
[{"$nulls":3},"гарнир"]
[{"$nulls":3},"напиток"]
[{"$nulls":3},"хлеб бел."]
[{"$nulls":3},"хлеб черн."]
[]
[]
[{"$nulls":3},"итого",null,{"$f":"SUM(F297:F305)","v":0},{"$f":"SUM(G297:G305)","v":0},{"$f":"SUM(H297:H305)","v":0},{"$f":"SUM(I297:I305)","v":0},{"$f":"SUM(J297:J305)","v":0},null,{"$f":"SUM(L303:L311)","v":0}]
[{"$f":"A284","v":2},{"$f":"B284","v":1},"Полдник","булочное"]
[{"$nulls":3},"напиток"]
[]
[]
[{"$nulls":3},"итого",null,{"$f":"SUM(F307:F310)","v":0},{"$f":"SUM(G307:G310)","v":0},{"$f":"SUM(H307:H310)","v":0},{"$f":"SUM(I307:I310)","v":0},{"$f":"SUM(J307:J310)","v":0},null,{"$f":"SUM(L304:L310)","v":0}]
[{"$f":"A284","v":2},{"$f":"B284","v":1},"Ужин","гор.блюдо"]
[{"$nulls":3},"гарнир"]
[{"$nulls":3},"напиток"]
[{"$nulls":3},"хлеб"]
[]
[]
[{"$nulls":3},"итого",null,{"$f":"SUM(F312:F317)","v":0},{"$f":"SUM(G312:G317)","v":0},{"$f":"SUM(H312:H317)","v":0},{"$f":"SUM(I312:I317)","v":0},{"$f":"SUM(J312:J317)","v":0},null,{"$f":"SUM(L312:L320)","v":0}]
[{"$f":"A284","v":2},{"$f":"B284","v":1},"Ужин 2","кисломол."]
[{"$nulls":3},"булочное"]
[{"$nulls":3},"напиток"]
[{"$nulls":3},"фрукты"]
[]
[]
[{"$nulls":3},"итого",null,{"$f":"SUM(F319:F324)","v":0},{"$f":"SUM(G319:G324)","v":0},{"$f":"SUM(H319:H324)","v":0},{"$f":"SUM(I319:I324)","v":0},{"$f":"SUM(J319:J324)","v":0},null,{"$f":"SUM(L319:L327)","v":0}]
[{"$f":"A284","v":2},{"$f":"B284","v":1},"Итого за день:",null,null,{"$f":"F292+F296+F306+F311+F318+F325","v":615},{"$f":"G292+G296+G306+G311+G318+G325","v":19.26},{"$f":"H292+H296+H306+H311+H318+H325","v":19.99},{"$f":"I292+I296+I306+I311+I318+I325","v":76.86},{"$f":"J292+J296+J306+J311+J318+J325","v":539},null,{"$f":"L292+L296+L306+L311+L318+L325","v":0}]
[2,2,"Завтрак","гор.блюдо","Плов из птицы",205,14,11,13,214,"№289",47.47]
[]
[{"$nulls":3},"гор.напиток","Какао с молоком",200,3,{"v":1.35,"d":"1"},26,125,"№382",7.62]
[{"$nulls":3},"хлеб","Хлеб пшеничный ",30,{"v":2.28,"d":"2"},{"v":0.24,"d":"0"},{"v":14.76,"d":"15"},71,null,2.04]
[{"$nulls":3},"хлеб","Хлеб ржаной (ржано-пшеничный)",20,1,{"v":0.2,"d":"0"},7,35,null,1.05]
[{"$nulls":3},"салат","Салат из свеклы отварной",60,{"v":0.8,"d":"1"},{"v":3.6,"d":"4"},{"v":11.5,"d":"12"},56,"№45",3.84]
[{"$nulls":3},"фрукты"]
[]
[]
[{"$nulls":3},"итого",null,{"$f":"SUM(F327:F335)","v":515},{"$f":"SUM(G327:G335)","v":21.080000000000002},{"$f":"SUM(H327:H335)","v":16.39},{"$f":"SUM(I327:I335)","v":72.25999999999999},{"$f":"SUM(J327:J335)","v":501},null,{"$f":"SUM(L327:L335)","v":62.019999999999996}]
[{"$f":"A327","v":2},{"$f":"B327","v":2},"Завтрак 2","фрукты"]
[]
[]
[{"$nulls":3},"итого",null,{"$f":"SUM(F337:F339)","v":0},{"$f":"SUM(G337:G339)","v":0},{"$f":"SUM(H337:H339)","v":0},{"$f":"SUM(I337:I339)","v":0},{"$f":"SUM(J337:J339)","v":0},null,{"$f":"SUM(L337:L345)","v":0}]
[{"$f":"A327","v":2},{"$f":"B327","v":2},"Обед","закуска"]
[{"$nulls":3},"1 блюдо"]
[{"$nulls":3},"2 блюдо"]
[{"$nulls":3},"гарнир"]
[{"$nulls":3},"напиток"]
[{"$nulls":3},"хлеб бел."]
[{"$nulls":3},"хлеб черн."]
[]
[]
[{"$nulls":3},"итого",null,{"$f":"SUM(F341:F349)","v":0},{"$f":"SUM(G341:G349)","v":0},{"$f":"SUM(H341:H349)","v":0},{"$f":"SUM(I341:I349)","v":0},{"$f":"SUM(J341:J349)","v":0},null,{"$f":"SUM(L347:L355)","v":0}]
[{"$f":"A327","v":2},{"$f":"B327","v":2},"Полдник","булочное"]
[{"$nulls":3},"напиток"]
[]
[]
[{"$nulls":3},"итого",null,{"$f":"SUM(F351:F354)","v":0},{"$f":"SUM(G351:G354)","v":0},{"$f":"SUM(H351:H354)","v":0},{"$f":"SUM(I351:I354)","v":0},{"$f":"SUM(J351:J354)","v":0},null,{"$f":"SUM(L348:L354)","v":0}]
[{"$f":"A327","v":2},{"$f":"B327","v":2},"Ужин","гор.блюдо"]
[{"$nulls":3},"гарнир"]
[{"$nulls":3},"напиток"]
[{"$nulls":3},"хлеб"]
[]
[]
[{"$nulls":3},"итого",null,{"$f":"SUM(F356:F361)","v":0},{"$f":"SUM(G356:G361)","v":0},{"$f":"SUM(H356:H361)","v":0},{"$f":"SUM(I356:I361)","v":0},{"$f":"SUM(J356:J361)","v":0},null,{"$f":"SUM(L356:L364)","v":0}]
[{"$f":"A327","v":2},{"$f":"B327","v":2},"Ужин 2","кисломол."]
[{"$nulls":3},"булочное"]
[{"$nulls":3},"напиток"]
[{"$nulls":3},"фрукты"]
[]
[]
[{"$nulls":3},"итого",null,{"$f":"SUM(F363:F368)","v":0},{"$f":"SUM(G363:G368)","v":0},{"$f":"SUM(H363:H368)","v":0},{"$f":"SUM(I363:I368)","v":0},{"$f":"SUM(J363:J368)","v":0},null,{"$f":"SUM(L363:L371)","v":0}]
[{"$f":"A327","v":2},{"$f":"B327","v":2},"Итого за день:",null,null,{"$f":"F336+F340+F350+F355+F362+F369","v":515},{"$f":"G336+G340+G350+G355+G362+G369","v":21.080000000000002},{"$f":"H336+H340+H350+H355+H362+H369","v":16.39},{"$f":"I336+I340+I350+I355+I362+I369","v":72.25999999999999},{"$f":"J336+J340+J350+J355+J362+J369","v":501},null,{"$f":"L336+L340+L350+L355+L362+L369","v":0}]
[2,3,"Завтрак","гор.блюдо","Котлеты рыбные",100,6,4,7,116,null,48.12]
[{"$nulls":3},"гарнир","Каша гречневая рассыпчатая с маслом",150,3,7,{"v":28.5,"d":"29"},193,null,{"v":7.8,"d":"7.80"}]
[{"$nulls":3},"гор.напиток","Чай с лимоном",200,{"v":0.084,"d":"0"},{"v":0.012,"d":"0"},15,62,"№377",4.26]
[{"$nulls":3},"хлеб","Хлеб пшеничный ",30,{"v":2.28,"d":"2"},{"v":0.24,"d":"0"},{"v":14.76,"d":"15"},71,null,2.04]
[{"$nulls":3},"хлеб","Хлеб ржаной (ржано-пшеничный)",20,1,{"v":0.2,"d":"0"},7,35,null,1.05]
[{"$nulls":3},"фрукты","Плоды и ягоды свежие",100,{"v":0.8,"d":"1"},{"v":0.8,"d":"1"},8,80,null,12]
[]
[]
[{"$nulls":3},"итого",null,{"$f":"SUM(F371:F378)","v":600},{"$f":"SUM(G371:G378)","v":13.164},{"$f":"SUM(H371:H378)","v":12.252},{"$f":"SUM(I371:I378)","v":80.26},{"$f":"SUM(J371:J378)","v":557},null,{"$f":"SUM(L371:L378)","v":75.26999999999998}]
[{"$f":"A371","v":2},{"$f":"B371","v":3},"Завтрак 2","фрукты"]
[]
[]
[{"$nulls":3},"итого",null,{"$f":"SUM(F380:F382)","v":0},{"$f":"SUM(G380:G382)","v":0},{"$f":"SUM(H380:H382)","v":0},{"$f":"SUM(I380:I382)","v":0},{"$f":"SUM(J380:J382)","v":0},null,{"$f":"SUM(L380:L388)","v":0}]
[{"$f":"A371","v":2},{"$f":"B371","v":3},"Обед","закуска"]
[{"$nulls":3},"1 блюдо"]
[{"$nulls":3},"2 блюдо"]
[{"$nulls":3},"гарнир"]
[{"$nulls":3},"напиток"]
[{"$nulls":3},"хлеб бел."]
[{"$nulls":3},"хлеб черн."]
[]
[]
[{"$nulls":3},"итого",null,{"$f":"SUM(F384:F392)","v":0},{"$f":"SUM(G384:G392)","v":0},{"$f":"SUM(H384:H392)","v":0},{"$f":"SUM(I384:I392)","v":0},{"$f":"SUM(J384:J392)","v":0},null,{"$f":"SUM(L390:L398)","v":0}]
[{"$f":"A371","v":2},{"$f":"B371","v":3},"Полдник","булочное"]
[{"$nulls":3},"напиток"]
[]
[]
[{"$nulls":3},"итого",null,{"$f":"SUM(F394:F397)","v":0},{"$f":"SUM(G394:G397)","v":0},{"$f":"SUM(H394:H397)","v":0},{"$f":"SUM(I394:I397)","v":0},{"$f":"SUM(J394:J397)","v":0},null,{"$f":"SUM(L391:L397)","v":0}]
[{"$f":"A371","v":2},{"$f":"B371","v":3},"Ужин","гор.блюдо"]
[{"$nulls":3},"гарнир"]
[{"$nulls":3},"напиток"]
[{"$nulls":3},"хлеб"]
[]
[]
[{"$nulls":3},"итого",null,{"$f":"SUM(F399:F404)","v":0},{"$f":"SUM(G399:G404)","v":0},{"$f":"SUM(H399:H404)","v":0},{"$f":"SUM(I399:I404)","v":0},{"$f":"SUM(J399:J404)","v":0},null,{"$f":"SUM(L399:L407)","v":0}]
[{"$f":"A371","v":2},{"$f":"B371","v":3},"Ужин 2","кисломол."]
[{"$nulls":3},"булочное"]
[{"$nulls":3},"напиток"]
[{"$nulls":3},"фрукты"]
[]
[]
[{"$nulls":3},"итого",null,{"$f":"SUM(F406:F411)","v":0},{"$f":"SUM(G406:G411)","v":0},{"$f":"SUM(H406:H411)","v":0},{"$f":"SUM(I406:I411)","v":0},{"$f":"SUM(J406:J411)","v":0},null,{"$f":"SUM(L406:L414)","v":0}]
[{"$f":"A371","v":2},{"$f":"B371","v":3},"Итого за день:",null,null,{"$f":"F379+F383+F393+F398+F405+F412","v":600},{"$f":"G379+G383+G393+G398+G405+G412","v":13.164},{"$f":"H379+H383+H393+H398+H405+H412","v":12.252},{"$f":"I379+I383+I393+I398+I405+I412","v":80.26},{"$f":"J379+J383+J393+J398+J405+J412","v":557},null,{"$f":"L379+L383+L393+L398+L405+L412","v":0}]
[2,4,"Завтрак","гор.блюдо","Фрикадельки в соусе из говядины",70,8,7,{"v":3.18,"d":"3"},175,null,{"v":38.6,"d":"38.60"}]
[{"$nulls":3},"гарнир","Макаронные изделия отварные с маслом",200,5,4,28,187,null,{"v":12.5,"d":"12.50"}]
[{"$nulls":3},"гор.напиток","Кофейный напиток с молоком",200,3,2,29,155,null,4.95]
[{"$nulls":3},"хлеб","Хлеб пшеничный ",30,{"v":2.28,"d":"2"},{"v":0.24,"d":"0"},{"v":14.76,"d":"15"},71,null,2.04]
[{"$nulls":3},"хлеб","Хлеб ржаной (ржано-пшеничный)",20,1,{"v":0.2,"d":"0"},9,44,null,{"v":1.5,"d":"1.50"}]
[{"$nulls":3},"салат","Свекла отварная порциями",60,1,3,12,56,null,3.94]
[{"$nulls":3},"фрукты","Плоды и ягоды свежие",100,1,1,12,57,null,11]
[]
[]
[{"$nulls":3},"итого",null,{"$f":"SUM(F414:F422)","v":680},{"$f":"SUM(G414:G422)","v":21.28},{"$f":"SUM(H414:H422)","v":17.439999999999998},{"$f":"SUM(I414:I422)","v":107.94},{"$f":"SUM(J414:J422)","v":745},null,{"$f":"SUM(L414:L422)","v":74.53}]
[{"$f":"A414","v":2},{"$f":"B414","v":4},"Завтрак 2","фрукты"]
[]
[]
[{"$nulls":3},"итого",null,{"$f":"SUM(F424:F426)","v":0},{"$f":"SUM(G424:G426)","v":0},{"$f":"SUM(H424:H426)","v":0},{"$f":"SUM(I424:I426)","v":0},{"$f":"SUM(J424:J426)","v":0},null,{"$f":"SUM(L424:L432)","v":0}]
[{"$f":"A414","v":2},{"$f":"B414","v":4},"Обед","закуска"]
[{"$nulls":3},"1 блюдо"]
[{"$nulls":3},"2 блюдо"]
[{"$nulls":3},"гарнир"]
[{"$nulls":3},"напиток"]
[{"$nulls":3},"хлеб бел."]
[{"$nulls":3},"хлеб черн."]
[]
[]
[{"$nulls":3},"итого",null,{"$f":"SUM(F428:F436)","v":0},{"$f":"SUM(G428:G436)","v":0},{"$f":"SUM(H428:H436)","v":0},{"$f":"SUM(I428:I436)","v":0},{"$f":"SUM(J428:J436)","v":0},null,{"$f":"SUM(L434:L442)","v":0}]
[{"$f":"A414","v":2},{"$f":"B414","v":4},"Полдник","булочное"]
[{"$nulls":3},"напиток"]
[]
[]
[{"$nulls":3},"итого",null,{"$f":"SUM(F438:F441)","v":0},{"$f":"SUM(G438:G441)","v":0},{"$f":"SUM(H438:H441)","v":0},{"$f":"SUM(I438:I441)","v":0},{"$f":"SUM(J438:J441)","v":0},null,{"$f":"SUM(L435:L441)","v":0}]
[{"$f":"A414","v":2},{"$f":"B414","v":4},"Ужин","гор.блюдо"]
[{"$nulls":3},"гарнир"]
[{"$nulls":3},"напиток"]
[{"$nulls":3},"хлеб"]
[]
[]
[{"$nulls":3},"итого",null,{"$f":"SUM(F443:F448)","v":0},{"$f":"SUM(G443:G448)","v":0},{"$f":"SUM(H443:H448)","v":0},{"$f":"SUM(I443:I448)","v":0},{"$f":"SUM(J443:J448)","v":0},null,{"$f":"SUM(L443:L451)","v":0}]
[{"$f":"A414","v":2},{"$f":"B414","v":4},"Ужин 2","кисломол."]
[{"$nulls":3},"булочное"]
[{"$nulls":3},"напиток"]
[{"$nulls":3},"фрукты"]
[]
[]
[{"$nulls":3},"итого",null,{"$f":"SUM(F450:F455)","v":0},{"$f":"SUM(G450:G455)","v":0},{"$f":"SUM(H450:H455)","v":0},{"$f":"SUM(I450:I455)","v":0},{"$f":"SUM(J450:J455)","v":0},null,{"$f":"SUM(L450:L458)","v":0}]
[{"$f":"A414","v":2},{"$f":"B414","v":4},"Итого за день:",null,null,{"$f":"F423+F427+F437+F442+F449+F456","v":680},{"$f":"G423+G427+G437+G442+G449+G456","v":21.28},{"$f":"H423+H427+H437+H442+H449+H456","v":17.439999999999998},{"$f":"I423+I427+I437+I442+I449+I456","v":107.94},{"$f":"J423+J427+J437+J442+J449+J456","v":745},null,{"$f":"L423+L427+L437+L442+L449+L456","v":0}]
[2,5,"Завтрак","гор.блюдо","Котлеты рубленные из птицы",100,10,5,19,159,null,48.89]
[{"$nulls":3},"гарнир","Рис отварной",150,{"v":3.09,"d":"3"},5,29,210,null,10.64]
[{"$nulls":3},"гор.напиток","Какао с  молоком",200,3,{"v":0.6,"d":"1"},26,125,null,{"v":5.7,"d":"5.70"}]
[{"$nulls":3},"хлеб","Хлеб пшеничный ",30,{"v":2.28,"d":"2"},{"v":0.24,"d":"0"},{"v":14.76,"d":"15"},71,null,2.04]
[{"$nulls":3},"хлеб","Хлеб ржаной (ржано-пшеничный)",20,1,{"v":0.2,"d":"0"},7,35,null,{"v":1.1,"d":"1.10"}]
[{"$nulls":3},"фрукты","Плоды и ягоды свежие",100,2,{"v":0.8,"d":"1"},31,144,null,12]
[]
[]
[{"$nulls":3},"итого",null,{"$f":"SUM(F458:F465)","v":600},{"$f":"SUM(G458:G465)","v":21.37},{"$f":"SUM(H458:H465)","v":11.84},{"$f":"SUM(I458:I465)","v":126.76},{"$f":"SUM(J458:J465)","v":744},null,{"$f":"SUM(L458:L465)","v":80.37}]
[{"$f":"A458","v":2},{"$f":"B458","v":5},"Завтрак 2","фрукты"]
[]
[]
[{"$nulls":3},"итого",null,{"$f":"SUM(F467:F469)","v":0},{"$f":"SUM(G467:G469)","v":0},{"$f":"SUM(H467:H469)","v":0},{"$f":"SUM(I467:I469)","v":0},{"$f":"SUM(J467:J469)","v":0},null,{"$f":"SUM(L467:L475)","v":0}]
[{"$f":"A458","v":2},{"$f":"B458","v":5},"Обед","закуска"]
[{"$nulls":3},"1 блюдо"]
[{"$nulls":3},"2 блюдо"]
[{"$nulls":3},"гарнир"]
[{"$nulls":3},"напиток"]
[{"$nulls":3},"хлеб бел."]
[{"$nulls":3},"хлеб черн."]
[]
[]
[{"$nulls":3},"итого",null,{"$f":"SUM(F471:F479)","v":0},{"$f":"SUM(G471:G479)","v":0},{"$f":"SUM(H471:H479)","v":0},{"$f":"SUM(I471:I479)","v":0},{"$f":"SUM(J471:J479)","v":0},null,{"$f":"SUM(L477:L485)","v":0}]
[{"$f":"A458","v":2},{"$f":"B458","v":5},"Полдник","булочное"]
[{"$nulls":3},"напиток"]
[]
[]
[{"$nulls":3},"итого",null,{"$f":"SUM(F481:F484)","v":0},{"$f":"SUM(G481:G484)","v":0},{"$f":"SUM(H481:H484)","v":0},{"$f":"SUM(I481:I484)","v":0},{"$f":"SUM(J481:J484)","v":0},null,{"$f":"SUM(L478:L484)","v":0}]
[{"$f":"A458","v":2},{"$f":"B458","v":5},"Ужин","гор.блюдо"]
[{"$nulls":3},"гарнир"]
[{"$nulls":3},"напиток"]
[{"$nulls":3},"хлеб"]
[]
[]
[{"$nulls":3},"итого",null,{"$f":"SUM(F486:F491)","v":0},{"$f":"SUM(G486:G491)","v":0},{"$f":"SUM(H486:H491)","v":0},{"$f":"SUM(I486:I491)","v":0},{"$f":"SUM(J486:J491)","v":0},null,{"$f":"SUM(L486:L494)","v":0}]
[{"$f":"A458","v":2},{"$f":"B458","v":5},"Ужин 2","кисломол."]
[{"$nulls":3},"булочное"]
[{"$nulls":3},"напиток"]
[{"$nulls":3},"фрукты"]
[]
[]
[{"$nulls":3},"итого",null,{"$f":"SUM(F493:F498)","v":0},{"$f":"SUM(G493:G498)","v":0},{"$f":"SUM(H493:H498)","v":0},{"$f":"SUM(I493:I498)","v":0},{"$f":"SUM(J493:J498)","v":0},null,{"$f":"SUM(L493:L501)","v":0}]
[{"$f":"A458","v":2},{"$f":"B458","v":5},"Итого за день:",null,null,{"$f":"F466+F470+F480+F485+F492+F499","v":600},{"$f":"G466+G470+G480+G485+G492+G499","v":21.37},{"$f":"H466+H470+H480+H485+H492+H499","v":11.84},{"$f":"I466+I470+I480+I485+I492+I499","v":126.76},{"$f":"J466+J470+J480+J485+J492+J499","v":744},null,{"$f":"L466+L470+L480+L485+L492+L499","v":0}]
[2,6,"Завтрак","гор.блюдо","Рагу из говядины",200,14,14,28,365,null,48.67]
[]
[{"$nulls":3},"гор.напиток","Какао с молоком",200,3,0,26,125,null,{"v":7.8,"d":"7.80"}]
[{"$nulls":3},"хлеб","Хлеб пшеничный ",30,{"v":2.28,"d":"2"},{"v":0.24,"d":"0"},{"v":14.76,"d":"15"},71,null,2.04]
[{"$nulls":3},"хлеб","Хлеб дарницкий",20,1,{"v":0.2,"d":"0"},7,35,null,{"v":1.5,"d":"1.50"}]
[{"$nulls":3},"фрукты","Плоды и ягоды свежие",100,{"v":0.8,"d":"1"},{"v":0.8,"d":"1"},10,47,null,{"v":12,"d":"12.00"}]
[]
[]
[{"$nulls":3},"итого",null,{"$f":"SUM(F501:F508)","v":550},{"$f":"SUM(G501:G508)","v":21.080000000000002},{"$f":"SUM(H501:H508)","v":15.24},{"$f":"SUM(I501:I508)","v":85.76},{"$f":"SUM(J501:J508)","v":643},null,{"$f":"SUM(L501:L508)","v":72.00999999999999}]
[{"$f":"A501","v":2},{"$f":"B501","v":6},"Завтрак 2","фрукты"]
[]
[]
[{"$nulls":3},"итого",null,{"$f":"SUM(F510:F512)","v":0},{"$f":"SUM(G510:G512)","v":0},{"$f":"SUM(H510:H512)","v":0},{"$f":"SUM(I510:I512)","v":0},{"$f":"SUM(J510:J512)","v":0},null,{"$f":"SUM(L510:L518)","v":0}]
[{"$f":"A501","v":2},{"$f":"B501","v":6},"Обед","закуска"]
[{"$nulls":3},"1 блюдо"]
[{"$nulls":3},"2 блюдо"]
[{"$nulls":3},"гарнир"]
[{"$nulls":3},"напиток"]
[{"$nulls":3},"хлеб бел."]
[{"$nulls":3},"хлеб черн."]
[]
[]
[{"$nulls":3},"итого",null,{"$f":"SUM(F514:F522)","v":0},{"$f":"SUM(G514:G522)","v":0},{"$f":"SUM(H514:H522)","v":0},{"$f":"SUM(I514:I522)","v":0},{"$f":"SUM(J514:J522)","v":0},null,{"$f":"SUM(L520:L528)","v":0}]
[{"$f":"A501","v":2},{"$f":"B501","v":6},"Полдник","булочное"]
[{"$nulls":3},"напиток"]
[]
[]
[{"$nulls":3},"итого",null,{"$f":"SUM(F524:F527)","v":0},{"$f":"SUM(G524:G527)","v":0},{"$f":"SUM(H524:H527)","v":0},{"$f":"SUM(I524:I527)","v":0},{"$f":"SUM(J524:J527)","v":0},null,{"$f":"SUM(L521:L527)","v":0}]
[{"$f":"A501","v":2},{"$f":"B501","v":6},"Ужин","гор.блюдо"]
[{"$nulls":3},"гарнир"]
[{"$nulls":3},"напиток"]
[{"$nulls":3},"хлеб"]
[]
[]
[{"$nulls":3},"итого",null,{"$f":"SUM(F529:F534)","v":0},{"$f":"SUM(G529:G534)","v":0},{"$f":"SUM(H529:H534)","v":0},{"$f":"SUM(I529:I534)","v":0},{"$f":"SUM(J529:J534)","v":0},null,{"$f":"SUM(L529:L537)","v":0}]
[{"$f":"A501","v":2},{"$f":"B501","v":6},"Ужин 2","кисломол."]
[{"$nulls":3},"булочное"]
[{"$nulls":3},"напиток"]
[{"$nulls":3},"фрукты"]
[]
[]
[{"$nulls":3},"итого",null,{"$f":"SUM(F536:F541)","v":0},{"$f":"SUM(G536:G541)","v":0},{"$f":"SUM(H536:H541)","v":0},{"$f":"SUM(I536:I541)","v":0},{"$f":"SUM(J536:J541)","v":0},null,{"$f":"SUM(L536:L544)","v":0}]
[{"$f":"A501","v":2},{"$f":"B501","v":6},"Итого за день:",null,null,{"$f":"F509+F513+F523+F528+F535+F542","v":550},{"$f":"G509+G513+G523+G528+G535+G542","v":21.080000000000002},{"$f":"H509+H513+H523+H528+H535+H542","v":15.24},{"$f":"I509+I513+I523+I528+I535+I542","v":85.76},{"$f":"J509+J513+J523+J528+J535+J542","v":643},null,{"$f":"L509+L513+L523+L528+L535+L542","v":0}]
[2,7,"Завтрак","гор.блюдо"]
[]
[{"$nulls":3},"гор.напиток"]
[{"$nulls":3},"хлеб"]
[{"$nulls":3},"фрукты"]
[]
[]
[{"$nulls":3},"итого",null,{"$f":"SUM(F544:F550)","v":0},{"$f":"SUM(G544:G550)","v":0},{"$f":"SUM(H544:H550)","v":0},{"$f":"SUM(I544:I550)","v":0},{"$f":"SUM(J544:J550)","v":0},null,{"$f":"SUM(L544:L550)","v":0}]
[{"$f":"A544","v":2},{"$f":"B544","v":7},"Завтрак 2","фрукты"]
[]
[]
[{"$nulls":3},"итого",null,{"$f":"SUM(F552:F554)","v":0},{"$f":"SUM(G552:G554)","v":0},{"$f":"SUM(H552:H554)","v":0},{"$f":"SUM(I552:I554)","v":0},{"$f":"SUM(J552:J554)","v":0},null,{"$f":"SUM(L552:L560)","v":0}]
[{"$f":"A544","v":2},{"$f":"B544","v":7},"Обед","закуска"]
[{"$nulls":3},"1 блюдо"]
[{"$nulls":3},"2 блюдо"]
[{"$nulls":3},"гарнир"]
[{"$nulls":3},"напиток"]
[{"$nulls":3},"хлеб бел."]
[{"$nulls":3},"хлеб черн."]
[]
[]
[{"$nulls":3},"итого",null,{"$f":"SUM(F556:F564)","v":0},{"$f":"SUM(G556:G564)","v":0},{"$f":"SUM(H556:H564)","v":0},{"$f":"SUM(I556:I564)","v":0},{"$f":"SUM(J556:J564)","v":0},null,{"$f":"SUM(L562:L570)","v":0}]
[{"$f":"A544","v":2},{"$f":"B544","v":7},"Полдник","булочное"]
[{"$nulls":3},"напиток"]
[]
[]
[{"$nulls":3},"итого",null,{"$f":"SUM(F566:F569)","v":0},{"$f":"SUM(G566:G569)","v":0},{"$f":"SUM(H566:H569)","v":0},{"$f":"SUM(I566:I569)","v":0},{"$f":"SUM(J566:J569)","v":0},null,{"$f":"SUM(L563:L569)","v":0}]
[{"$f":"A544","v":2},{"$f":"B544","v":7},"Ужин","гор.блюдо"]
[{"$nulls":3},"гарнир"]
[{"$nulls":3},"напиток"]
[{"$nulls":3},"хлеб"]
[]
[]
[{"$nulls":3},"итого",null,{"$f":"SUM(F571:F576)","v":0},{"$f":"SUM(G571:G576)","v":0},{"$f":"SUM(H571:H576)","v":0},{"$f":"SUM(I571:I576)","v":0},{"$f":"SUM(J571:J576)","v":0},null,{"$f":"SUM(L571:L579)","v":0}]
[{"$f":"A544","v":2},{"$f":"B544","v":7},"Ужин 2","кисломол."]
[{"$nulls":3},"булочное"]
[{"$nulls":3},"напиток"]
[{"$nulls":3},"фрукты"]
[]
[]
[{"$nulls":3},"итого",null,{"$f":"SUM(F578:F583)","v":0},{"$f":"SUM(G578:G583)","v":0},{"$f":"SUM(H578:H583)","v":0},{"$f":"SUM(I578:I583)","v":0},{"$f":"SUM(J578:J583)","v":0},null,{"$f":"SUM(L578:L586)","v":0}]
[{"$f":"A544","v":2},{"$f":"B544","v":7},"Итого за день:",null,null,{"$f":"F551+F555+F565+F570+F577+F584","v":0},{"$f":"G551+G555+G565+G570+G577+G584","v":0},{"$f":"H551+H555+H565+H570+H577+H584","v":0},{"$f":"I551+I555+I565+I570+I577+I584","v":0},{"$f":"J551+J555+J565+J570+J577+J584","v":0},null,{"$f":"L551+L555+L565+L570+L577+L584","v":0}]
[null,null,"Среднее значение за период:",null,null,{"$f":"(#REF!+F68+F111+F155+F198+F241+F283+F326+F370+F413+F457+F500+F543+F585)/(IF(#REF!=0,0,1)+IF(F68=0,0,1)+IF(F111=0,0,1)+IF(F155=0,0,1)+IF(F198=0,0,1)+IF(F241=0,0,1)+IF(F283=0,0,1)+IF(F326=0,0,1)+IF(F370=0,0,1)+IF(F413=0,0,1)+IF(F457=0,0,1)+IF(F500=0,0,1)+IF(F543=0,0,1)+IF(F585=0,0,1))","v":{"$error":"#REF!"}},{"$f":"(#REF!+G68+G111+G155+G198+G241+G283+G326+G370+G413+G457+G500+G543+G585)/(IF(#REF!=0,0,1)+IF(G68=0,0,1)+IF(G111=0,0,1)+IF(G155=0,0,1)+IF(G198=0,0,1)+IF(G241=0,0,1)+IF(G283=0,0,1)+IF(G326=0,0,1)+IF(G370=0,0,1)+IF(G413=0,0,1)+IF(G457=0,0,1)+IF(G500=0,0,1)+IF(G543=0,0,1)+IF(G585=0,0,1))","v":{"$error":"#REF!"}},{"$f":"(#REF!+H68+H111+H155+H198+H241+H283+H326+H370+H413+H457+H500+H543+H585)/(IF(#REF!=0,0,1)+IF(H68=0,0,1)+IF(H111=0,0,1)+IF(H155=0,0,1)+IF(H198=0,0,1)+IF(H241=0,0,1)+IF(H283=0,0,1)+IF(H326=0,0,1)+IF(H370=0,0,1)+IF(H413=0,0,1)+IF(H457=0,0,1)+IF(H500=0,0,1)+IF(H543=0,0,1)+IF(H585=0,0,1))","v":{"$error":"#REF!"}},{"$f":"(#REF!+I68+I111+I155+I198+I241+I283+I326+I370+I413+I457+I500+I543+I585)/(IF(#REF!=0,0,1)+IF(I68=0,0,1)+IF(I111=0,0,1)+IF(I155=0,0,1)+IF(I198=0,0,1)+IF(I241=0,0,1)+IF(I283=0,0,1)+IF(I326=0,0,1)+IF(I370=0,0,1)+IF(I413=0,0,1)+IF(I457=0,0,1)+IF(I500=0,0,1)+IF(I543=0,0,1)+IF(I585=0,0,1))","v":{"$error":"#REF!"}},{"$f":"(#REF!+J68+J111+J155+J198+J241+J283+J326+J370+J413+J457+J500+J543+J585)/(IF(#REF!=0,0,1)+IF(J68=0,0,1)+IF(J111=0,0,1)+IF(J155=0,0,1)+IF(J198=0,0,1)+IF(J241=0,0,1)+IF(J283=0,0,1)+IF(J326=0,0,1)+IF(J370=0,0,1)+IF(J413=0,0,1)+IF(J457=0,0,1)+IF(J500=0,0,1)+IF(J543=0,0,1)+IF(J585=0,0,1))","v":{"$error":"#REF!"}},null,{"$f":"(#REF!+L68+L111+L155+L198+L241+L283+L326+L370+L413+L457+L500+L543+L585)/(IF(#REF!=0,0,1)+IF(L68=0,0,1)+IF(L111=0,0,1)+IF(L155=0,0,1)+IF(L198=0,0,1)+IF(L241=0,0,1)+IF(L283=0,0,1)+IF(L326=0,0,1)+IF(L370=0,0,1)+IF(L413=0,0,1)+IF(L457=0,0,1)+IF(L500=0,0,1)+IF(L543=0,0,1)+IF(L585=0,0,1))","v":0}]