{"text_format":"3","workbook":"xlsx","n_sheets":1,"sheets":["1"],"not_rendered":{"external_links":1},"read":"whole","date_system":"1900"}

{"sheet":"1","index":0,"n_rows":33,"n_cols":10,"rows_kept":33,"merged":[[0,1,0,3]]}
["Школа",26,null,null,"Отд./корп",{"$nulls":3},"День","2021-12-11"]
[]
["Прием пищи","Раздел","№ рец.","Блюдо","Выход, г","Цена","Белки","Жиры","Углеводы","калорийность"]
["горячий завтрак младшие","закуска",null,"Сыр (порциями)",{"$f":"[1]Меню!G9","v":10},null,{"$f":"[1]Меню!I9","v":2.63},{"$f":"[1]Меню!J9","v":{"v":2.66,"d":"2.660"}},{"$f":"[1]Меню!K9","v":{"v":0,"d":"0.000"}},{"$f":"[1]Меню!L9","v":{"v":34.33,"d":"34.330"}}]
[null,"горячее блюдо",null,"Гуляш из куриной грудки",{"$f":"[1]Меню!G10","v":"50/50"},null,{"$f":"[1]Меню!I10","v":8.34},{"$f":"[1]Меню!J10","v":{"v":8.83,"d":"8.830"}},{"$f":"[1]Меню!K10","v":{"v":3.4,"d":"3.400"}},{"$f":"[1]Меню!L10","v":{"v":194.39,"d":"194.390"}}]
[null,"гарнир",null,"Каша полбяная  рассыпчатая ",{"$f":"[1]Меню!G11","v":150},null,{"$f":"[1]Меню!I11","v":6.46},{"$f":"[1]Меню!J11","v":{"v":6.55,"d":"6.550"}},{"$f":"[1]Меню!K11","v":{"v":42.2,"d":"42.200"}},{"$f":"[1]Меню!L11","v":{"v":214,"d":"214.000"}}]
[null,"горячий напиток",null,"Чай с сахаром",{"$f":"[1]Меню!G12","v":"190/10"},null,{"$f":"[1]Меню!I12","v":0.07},{"$f":"[1]Меню!J12","v":{"v":0.02,"d":"0.020"}},{"$f":"[1]Меню!K12","v":{"v":10.01,"d":"10.010"}},{"$f":"[1]Меню!L12","v":{"v":40,"d":"40.000"}}]
[null,"хлеб",null,"Хлеб сельский / белый",{"$f":"[1]Меню!G13","v":"20/20"},null,{"$f":"[1]Меню!I13","v":2.5},{"$f":"[1]Меню!J13","v":{"v":0.75,"d":"0.750"}},{"$f":"[1]Меню!K13","v":{"v":24.8,"d":"24.800"}},{"$f":"[1]Меню!L13","v":{"v":79,"d":"79.000"}}]
[null,null,"итого",{"$nulls":3},{"$f":"SUM(G4:G8)","v":20},{"$f":"SUM(H4:H8)","v":18.81},80.41,561.72]
[]
[]
[null,"фрукт"]
[null,"закуска",null,{"$f":"[1]Меню!B21","v":"Сыр (порциями)"},{"$f":"[1]Меню!G21","v":10},{"$f":"[1]Меню!H21","v":{"v":0,"d":"0.00"}},{"$f":"[1]Меню!I21","v":2.63},{"$f":"[1]Меню!J21","v":2.66},{"$f":"[1]Меню!K21","v":{"v":0,"d":"0.000"}},{"$f":"[1]Меню!L21","v":{"v":34.33,"d":"34.330"}}]
["горячий завтрак старшие","горячее блюдо",null,{"$f":"[1]Меню!B22","v":"Гуляш из куриной грудки"},{"$f":"[1]Меню!G22","v":"50/50"},{"$f":"[1]Меню!H22","v":{"v":0,"d":"0.00"}},{"$f":"[1]Меню!I22","v":8.34},{"$f":"[1]Меню!J22","v":8.83},{"$f":"[1]Меню!K22","v":{"v":3.4,"d":"3.400"}},{"$f":"[1]Меню!L22","v":{"v":194.39,"d":"194.390"}}]
[null,"гарнир",null,{"$f":"[1]Меню!B23","v":"Каша полбяная  рассыпчатая "},{"$f":"[1]Меню!G23","v":180},{"$f":"[1]Меню!H23","v":{"v":0,"d":"0.00"}},{"$f":"[1]Меню!I23","v":7.75},{"$f":"[1]Меню!J23","v":9.86},{"$f":"[1]Меню!K23","v":{"v":50.64,"d":"50.640"}},{"$f":"[1]Меню!L23","v":{"v":256.8,"d":"256.800"}}]
[null,"горячий напиток",null,{"$f":"[1]Меню!B24","v":"Чай с сахаром"},{"$f":"[1]Меню!G24","v":"190/10"},{"$f":"[1]Меню!H24","v":{"v":0,"d":"0.00"}},{"$f":"[1]Меню!I24","v":0.07},{"$f":"[1]Меню!J24","v":0.02},{"$f":"[1]Меню!K24","v":{"v":10.01,"d":"10.010"}},{"$f":"[1]Меню!L24","v":{"v":40,"d":"40.000"}}]
[null,"хлеб ",null,{"$f":"[1]Меню!B25","v":"Хлеб сельский / белый"},{"$f":"[1]Меню!G25","v":"30/30"},{"$f":"[1]Меню!H25","v":{"v":0,"d":"0.00"}},{"$f":"[1]Меню!I25","v":4.25},{"$f":"[1]Меню!J25","v":{"v":0.6,"d":"0.60"}},{"$f":"[1]Меню!K25","v":{"v":27.59,"d":"27.590"}},{"$f":"[1]Меню!L25","v":{"v":129.64,"d":"129.640"}}]
[null,null,"итого",null,{"$f":"[1]Меню!G26","v":0},{"$f":"[1]Меню!H26","v":{"v":0,"d":"0.00"}},{"$f":"[1]Меню!I26","v":0},{"$f":"[1]Меню!J26","v":{"v":0,"d":"0.00"}},{"$f":"[1]Меню!K26","v":{"v":0,"d":"0.000"}},{"$f":"[1]Меню!L26","v":{"v":0,"d":"0.000"}}]
[{"$nulls":4},{"$f":"[1]Меню!G27","v":0},{"$f":"[1]Меню!H27","v":{"v":0,"d":"0.00"}},{"$f":"[1]Меню!I27","v":{"v":23.04,"d":"23.040"}},{"$f":"[1]Меню!J27","v":{"v":21.970000000000002,"d":"21.970"}},{"$f":"[1]Меню!K27","v":{"v":91.64,"d":"91.640"}},{"$f":"[1]Меню!L27","v":{"v":655.16,"d":"655.160"}}]
["обед младшие (2-4 классы)","закуска"]
[null,"горячее блюдо 1"]
[null,"горячее блюдо 2"]
[null,"гарнир"]
[null,"горячий напиток"]
[null,"хлеб "]
[null,null,"итого"]
[]
["горячий завтрак младшие ","закуска"]
[null,"горячее блюдо 1"]
[null,"гарнир"]
[null,"горячий напиток"]
[null,"хлеб"]
[null,null,"итого"]