{"text_format":"3","workbook":"xlsx","n_sheets":1,"sheets":["Лист1"],"read":"whole","date_system":"1900"}

{"sheet":"Лист1","index":0,"n_rows":609,"n_cols":12,"rows_kept":609,"merged":[[0,2,0,4],[0,7,0,10],[1,7,1,10],[47,2,47,3],[91,2,91,3],[134,2,134,3],[177,2,177,3],[220,2,220,3],[263,2,263,3],[305,2,305,3],[348,2,348,3],[392,2,392,3],[435,2,435,3],[478,2,478,3],[523,2,523,3],[565,2,565,3],[607,2,607,3],[608,2,608,4]]}
["Школа",null,"ГБОУ \"Маскаринская школа- интернат для детей с ограниченными возможностями здоровья\"",null,null,"Утвердил:","должность","директор"]
["Типовое примерное меню приготавливаемых блюд",{"$nulls":5},"фамилия","Сабитов Ш. Н."]
["Возрастная категория",{"$nulls":3},"7-11 лет",null,"дата",1,9,2025]
[{"$nulls":7},"день","месяц","год"]
["Неделя","День недели","Прием пищи","Раздел меню","Блюда","Вес блюда, г","Белки","Жиры","Углеводы","Калорийность","№ рецептуры","Цена"]
[1,1,"Завтрак","гор.блюдо","Каша геркулес мол.","200/10",9.7,8.3,36.8,212,23]
[]
[{"$nulls":3},"гор.напиток","Какао с мол.",200,4.62,4.02,43.8,135,63]
[{"$nulls":3},"хлеб","Хлеб пшеничной ",120,3.1,0.2,20.1,94.7,37]
[{"$nulls":3},"фрукты","Апельсин ",100,1.4,0.3,8.1,36,61]
[{"$nulls":3},"масло слив.","Масло сливочное ",10,0.4,62.5,0.8,105,50]
[]
[{"$nulls":3},"итого",null,{"$f":"SUM(F6:F12)","v":430},{"$f":"SUM(G6:G12)","v":19.22},{"$f":"SUM(H6:H12)","v":75.32},{"$f":"SUM(I6:I12)","v":109.6},{"$f":"SUM(J6:J12)","v":582.7},null,{"$f":"SUM(L6:L12)","v":0}]
[{"$f":"A6","v":1},{"$f":"B6","v":1},"Завтрак 2","фрукты","Банан",100,1.4,0.3,12.1,{"v":96,"d":"96.0"},62]
[{"$nulls":3},"напиток","Компот из смеси с/ф",200,4,0.06,35.2,110,53]
[{"$nulls":3},"хлеб бел.","Хлеб пшеничный ",160,3.1,0.2,20.1,378.8,37]
[{"$nulls":3},"кондит.изд.","Булочка домашняя",80,2.7,6,20.1,99.8,73]
[{"$nulls":3},"итого",null,{"$f":"SUM(F14:F17)","v":540},{"$f":"SUM(G14:G17)","v":11.2},{"$f":"SUM(H14:H17)","v":6.56},{"$f":"SUM(I14:I17)","v":87.5},{"$f":"SUM(J14:J17)","v":684.6},null,{"$f":"SUM(L14:L23)","v":0}]
[{"$f":"A6","v":1},{"$f":"B6","v":1},"Обед","закуска","Салат из свеклы",100,1.8,10,10,94.2,33]
[{"$nulls":3},"1 блюдо","Суп горох к/м",250,9.2,7.7,16.3,330.2,7]
[{"$nulls":3},"2 блюдо","Картофельное пюре ","200/10",4.9,7.2,34,207,17]
[{"$nulls":3},"гарнир","Гуляш из говядины",100,10,15.3,5.5,132.4,25]
[{"$nulls":3},"напиток","Сок",200,0.8,0,23,94,57]
[{"$nulls":3},"хлеб бел."]
[{"$nulls":3},"хлеб черн.","Хлеб \"Дарницкий\"",80,2.6,0.4,17,164.8,36]
[]
[]
[{"$nulls":3},"итого",null,{"$f":"SUM(F19:F27)","v":730},{"$f":"SUM(G19:G27)","v":29.3},{"$f":"SUM(H19:H27)","v":40.6},{"$f":"SUM(I19:I27)","v":105.8},{"$f":"SUM(J19:J27)","v":1022.6},null,{"$f":"SUM(L25:L33)","v":0}]
[{"$f":"A6","v":1},{"$f":"B6","v":1},"Полдник","кисломол."]
[{"$nulls":3},"фрукты"]
[]
[]
[{"$nulls":3},"итого",null,{"$f":"SUM(F29:F32)","v":0},{"$f":"SUM(G29:G32)","v":0},{"$f":"SUM(H29:H32)","v":0},{"$f":"SUM(I29:I32)","v":0},{"$f":"SUM(J29:J32)","v":0},null,{"$f":"SUM(L26:L32)","v":0}]
[{"$f":"A6","v":1},{"$f":"B6","v":1},"Ужин","хлеб черн.","Хлеб \"Дарницкий\"",80,2.6,0.4,17,164.8,36]
[{"$nulls":3},"масло слив.","Масло сливочное ",10,0.4,62.5,0.8,105,50]
[{"$nulls":3},"гарнир","Рыба запеченная",100,13.7,6.2,4.4,153,72]
[{"$nulls":3},"2 блюдо","Каша рис. мол.",200,5.8,9.2,42.6,277.5,21]
[{"$nulls":3},"гор.напиток","Чай слад.",200,0.1,0.02,5.11,39.9,70]
[]
[{"$nulls":3},"итого",null,{"$f":"SUM(F34:F39)","v":590},{"$f":"SUM(G34:G39)","v":22.6},{"$f":"SUM(H34:H39)","v":78.32},{"$f":"SUM(I34:I39)","v":69.91},{"$f":"SUM(J34:J39)","v":740.2},null,{"$f":"SUM(L34:L42)","v":0}]
[{"$f":"A6","v":1},{"$f":"B6","v":1},"Ужин 2","кисломол.","Ряженка ",200,12,2,8.4,134,58]
[{"$nulls":3},"фрукты","Яблоки св.",100,0.6,0.6,14.3,68.6,60]
[{"$nulls":3},"напиток"]
[]
[]
[]
[{"$nulls":3},"итого",null,{"$f":"SUM(F41:F46)","v":300},{"$f":"SUM(G41:G46)","v":12.6},{"$f":"SUM(H41:H46)","v":2.6},{"$f":"SUM(I41:I46)","v":22.7},{"$f":"SUM(J41:J46)","v":202.6},null,{"$f":"SUM(L41:L49)","v":0}]
[{"$f":"A6","v":1},{"$f":"B6","v":1},"Итого за день:",null,null,{"$f":"F13+F18+F28+F33+F40+F47","v":2590},95.12,{"$f":"H13+H18+H28+H33+H40+H47","v":203.4},400.3,3422.1,null,{"$f":"L13+L18+L28+L33+L40+L47","v":0}]
[1,2,"Завтрак","гор.блюдо","Каша манная мол.","200/10",6,5,30.8,200,20]
[{"$nulls":3},"гор.напиток","Чай слад.",200,0.1,0,9.9,21.14,70]
[{"$nulls":3},"хлеб","Хлеб пшеничный",120,3.1,0.2,20.1,284.1,37]
[{"$nulls":3},"масло слив.","Масло слив.",10,0.4,"62.5",0.8,105,50]
[{"$nulls":3},"сыр","Сыр",24,4.3,5.4,0,67.4,48]
[{"$nulls":3},"фрукты","Апельсин ",100,1.4,0.3,8.1,36,61]
[]
[{"$nulls":3},"итого",null,{"$f":"SUM(F50:F55)","v":454},{"$f":"SUM(G49:G55)","v":15.3},{"$f":"SUM(H49:H55)","v":10.9},{"$f":"SUM(I49:I55)","v":69.7},732.4,{"$f":"SUM(K49:K55)","v":286},{"$f":"SUM(L49:L55)","v":0}]
[{"$f":"A49","v":1},{"$f":"B49","v":2},"Завтрак 2","фрукты","Банан",100,1.4,0.3,12.1,96,62]
[{"$nulls":3},"напиток","Кофейный напиток из цикория с мол",200,4.32,4.6,9.6,135,54]
[{"$nulls":3},"хлеб бел.","Хлеб пшеничный ",160,3.1,0.2,20.1,378.8,37]
[{"$nulls":4},"Яйцо вареное",1,5.1,4.6,0.3,63,49]
[{"$nulls":3},"кондит.изд.","Печенье ",30,3,1.9,20.8,166.8,47]
[{"$nulls":3},"итого",null,{"$f":"SUM(F57:F61)","v":491},{"$f":"SUM(G57:G61)","v":16.92},{"$f":"SUM(H57:H61)","v":11.6},{"$f":"SUM(I57:I61)","v":62.9},{"$f":"SUM(J57:J61)","v":839.6},null,{"$f":"SUM(L57:L67)","v":{"$error":"#VALUE!"}}]
[{"$f":"A49","v":1},{"$f":"B49","v":2},"Обед","закуска"]
[{"$nulls":3},"1 блюдо","Суп лапша домашняя к/м.",250,4.22,3.95,22.66,252,5]
[{"$nulls":3},"2 блюдо","Овощное рагу с мясом говяд.",200,3.46,6.26,9.98,310,10]
[{"$nulls":3},"гарнир"]
[{"$nulls":3},"напиток","Компот из смеси сухофруктов",200,4,0.06,35.2,110,53]
[{"$nulls":3},"хлеб бел."]
[{"$nulls":3},"хлеб черн.","Хлеб \"Дарницкий\"",80,2.6,0.4,17,164.8,36]
[]
[]
[{"$nulls":3},"итого",null,{"$f":"SUM(F63:F71)","v":730},{"$f":"SUM(G63:G71)","v":14.28},{"$f":"SUM(H63:H71)","v":10.67},{"$f":"SUM(I63:I71)","v":84.84},{"$f":"SUM(J63:J71)","v":836.8},null,{"$f":"SUM(L69:L77)","v":{"$error":"#VALUE!"}}]
[{"$f":"A49","v":1},{"$f":"B49","v":2},"Полдник","кисломол."]
[{"$nulls":3},"фрукты"]
[]
[]
[{"$nulls":3},"итого",null,{"$f":"SUM(F73:F76)","v":0},{"$f":"SUM(G73:G76)","v":0},{"$f":"SUM(H73:H76)","v":0},null,{"$f":"SUM(J73:J76)","v":0},{"$f":"SUM(K73:K76)","v":0},{"$f":"SUM(L70:L76)","v":{"$error":"#VALUE!"}}]
[{"$f":"A49","v":1},{"$f":"B49","v":2},"Ужин","хлеб черн.","Хлеб \"Дарницкий\"",80,2.6,0.4,17,164.8,36]
[{"$nulls":3},"2 блюдо","Каша гречнев рассып",200,7,5.1,34.1,200,15]
[{"$nulls":3},"гарнир","Рыбные тефтели","50/50",12.7,5.2,4.4,224.6,77]
[{"$nulls":3},"гор.напиток","Чай с молоком",200,1.64,1.64,2.38,30,52]
[{"$nulls":3},"масло слив.","Масло слив.",15,0.4,62.5,0.8,205,50]
[]
[{"$nulls":3},"итого",null,{"$f":"SUM(F78:F83)","v":495},{"$f":"SUM(G78:G83)","v":24.34},{"$f":"SUM(H78:H83)","v":74.84},{"$f":"SUM(I78:I83)","v":58.68},{"$f":"SUM(J78:J83)","v":824.4},null,{"$f":"SUM(L78:L86)","v":{"$error":"#VALUE!"}}]
[{"$f":"A49","v":1},{"$f":"B49","v":2},"Ужин 2","кисломол.","Ряженка",200,12,2,8.4,134,58]
[{"$nulls":3},"фрукты","Яблоки св.",150,0.6,0.6,14.3,68.6,60]
[{"$nulls":3},"напиток"]
[]
[]
[]
[{"$nulls":3},"итого",null,{"$f":"SUM(F85:F90)","v":350},{"$f":"SUM(G85:G90)","v":12.6},{"$f":"SUM(H85:H90)","v":2.6},{"$f":"SUM(I85:I90)","v":22.7},{"$f":"SUM(J85:J90)","v":202.6},null,{"$f":"SUM(L85:L93)","v":{"$error":"#VALUE!"}}]
[{"$f":"A49","v":1},{"$f":"B49","v":2},"Итого за день:",null,null,{"$f":"F56+F62+F72+F77+F84+F91","v":2520},{"$f":"G56+G62+G72+G77+G84+G91","v":83.44},{"$f":"H56+H62+H72+H77+H84+H91","v":110.61},{"$f":"I56+I62+I72+I77+I84+I91","v":298.82},{"$f":"J56+J62+J72+J77+J84+J91","v":3435.8},null,{"$f":"L56+L62+L72+L77+L84+L91","v":0}]
[1,3,"Завтрак","гор.блюдо","Омлет","200/5",16.6,18.24,2.88,200,19]
[{"$nulls":3},"гор.напиток","Какао с молоком",200,4.62,4.02,43.8,135,63]
[{"$nulls":3},"хлеб","Хлеб пшеничный",120,3.1,0.2,20.1,284.1,37]
[{"$nulls":3},"масло слив.","Масло слив.",15,0.4,62.5,0.8,205,50]
[{"$nulls":3},"фрукты","Апельсин ",100,1.4,0.3,8.1,36,61]
[]
[]
[{"$nulls":3},"итого",null,{"$f":"SUM(F93:F99)","v":435},{"$f":"SUM(G93:G99)","v":26.12},{"$f":"SUM(H93:H99)","v":85.26},{"$f":"SUM(I93:I99)","v":75.68},{"$f":"SUM(J93:J99)","v":860.1},null,{"$f":"SUM(L93:L99)","v":0}]
[{"$f":"A93","v":1},{"$f":"B93","v":3},"Завтрак 2","фрукты","Банан",100,1.4,0.3,12.1,96,62]
[{"$nulls":4},"Хлеб пшеничный",160,3.1,0.2,20.1,378.8,37]
[{"$nulls":4},"Компот из с/ф",200,4,0.06,35.2,110,53]
[{"$nulls":4},"Треугольник ",80,6.23,5.38,38.25,150,42]
[{"$nulls":3},"итого",null,{"$f":"SUM(F101:F104)","v":540},{"$f":"SUM(G101:G104)","v":14.73},{"$f":"SUM(H101:H104)","v":5.94},{"$f":"SUM(I101:I104)","v":105.65},{"$f":"SUM(J101:J104)","v":734.8},null,{"$f":"SUM(L101:L110)","v":{"$error":"#VALUE!"}}]
[{"$f":"A93","v":1},{"$f":"B93","v":3},"Обед","закуска","Салат морковный",100,1.16,8.3,14.6,98.8,35]
[{"$nulls":3},"1 блюдо","Борщ к/м со сметаной","250/15",8.4,10.3,13.7,105.2,2]
[{"$nulls":3},"2 блюдо","Каша ячневая с мяс говядины","200/10",11.2,16.3,63.7,445.6,13]
[{"$nulls":3},"гарнир"]
[{"$nulls":3},"напиток","Сок",200,0.8,0,23,94,57]
[{"$nulls":3},"хлеб бел."]
[{"$nulls":3},"хлеб черн.","Хлеб \"Дарницкий\"",80,2.6,0.4,17,164.8,36]
[]
[]
[{"$nulls":3},"итого",null,{"$f":"SUM(F106:F114)","v":380},{"$f":"SUM(G106:G114)","v":24.16},{"$f":"SUM(H106:H114)","v":35.3},{"$f":"SUM(I106:I114)","v":132},{"$f":"SUM(J106:J114)","v":908.4},null,{"$f":"SUM(L112:L120)","v":{"$error":"#VALUE!"}}]
[{"$f":"A93","v":1},{"$f":"B93","v":3},"Полдник","кисломол."]
[{"$nulls":3},"фрукты"]
[]
[]
[{"$nulls":3},"итого",null,{"$f":"SUM(F116:F119)","v":0},{"$f":"SUM(G116:G119)","v":0},{"$f":"SUM(H116:H119)","v":0},{"$f":"SUM(I116:I119)","v":0},{"$f":"SUM(J116:J119)","v":0},null,{"$f":"SUM(L113:L119)","v":{"$error":"#VALUE!"}}]
[{"$f":"A93","v":1},{"$f":"B93","v":3},"Ужин","хлеб черн.","Хлеб \"Дарницкий\"",80,2.6,0.4,17,164.8,36]
[{"$nulls":3},"масло слив.","Масло слив.",15,0.4,62.5,0.8,205,50]
[{"$nulls":3},"1 блюдо","Суп молочный рожки","200/5",8,9,25.2,214.8,6]
[{"$nulls":3},"творог","Творог со сметаной","200/10",18,9,3,164.3,40]
[{"$nulls":3},"гор.напиток","Чай слад.",200,0.1,0,9.9,39.9,51]
[]
[{"$nulls":3},"итого",null,{"$f":"SUM(F121:F126)","v":295},{"$f":"SUM(G121:G126)","v":29.1},{"$f":"SUM(H121:H126)","v":80.9},{"$f":"SUM(I121:I126)","v":55.9},{"$f":"SUM(J121:J126)","v":788.8},null,{"$f":"SUM(L121:L129)","v":{"$error":"#VALUE!"}}]
[{"$f":"A93","v":1},{"$f":"B93","v":3},"Ужин 2","кисломол.","Ряженка ",200,12,2,8.4,134,58]
[{"$nulls":3},"фрукты","Яблоки св.",100,0.6,0.6,14.3,68.6,60]
[{"$nulls":3},"напиток"]
[]
[]
[]
[{"$nulls":3},"итого",null,{"$f":"SUM(F128:F133)","v":300},{"$f":"SUM(G128:G133)","v":12.6},{"$f":"SUM(H128:H133)","v":2.6},{"$f":"SUM(I128:I133)","v":22.7},{"$f":"SUM(J128:J133)","v":202.6},null,{"$f":"SUM(L128:L136)","v":{"$error":"#VALUE!"}}]
[{"$f":"A93","v":1},{"$f":"B93","v":3},"Итого за день:",null,null,{"$f":"F100+F105+F115+F120+F127+F134","v":1950},{"$f":"G100+G105+G115+G120+G127+G134","v":106.71},{"$f":"H100+H105+H115+H120+H127+H134","v":210},{"$f":"I100+I105+I115+I120+I127+I134","v":391.93},{"$f":"J100+J105+J115+J120+J127+J134","v":3494.7},null,{"$f":"L100+L105+L115+L120+L127+L134","v":{"$error":"#VALUE!"}}]
[1,4,"Завтрак","гор.блюдо","Каша геркулес молочный",200,9.7,8.3,36.8,212,23]
[{"$nulls":3},"гор.напиток","Кофейный напиток из цикория",200,4.32,4.6,9.6,135,54]
[{"$nulls":3},"хлеб","Хлеб пшеничный",120,3.1,0.2,20.1,284.1,37]
[{"$nulls":3},"масло слив.","Масло слив.",15,0.4,62.5,0.8,205,50]
[{"$nulls":3},"сыр","Сыр",24,4.3,5.4,0,67.4,48]
[{"$nulls":3},"фрукты","Апельсин ",100,1.4,0.3,8.1,36,61]
[]
[{"$nulls":3},"итого",null,{"$f":"SUM(F136:F142)","v":659},{"$f":"SUM(G136:G142)","v":23.22},{"$f":"SUM(H136:H142)","v":81.3},{"$f":"SUM(I136:I142)","v":75.4},{"$f":"SUM(J136:J142)","v":939.5},null,{"$f":"SUM(L136:L142)","v":0}]
[{"$f":"A136","v":1},{"$f":"B136","v":4},"Завтрак 2","фрукты","Банан",100,1.4,0.3,12.1,96,62]
[{"$nulls":3},"хлеб бел.","Хлеб пшеничный",160,3.1,0.2,20.1,378.8,37]
[{"$nulls":3},"напиток","Компот из смеси сухофруктов",200,4,0.06,35.2,110,53]
[{"$nulls":3},"кондит.изд.","Вафли",30,1,8.8,18.8,154.2,46]
[{"$nulls":3},"итого",null,{"$f":"SUM(F144:F147)","v":490},{"$f":"SUM(G144:G147)","v":9.5},{"$f":"SUM(H144:H147)","v":9.36},{"$f":"SUM(I144:I147)","v":86.2},{"$f":"SUM(J144:J147)","v":739},null,{"$f":"SUM(L144:L153)","v":{"$error":"#VALUE!"}}]
[{"$f":"A136","v":1},{"$f":"B136","v":4},"Обед","закуска","Салат из белокач.капусты",100,2.1,8.5,10.5,105.5,31]
[{"$nulls":3},"1 блюдо","Рассольник с перловкой со сметаной","250/10",4.65,10.01,10.08,322,4]
[{"$nulls":3},"2 блюдо","Картофельное пюре ",200,4.9,7.2,34,207,17]
[{"$nulls":3},"гарнир","Котлеты из говядины",100,21,22.2,15,217.2,27]
[{"$nulls":3},"напиток","Сок",200,0.8,0,23,94,57]
[{"$nulls":3},"хлеб бел."]
[{"$nulls":3},"хлеб черн.","Хлеб \"Дарницкий\"",80,2.6,0.4,17,164.8,36]
[]
[]
[{"$nulls":3},"итого",null,{"$f":"SUM(F149:F157)","v":680},{"$f":"SUM(G149:G157)","v":36.05},{"$f":"SUM(H149:H157)","v":48.31},{"$f":"SUM(I149:I157)","v":109.58},{"$f":"SUM(J149:J157)","v":1110.5},null,{"$f":"SUM(L155:L163)","v":{"$error":"#VALUE!"}}]
[{"$f":"A136","v":1},{"$f":"B136","v":4},"Полдник","кисломол."]
[{"$nulls":3},"фрукты"]
[]
[]
[{"$nulls":3},"итого",null,{"$f":"SUM(F159:F162)","v":0},{"$f":"SUM(G159:G162)","v":0},{"$f":"SUM(H159:H162)","v":0},{"$f":"SUM(I159:I162)","v":0},{"$f":"SUM(J159:J162)","v":0},null,{"$f":"SUM(L156:L162)","v":{"$error":"#VALUE!"}}]
[{"$f":"A136","v":1},{"$f":"B136","v":4},"Ужин","хлеб черн.","Хлеб \"Дарницкий\"",80,2.6,0.4,17,164.8,36]
[{"$nulls":3},"масло слив.","Масло слив.",15,0.4,62.5,0.8,205,50]
[{"$nulls":3},"гор.напиток","Чай с мол.",200,1.64,1.64,2.38,30,52]
[{"$nulls":3},"2 блюдо","Плов из говядины",200,18.8,15.6,18.6,258,11]
[]
[]
[{"$nulls":3},"итого",null,{"$f":"SUM(F164:F169)","v":495},{"$f":"SUM(G164:G169)","v":23.44},{"$f":"SUM(H164:H169)","v":80.14},{"$f":"SUM(I164:I169)","v":38.78},{"$f":"SUM(J164:J169)","v":657.8},null,{"$f":"SUM(L164:L172)","v":{"$error":"#VALUE!"}}]
[{"$f":"A136","v":1},{"$f":"B136","v":4},"Ужин 2","кисломол.","Ряженка",200,12,2,8.4,134,58]
[{"$nulls":3},"фрукты","Яблоки св.",100,0.6,0.6,14.3,68.6,60]
[{"$nulls":3},"напиток"]
[]
[]
[]
[{"$nulls":3},"итого",null,{"$f":"SUM(F171:F176)","v":300},{"$f":"SUM(G171:G176)","v":12.6},{"$f":"SUM(H171:H176)","v":2.6},{"$f":"SUM(I171:I176)","v":22.7},{"$f":"SUM(J171:J176)","v":202.6},null,{"$f":"SUM(L171:L179)","v":{"$error":"#VALUE!"}}]
[{"$f":"A136","v":1},{"$f":"B136","v":4},"Итого за день:",null,null,{"$f":"F143+F148+F158+F163+F170+F177","v":2624},{"$f":"G143+G148+G158+G163+G170+G177","v":104.81},{"$f":"H143+H148+H158+H163+H170+H177","v":221.71},{"$f":"I143+I148+I158+I163+I170+I177","v":332.66},{"$f":"J143+J148+J158+J163+J170+J177","v":3649.4},null,{"$f":"L143+L148+L158+L163+L170+L177","v":{"$error":"#VALUE!"}}]
[1,5,"Завтрак","гор.блюдо","Каша манная мол.","200/10",6,5,30.8,200,20]
[{"$nulls":3},"гор.напиток","Чай слад.",200,0.1,0,9.9,39.9,51]
[{"$nulls":3},"хлеб","Хлеб пшеничный",120,3.1,0.2,20.1,284.1,37]
[{"$nulls":3},"масло слив.","Масло слив.",15,0.4,62.5,0.8,205,50]
[{"$nulls":3},"фрукты","Апельсин",100,1.4,0.3,8.1,36,61]
[]
[]
[{"$nulls":3},"итого",null,{"$f":"SUM(F179:F185)","v":435},{"$f":"SUM(G179:G185)","v":11},{"$f":"SUM(H179:H185)","v":68},{"$f":"SUM(I179:I185)","v":69.7},{"$f":"SUM(J179:J185)","v":765},null,{"$f":"SUM(L179:L185)","v":0}]
[{"$f":"A179","v":1},{"$f":"B179","v":5},"Завтрак 2","фрукты","Банан",100,1.4,0.3,12.1,96,62]
[{"$nulls":3},"напиток","Компот из с/ф",200,4,0.06,35.2,110,53]
[{"$nulls":3},"выпечка","Запеканка творожная","150/15",20.44,20,29.6,325,41]
[{"$nulls":3},"хлеб бел.","Хлеб пшеничный",120,3.1,0.2,20.1,284.1,37]
[{"$nulls":3},"итого",null,{"$f":"SUM(F187:F190)","v":420},{"$f":"SUM(G187:G190)","v":28.94},{"$f":"SUM(H187:H190)","v":20.56},{"$f":"SUM(I187:I190)","v":97},{"$f":"SUM(J187:J190)","v":815.1},null,{"$f":"SUM(L187:L196)","v":{"$error":"#VALUE!"}}]
[{"$f":"A179","v":1},{"$f":"B179","v":5},"Обед","закуска","Свекла вар. дольками",100,1.17,6.96,8.8,60,32]
[{"$nulls":3},"1 блюдо","Суп крестьян с пшеном со смет","250/15",10,8.63,7.9,290,65]
[{"$nulls":3},"2 блюдо","Овощное рагу с мясом говяд.",200,3.46,6.26,9.98,310,10]
[{"$nulls":3},"гарнир"]
[{"$nulls":3},"напиток","Сок",200,0.8,0,23,94,57]
[{"$nulls":3},"хлеб бел."]
[{"$nulls":3},"хлеб черн.","Хлеб \"Дарницкий\"",80,2.6,0.4,17,164.8,36]
[]
[]
[{"$nulls":3},"итого",null,{"$f":"SUM(F192:F200)","v":580},{"$f":"SUM(G192:G200)","v":18.03},{"$f":"SUM(H192:H200)","v":22.25},{"$f":"SUM(I192:I200)","v":66.68},{"$f":"SUM(J192:J200)","v":918.8},null,{"$f":"SUM(L198:L206)","v":{"$error":"#VALUE!"}}]
[{"$f":"A179","v":1},{"$f":"B179","v":5},"Полдник","кисломол."]
[{"$nulls":3},"фрукты"]
[]
[]
[{"$nulls":3},"итого",null,{"$f":"SUM(F202:F205)","v":0},{"$f":"SUM(G202:G205)","v":0},{"$f":"SUM(H202:H205)","v":0},{"$f":"SUM(I202:I205)","v":0},{"$f":"SUM(J202:J205)","v":0},null,{"$f":"SUM(L199:L205)","v":{"$error":"#VALUE!"}}]
[{"$f":"A179","v":1},{"$f":"B179","v":5},"Ужин","хлеб черн.","Хлеб \"Дарницкий\"",80,2.6,0.4,17,164.8,36]
[{"$nulls":3},"гор.напиток","Какао с мол.",200,4.62,4.02,43.8,135,63]
[{"$nulls":3},"гарнир","Рыба запеченная",100,13.7,6.2,4.4,153,72]
[{"$nulls":3},"2 блюдо","Гороховое пюре",200,14.8,12,28.5,200,16]
[{"$nulls":3},"масло слив.","Масло слив.",15,0.4,62.5,0.8,205,50]
[]
[{"$nulls":3},"итого",null,{"$f":"SUM(F207:F212)","v":595},{"$f":"SUM(G207:G212)","v":36.12},{"$f":"SUM(H207:H212)","v":85.12},{"$f":"SUM(I207:I212)","v":94.5},{"$f":"SUM(J207:J212)","v":857.8},null,{"$f":"SUM(L207:L215)","v":{"$error":"#VALUE!"}}]
[{"$f":"A179","v":1},{"$f":"B179","v":5},"Ужин 2","кисломол.","Ряженка ",200,12,2,8.4,134,58]
[{"$nulls":3},"фрукты","Яблоки св.",100,0.6,0.6,14.3,68.6,60]
[{"$nulls":3},"напиток"]
[]
[]
[]
[{"$nulls":3},"итого",null,{"$f":"SUM(F214:F219)","v":300},{"$f":"SUM(G214:G219)","v":12.6},{"$f":"SUM(H214:H219)","v":2.6},{"$f":"SUM(I214:I219)","v":22.7},{"$f":"SUM(J214:J219)","v":202.6},null,{"$f":"SUM(L214:L222)","v":{"$error":"#VALUE!"}}]
[{"$f":"A179","v":1},{"$f":"B179","v":5},"Итого за день:",null,null,{"$f":"F186+F191+F201+F206+F213+F220","v":2330},{"$f":"G186+G191+G201+G206+G213+G220","v":106.69},{"$f":"H186+H191+H201+H206+H213+H220","v":198.53},{"$f":"I186+I191+I201+I206+I213+I220","v":350.58},{"$f":"J186+J191+J201+J206+J213+J220","v":3559.3},null,{"$f":"L186+L191+L201+L206+L213+L220","v":{"$error":"#VALUE!"}}]
[1,6,"Завтрак","гор.блюдо","Каша пшенич молочная ","200/8",10.8,10.9,57.8,367.9,14]
[{"$nulls":3},"гор.напиток","Какао с молоком",200,4.62,4.02,43.8,135,63]
[{"$nulls":3},"хлеб бел.","Хлеб пшеничный",120,3.1,0.2,20.1,284.1,37]
[{"$nulls":3},"кондит.изд.","Печенье",30,3,0.3,8.1,166.8,47]
[{"$nulls":3},"сыр","Сыр",24,4.3,5.4,0,67.4,48]
[{"$nulls":4},"Апельсин ",100,1.4,0.3,8.1,36,61]
[{"$nulls":3},"масло слив.","Масло слив.",10,0.4,62.5,0.8,105,50]
[{"$nulls":3},"итого",null,{"$f":"SUM(F222:F228)","v":484},{"$f":"SUM(G222:G228)","v":27.62},{"$f":"SUM(H222:H228)","v":83.62},{"$f":"SUM(I222:I228)","v":138.7},{"$f":"SUM(J222:J228)","v":1162.2},null,{"$f":"SUM(L222:L228)","v":0}]
[{"$f":"A222","v":1},{"$f":"B222","v":6},"Завтрак 2","фрукты"]
[]
[]
[]
[{"$nulls":3},"итого",null,{"$f":"SUM(F230:F233)","v":0},{"$f":"SUM(G230:G233)","v":0},{"$f":"SUM(H230:H233)","v":0},{"$f":"SUM(I230:I233)","v":0},{"$f":"SUM(J230:J233)","v":0},null,{"$f":"SUM(L230:L239)","v":{"$error":"#VALUE!"}}]
[{"$f":"A222","v":1},{"$f":"B222","v":6},"Обед","закуска","Салат морковный",100,1.16,8.3,14.6,98.8,35]
[{"$nulls":3},"1 блюдо","Щи к/м со сметаной","250/15",9.1,10.5,15.9,194.9,1]
[{"$nulls":3},"2 блюдо","Макароны отварные","200/10",7.6,9.2,48.8,150.7,18]
[{"$nulls":3},"гарнир","Гуляш  из говядины",100,10,15.3,5.5,132.4,25]
[{"$nulls":3},"напиток","Компот из с/ф",200,4,0.06,35.2,110,53]
[{"$nulls":3},"хлеб бел."]
[{"$nulls":3},"хлеб.черн.","Хлеб \"Дарницкий\"",80,2.6,0.4,17,164.8,36]
[{"$nulls":3},"фрукты","Банан",100,{"v":1.4,"d":"1"},{"v":0.3,"d":"0"},{"v":12.1,"d":"12"},96,62]
[]
[{"$nulls":3},"итого",null,1030,{"$f":"SUM(G235:G243)","v":35.86},{"$f":"SUM(H235:H243)","v":44.06},{"$f":"SUM(I235:I243)","v":149.1},{"$f":"SUM(J235:J243)","v":947.6},null,{"$f":"SUM(L241:L249)","v":{"$error":"#VALUE!"}}]
[{"$f":"A222","v":1},{"$f":"B222","v":6},"Полдник","кисломол."]
[{"$nulls":3},"фрукты"]
[]
[]
[{"$nulls":3},"итого",null,{"$f":"SUM(F245:F248)","v":0},{"$f":"SUM(G245:G248)","v":0},{"$f":"SUM(H245:H248)","v":0},{"$f":"SUM(I245:I248)","v":0},{"$f":"SUM(J245:J248)","v":0},null,{"$f":"SUM(L242:L248)","v":{"$error":"#VALUE!"}}]
[{"$f":"A222","v":1},{"$f":"B222","v":6},"Ужин","2 блюдо","Каша рис. мол.",200,5.8,9.2,42.6,277.5,21]
[{"$nulls":3},"гарнир","Котлеты из говядины",100,21,22.2,15,217.2,27]
[{"$nulls":3},"хлеб.черн.","Хлеб \"Дарницкий\"",80,2.6,0.4,17,164.8,36]
[{"$nulls":3},"масло слив.","Масло слив.",15,0.4,62.5,0.8,205,50]
[{"$nulls":3},"гор.напиток","Чай слад.",200,0.1,0,9.9,39.9,51]
[]
[{"$nulls":3},"итого",null,{"$f":"SUM(F250:F255)","v":595},{"$f":"SUM(G250:G255)","v":29.9},{"$f":"SUM(H250:H255)","v":94.3},{"$f":"SUM(I250:I255)","v":85.3},{"$f":"SUM(J250:J255)","v":904.4},null,{"$f":"SUM(L250:L258)","v":{"$error":"#VALUE!"}}]
[{"$f":"A222","v":1},{"$f":"B222","v":6},"Ужин 2"]
[]
[{"$nulls":3},"напиток","Ряженка",200,12,2,8.4,134,58]
[{"$nulls":3},"фрукты","Яблоки св.",100,0.6,0.6,14.3,68.6,60]
[]
[]
[{"$nulls":3},"итого",null,{"$f":"SUM(F257:F262)","v":300},{"$f":"SUM(G257:G262)","v":12.6},{"$f":"SUM(H257:H262)","v":2.6},{"$f":"SUM(I257:I262)","v":22.7},{"$f":"SUM(J257:J262)","v":202.6},null,{"$f":"SUM(L257:L265)","v":{"$error":"#VALUE!"}}]
[{"$f":"A222","v":1},{"$f":"B222","v":6},"Итого за день:",null,null,{"$f":"F229+F234+F244+F249+F256+F263","v":2409},{"$f":"G229+G234+G244+G249+G256+G263","v":105.98},{"$f":"H229+H234+H244+H249+H256+H263","v":224.58},{"$f":"I229+I234+I244+I249+I256+I263","v":395.8},{"$f":"J229+J234+J244+J249+J256+J263","v":3216.8},null,{"$f":"L229+L234+L244+L249+L256+L263","v":0}]
[1,7,"Завтрак","гор.блюдо","Омлет",200,16.6,18.24,2.88,200,19]
[{"$nulls":3},"гор.напиток","Кофейный напиток из цикория",200,4.32,4.6,9.6,135,54]
[{"$nulls":3},"хлеб бел.","Хлеб пшеничный",120,3.1,0.2,20.1,284.1,37]
[{"$nulls":3},"масло слив.","Масло слив.",15,0.4,62.5,0.8,205,50]
[{"$nulls":3},"кондит.изд.","Вафли",30,1,8.8,18.8,154.2,30]
[{"$nulls":3},"фрукты","Апельсин ",100,1.4,0.3,8.1,36,61]
[]
[{"$nulls":3},"итого",null,665,{"$f":"SUM(G265:G271)","v":26.82},{"$f":"SUM(H265:H271)","v":94.64},{"$f":"SUM(I265:I271)","v":60.28},{"$f":"SUM(J265:J271)","v":1014.3},null,{"$f":"SUM(L265:L271)","v":0}]
[{"$f":"A265","v":1},{"$f":"B265","v":7},"Завтрак 2","фрукты"]
[]
[]
[{"$nulls":3},"итого",null,{"$f":"SUM(F273:F275)","v":0},{"$f":"SUM(G273:G275)","v":0},{"$f":"SUM(H273:H275)","v":0},{"$f":"SUM(I273:I275)","v":0},{"$f":"SUM(J273:J275)","v":0},null,{"$f":"SUM(L273:L281)","v":{"$error":"#VALUE!"}}]
[{"$f":"A265","v":1},{"$f":"B265","v":7},"Обед","закуска","Винегрет",100,1.57,5.18,6.7,129.23,34]
[{"$nulls":3},"1 блюдо","Суп картоф с фрикадельками",250,2.1,2.15,16.5,132.75,3]
[{"$nulls":3},"2 блюдо","Картофель печеный",200,5.2,1,40.8,204,78]
[{"$nulls":3},"гарнир","Рыба запеченная",100,13.7,6.2,4.4,153,72]
[{"$nulls":3},"напиток","Компот из с/ф",200,4,0.06,35.2,110,53]
[{"$nulls":3},"хлеб бел."]
[{"$nulls":3},"хлеб черн.","Хлеб \"Дарницкий\"",120,2.6,0.4,17,247.2,36]
[{"$nulls":3},"фрукты","Банан",100,1.4,0.3,12.1,{"v":96,"d":"96.0"},62]
[]
[{"$nulls":3},"итого",null,{"$f":"SUM(F277:F285)","v":1070},{"$f":"SUM(G277:G285)","v":30.57},{"$f":"SUM(H277:H285)","v":15.29},{"$f":"SUM(I277:I285)","v":132.7},{"$f":"SUM(J277:J285)","v":1072.18},null,{"$f":"SUM(L283:L291)","v":{"$error":"#VALUE!"}}]
[{"$f":"A265","v":1},{"$f":"B265","v":7},"Полдник","кисломол."]
[{"$nulls":3},"фрукты"]
[]
[]
[{"$nulls":3},"итого",null,{"$f":"SUM(F287:F290)","v":0},{"$f":"SUM(G287:G290)","v":0},{"$f":"SUM(H287:H290)","v":0},{"$f":"SUM(I287:I290)","v":0},{"$f":"SUM(J287:J290)","v":0},null,{"$f":"SUM(L284:L290)","v":{"$error":"#VALUE!"}}]
[{"$f":"A265","v":1},{"$f":"B265","v":7},"Ужин","хлеб бел.","Хлеб пшеничный",160,3.1,0.2,20.1,378.8,37]
[{"$nulls":3},"гор.напиток","Чай слад.",200,0.1,0,9.9,39.9,51]
[{"$nulls":3},"2 блюдо","Каша перловая мол.","200/10",4.6,4.3,5.7,100,64]
[{"$nulls":3},"масло слив.","Масло слив.",15,0.4,62.5,0.8,205,50]
[{"$nulls":3},"гарнир","Гуляш  из говядины",100,10,15.3,5.5,132.4,25]
[]
[{"$nulls":3},"итого",null,675,{"$f":"SUM(G292:G297)","v":18.2},{"$f":"SUM(H292:H297)","v":82.3},{"$f":"SUM(I292:I297)","v":42},{"$f":"SUM(J292:J297)","v":856.1},null,{"$f":"SUM(L292:L300)","v":{"$error":"#VALUE!"}}]
[{"$f":"A265","v":1},{"$f":"B265","v":7},"Ужин 2","кисломол.","Ряженка ",200,12,2,8.4,134,58]
[{"$nulls":3},"фрукты","Яблоки св.",100,0.6,0.6,14.3,68.6,60]
[{"$nulls":3},"напиток"]
[]
[]
[]
[{"$nulls":3},"итого",null,{"$f":"SUM(F299:F304)","v":300},{"$f":"SUM(G299:G304)","v":12.6},{"$f":"SUM(H299:H304)","v":2.6},{"$f":"SUM(I299:I304)","v":22.7},{"$f":"SUM(J299:J304)","v":202.6},null,{"$f":"SUM(L299:L307)","v":{"$error":"#VALUE!"}}]
[{"$f":"A265","v":1},{"$f":"B265","v":7},"Итого за день:",null,null,{"$f":"F272+F276+F286+F291+F298+F305","v":2710},{"$f":"G272+G276+G286+G291+G298+G305","v":88.19},{"$f":"H272+H276+H286+H291+H298+H305","v":194.83},{"$f":"I272+I276+I286+I291+I298+I305","v":257.68},{"$f":"J272+J276+J286+J291+J298+J305","v":3145.18},null,{"$f":"L272+L276+L286+L291+L298+L305","v":0}]
[2,1,"Завтрак","гор.блюдо","Каша манная молочная",200,6,5,30.8,200,20]
[{"$nulls":3},"масло","Масло сливочное",10,0.4,62.5,0.8,105]
[{"$nulls":3},"гор.напиток","Какао с молоком",200,4.62,4.02,43.8,135,63]
[{"$nulls":3},"хлеб","Хлеб пшеничный",120,3.1,0.2,20.1,284.1,37]
[{"$nulls":3},"фрукты","Апельсин",100,1.4,0.3,8.1,36,61]
[{"$nulls":3},"сыр","Сыр",24,4.3,5.4,0,67.4,48]
[]
[{"$nulls":3},"итого",null,{"$f":"SUM(F307:F313)","v":654},{"$f":"SUM(G307:G313)","v":19.82},{"$f":"SUM(H307:H313)","v":77.42},{"$f":"SUM(I307:I313)","v":103.6},{"$f":"SUM(J307:J313)","v":827.5},null,{"$f":"SUM(L307:L313)","v":0}]
[{"$f":"A307","v":2},{"$f":"B307","v":1},"Завтрак 2","фрукты","Банан",100,1.4,0.3,12.1,96,62]
[{"$nulls":3},"напиток","Компот из с/ф",200,4,0.06,35.2,110,53]
[{"$nulls":3},"выпечка","Ватрушка с творогом",100,4.8,4.7,46.9,248.3,39]
[{"$nulls":3},"хлеб","Хлеб пшеничный",120,3.1,0.2,20.1,284.1,37]
[{"$nulls":3},"итого",null,{"$f":"SUM(F315:F318)","v":520},{"$f":"SUM(G315:G318)","v":13.3},{"$f":"SUM(H315:H318)","v":5.26},{"$f":"SUM(I315:I318)","v":114.3},{"$f":"SUM(J315:J318)","v":738.4},null,{"$f":"SUM(L315:L324)","v":{"$error":"#VALUE!"}}]
[{"$f":"A307","v":2},{"$f":"B307","v":1},"Обед","закуска","Салат из белокач.капусты",100,2.1,8.5,10.5,105.5,31]
[{"$nulls":3},"1 блюдо","Суп горох к/м",250,9.2,7.7,16.3,330.2,7]
[{"$nulls":3},"2 блюдо","Каша пшенная мол.",200,7.51,11.72,37.05,285,12]
[{"$nulls":3},"гарнир","Гуляш из говядины",100,10,15.3,5.5,132.4,25]
[{"$nulls":3},"напиток","Сок",200,0.8,0,23,94,57]
[{"$nulls":3},"хлеб бел."]
[{"$nulls":3},"хлеб черн.","Хлеб \"Дарницкий\"",80,2.6,0.4,17,164.8,36]
[]
[]
[{"$nulls":3},"итого",null,{"$f":"SUM(F320:F328)","v":930},{"$f":"SUM(G320:G328)","v":32.21},{"$f":"SUM(H320:H328)","v":43.62},{"$f":"SUM(I320:I328)","v":109.35},{"$f":"SUM(J320:J328)","v":1111.9},null,{"$f":"SUM(L326:L334)","v":{"$error":"#VALUE!"}}]
[{"$f":"A307","v":2},{"$f":"B307","v":1},"Полдник","булочное"]
[{"$nulls":3},"напиток"]
[]
[]
[{"$nulls":3},"итого",null,{"$f":"SUM(F330:F333)","v":0},{"$f":"SUM(G330:G333)","v":0},{"$f":"SUM(H330:H333)","v":0},{"$f":"SUM(I330:I333)","v":0},{"$f":"SUM(J330:J333)","v":0},null,{"$f":"SUM(L327:L333)","v":{"$error":"#VALUE!"}}]
[{"$f":"A307","v":2},{"$f":"B307","v":1},"Ужин","гор.блюдо","Картофельное пюре",200,4.9,7.2,34,207,17]
[{"$nulls":3},"гарнир","Рыба запеченная",100,13.7,6.2,4.4,153,72]
[{"$nulls":3},"напиток","Чай сладкий",200,0.1,0,9.9,39.9,51]
[{"$nulls":3},"хлеб","Хлеб\"Дарницкий\"",80,2.6,0.4,17,164.8,36]
[{"$nulls":3},"масло","Масло слив.",10,0.4,62.5,0.8,105,50]
[]
[{"$nulls":3},"итого",null,{"$f":"SUM(F335:F340)","v":590},{"$f":"SUM(G335:G340)","v":21.7},{"$f":"SUM(H335:H340)","v":76.3},{"$f":"SUM(I335:I340)","v":66.1},{"$f":"SUM(J335:J340)","v":669.7},null,{"$f":"SUM(L335:L343)","v":{"$error":"#VALUE!"}}]
[{"$f":"A307","v":2},{"$f":"B307","v":1},"Ужин 2","кисломол.","Ряженка ",200,12,2,8.4,134,58]
[{"$nulls":3},"фрукты","Яблоки св.",100,0.6,0.6,14.3,68.6,60]
[{"$nulls":3},"напиток"]
[]
[]
[]
[{"$nulls":3},"итого",null,{"$f":"SUM(F342:F347)","v":300},{"$f":"SUM(G342:G347)","v":12.6},{"$f":"SUM(H342:H347)","v":2.6},{"$f":"SUM(I342:I347)","v":22.7},{"$f":"SUM(J342:J347)","v":202.6},null,{"$f":"SUM(L342:L350)","v":{"$error":"#VALUE!"}}]
[{"$f":"A307","v":2},{"$f":"B307","v":1},"Итого за день:",null,null,{"$f":"F314+F319+F329+F334+F341+F348","v":2994},{"$f":"G314+G319+G329+G334+G341+G348","v":99.63},{"$f":"H314+H319+H329+H334+H341+H348","v":205.2},{"$f":"I314+I319+I329+I334+I341+I348","v":416.05},{"$f":"J314+J319+J329+J334+J341+J348","v":3550.1},null,{"$f":"L314+L319+L329+L334+L341+L348","v":{"$error":"#VALUE!"}}]
[2,2,"Завтрак","гор.блюдо","Каша геркулес молочный","200/10",9.7,8.3,36.8,212,23]
[{"$nulls":3},"масло","Масло сливочное",10,0.4,62.5,0.8,105,50]
[{"$nulls":3},"гор.напиток","Кофейный напиток из цикория",200,4.32,4.6,9.6,135,54]
[{"$nulls":3},"хлеб","Хлеб пшеничный",120,3.1,0.2,20.1,284.1,37]
[{"$nulls":3},"фрукты","Апельсин",100,1.4,0.3,8.1,36,61]
[]
[]
[{"$nulls":3},"итого",null,{"$f":"SUM(F350:F356)","v":430},{"$f":"SUM(G350:G356)","v":18.92},{"$f":"SUM(H350:H356)","v":75.9},{"$f":"SUM(I350:I356)","v":75.4},{"$f":"SUM(J350:J356)","v":772.1},null,{"$f":"SUM(L350:L356)","v":0}]
[{"$f":"A350","v":2},{"$f":"B350","v":2},"Завтрак 2","фрукты","Банан",100,1.4,0.3,12.1,96,62]
[{"$nulls":3},"напиток","Компот из с/ф",200,4,0.06,35.2,110,53]
[{"$nulls":4},"Яйцо вареное",1,5.1,4.6,0.3,63,49]
[{"$nulls":3},{"$f":"D269","v":"кондит.изд."},{"$f":"E269","v":"Вафли"},{"$f":"F269","v":30},{"$f":"G269","v":1},{"$f":"H269","v":8.8},{"$f":"I269","v":18.8},{"$f":"J269","v":154.2},{"$f":"K269","v":30}]
[{"$nulls":3},"хлеб","Хлеб пшеничный",160,3.1,0.2,20.1,378.8,37]
[{"$nulls":3},"итого",null,{"$f":"SUM(F358:F362)","v":491},{"$f":"SUM(G358:G362)","v":14.6},{"$f":"SUM(H358:H362)","v":13.96},{"$f":"SUM(I358:I362)","v":86.5},{"$f":"SUM(J358:J362)","v":802},null,{"$f":"SUM(L358:L368)","v":{"$error":"#VALUE!"}}]
[{"$f":"A350","v":2},{"$f":"B350","v":2},"Обед","закуска","Салат морковный",100,1.16,8.3,14.6,98.8,35]
[{"$nulls":3},"1блюдо","Борщ к/м со сметаной","250/15",8.4,10.3,13.7,105.2,2]
[{"$nulls":3},"2 блюдо","Плов из говядины",200,18.8,15.6,18.6,258,11]
[{"$nulls":3},"гарнир"]
[{"$nulls":3},"напиток","Сок",200,0.8,0,23,94,57]
[{"$nulls":3},"хлеб бел."]
[{"$nulls":3},"хлеб","Хлеб\"Дарницкий\"",80,2.6,0.4,17,164.8,36]
[]
[]
[{"$nulls":3},"итого",null,830,{"$f":"SUM(G364:G372)","v":31.76},{"$f":"SUM(H364:H372)","v":34.6},{"$f":"SUM(I364:I372)","v":86.9},{"$f":"SUM(J364:J372)","v":720.8},null,{"$f":"SUM(L370:L378)","v":{"$error":"#VALUE!"}}]
[{"$f":"A350","v":2},{"$f":"B350","v":2},"Полдник","булочное"]
[{"$nulls":3},"напиток"]
[]
[]
[{"$nulls":3},"итого",null,{"$f":"SUM(F374:F377)","v":0},{"$f":"SUM(G374:G377)","v":0},{"$f":"SUM(H374:H377)","v":0},{"$f":"SUM(I374:I377)","v":0},{"$f":"SUM(J374:J377)","v":0},null,{"$f":"SUM(L371:L377)","v":{"$error":"#VALUE!"}}]
[{"$f":"A350","v":2},{"$f":"B350","v":2},"Ужин","гор.блюдо","Овощное рагу с мясом говяд.",200,3.46,6.26,9.98,310,10]
[{"$nulls":3},"творог","Творог со сметаной","200/10",18,9,3,164.3,40]
[{"$nulls":3},"напиток","Чай сладкий",200,0.1,0,9.9,39.9,51]
[{"$nulls":3},"хлеб","Хлеб\"Дарницкий\"",80,2.6,0.4,17,164.8,36]
[{"$nulls":3},"масло","Масло сливочное",10,0.4,62.5,0.8,105,50]
[]
[{"$nulls":3},"итого",null,690,{"$f":"SUM(G379:G384)","v":24.56},{"$f":"SUM(H379:H384)","v":78.16},{"$f":"SUM(I379:I384)","v":40.68},{"$f":"SUM(J379:J384)","v":784},null,{"$f":"SUM(L379:L387)","v":{"$error":"#VALUE!"}}]
[{"$f":"A350","v":2},{"$f":"B350","v":2},"Ужин 2","кисломол.","Ряженка ",200,12,2,8.4,134,58]
[{"$nulls":3},"фрукты","Яблоки св.",100,0.6,0.6,14.3,68.6,60]
[{"$nulls":3},"напиток"]
[]
[]
[]
[{"$nulls":3},"итого",null,{"$f":"SUM(F386:F391)","v":300},{"$f":"SUM(G386:G391)","v":12.6},{"$f":"SUM(H386:H391)","v":2.6},{"$f":"SUM(I386:I391)","v":22.7},{"$f":"SUM(J386:J391)","v":202.6},null,{"$f":"SUM(L386:L394)","v":{"$error":"#VALUE!"}}]
[{"$f":"A350","v":2},{"$f":"B350","v":2},"Итого за день:",null,null,{"$f":"F357+F363+F373+F378+F385+F392","v":2741},{"$f":"G357+G363+G373+G378+G385+G392","v":102.44},{"$f":"H357+H363+H373+H378+H385+H392","v":205.22},{"$f":"I357+I363+I373+I378+I385+I392","v":312.18},{"$f":"J357+J363+J373+J378+J385+J392","v":3281.5},null,{"$f":"L357+L363+L373+L378+L385+L392","v":{"$error":"#VALUE!"}}]
[2,3,"Завтрак","гор.блюдо","Омлет",200,16.6,18.24,2.88,200,19]
[{"$nulls":3},"масло","Масло сливочное",15,0.4,62.5,0.8,205,50]
[{"$nulls":3},"гор.напиток","Чай сладкий",200,0.1,0,9.9,39.9,51]
[{"$nulls":3},"хлеб","Хлеб пшеничный",120,3.1,0.2,20.1,284.1,37]
[{"$nulls":3},"фрукты","Апельсин",100,1.4,0.3,8.1,36,61]
[{"$nulls":3},"сыр","Сыр",24,4.3,5.4,0,67.4,48]
[]
[{"$nulls":3},"итого",null,{"$f":"SUM(F394:F400)","v":659},{"$f":"SUM(G394:G400)","v":25.9},{"$f":"SUM(H394:H400)","v":86.64},{"$f":"SUM(I394:I400)","v":41.78},{"$f":"SUM(J394:J400)","v":832.4},null,{"$f":"SUM(L394:L400)","v":0}]
[{"$f":"A394","v":2},{"$f":"B394","v":3},"Завтрак 2","фрукты","Банан",100,1.4,0.3,12.1,96,62]
[{"$nulls":3},"напиток","Компот из с/ф",200,4,0.06,35.2,110,53]
[{"$nulls":3},"выпечка","Ватрушка с картошкой",80,5.4,5.8,32.4,95,38]
[{"$nulls":3},"хлеб","Хлеб пшеничный",160,3.1,0.2,20.1,378.8,37]
[{"$nulls":3},"итого",null,{"$f":"SUM(F402:F405)","v":540},{"$f":"SUM(G402:G405)","v":13.9},{"$f":"SUM(H402:H405)","v":6.36},{"$f":"SUM(I402:I405)","v":99.8},{"$f":"SUM(J402:J405)","v":679.8},null,{"$f":"SUM(L402:L411)","v":{"$error":"#VALUE!"}}]
[{"$f":"A394","v":2},{"$f":"B394","v":3},"Обед","закуска","Салат из вареной свеклы",100,1.8,10,10,64.2,33]
[{"$nulls":3},"1 блюдо","Рассольник к/м с перловкой со сметаной","250/10",4.65,10.01,10.08,322,4]
[{"$nulls":3},"2 блюдо","Макароны отварные","200/10",7.6,9.2,48.8,150.7,18]
[{"$nulls":3},"гарнир","Рыбные тефтели","50/50",12.7,5.2,4.4,224.6,77]
[{"$nulls":3},"напиток","Сок",200,0.8,0,23,94,53]
[{"$nulls":3},"хлеб бел."]
[{"$nulls":3},"хлеб","Хлеб\"Дарницкий\"",80,2.6,0.4,17,164.8,36]
[]
[]
[{"$nulls":3},"итого",null,930,{"$f":"SUM(G407:G415)","v":30.15},{"$f":"SUM(H407:H415)","v":34.81},{"$f":"SUM(I407:I415)","v":113.28},{"$f":"SUM(J407:J415)","v":1020.3},null,{"$f":"SUM(L413:L421)","v":{"$error":"#VALUE!"}}]
[{"$f":"A394","v":2},{"$f":"B394","v":3},"Полдник","булочное"]
[{"$nulls":3},"напиток"]
[]
[]
[{"$nulls":3},"итого",null,{"$f":"SUM(F417:F420)","v":0},{"$f":"SUM(G417:G420)","v":0},{"$f":"SUM(H417:H420)","v":0},{"$f":"SUM(I417:I420)","v":0},{"$f":"SUM(J417:J420)","v":0},null,{"$f":"SUM(L414:L420)","v":{"$error":"#VALUE!"}}]
[{"$f":"A394","v":2},{"$f":"B394","v":3},"Ужин","гор.блюдо","Гороховое пюре с фаршем говядины",200,17.7,14.2,27.4,283.1,71]
[{"$nulls":3},"гарнир"]
[{"$nulls":3},"напиток","Чай с молоком",200,1.64,1.64,2.38,30,52]
[{"$nulls":3},"хлеб","Хлеб\"Дарницкий\"",80,2.6,0.4,17,164.8,36]
[{"$nulls":3},"масло","Масло сливочное",15,0.4,62.5,0.8,205,50]
[]
[{"$nulls":3},"итого",null,{"$f":"SUM(F422:F427)","v":495},{"$f":"SUM(G422:G427)","v":22.34},{"$f":"SUM(H422:H427)","v":78.74},{"$f":"SUM(I422:I427)","v":47.58},{"$f":"SUM(J422:J427)","v":682.9},null,{"$f":"SUM(L422:L430)","v":{"$error":"#VALUE!"}}]
[{"$f":"A394","v":2},{"$f":"B394","v":3},"Ужин 2","кисломол.","Ряженка ",200,12,2,8.4,134,58]
[{"$nulls":3},"фрукты","Яблоки св.",100,0.6,0.6,14.3,68.6,60]
[{"$nulls":3},"напиток"]
[]
[]
[]
[{"$nulls":3},"итого",null,{"$f":"SUM(F429:F434)","v":300},{"$f":"SUM(G429:G434)","v":12.6},{"$f":"SUM(H429:H434)","v":2.6},{"$f":"SUM(I429:I434)","v":22.7},{"$f":"SUM(J429:J434)","v":202.6},null,{"$f":"SUM(L429:L437)","v":{"$error":"#VALUE!"}}]
[{"$f":"A394","v":2},{"$f":"B394","v":3},"Итого за день:",null,null,{"$f":"F401+F406+F416+F421+F428+F435","v":2924},{"$f":"G401+G406+G416+G421+G428+G435","v":104.89},{"$f":"H401+H406+H416+H421+H428+H435","v":209.15},{"$f":"I401+I406+I416+I421+I428+I435","v":325.14},{"$f":"J401+J406+J416+J421+J428+J435","v":3418},null,{"$f":"L401+L406+L416+L421+L428+L435","v":{"$error":"#VALUE!"}}]
[2,4,"Завтрак","гор.блюдо","Каша яичневая молочная",200,7.5,5.9,42.5,297.1,24]
[{"$nulls":3},"масло","Масло сливочное",10,0.4,62.5,0.8,105,50]
[{"$nulls":3},"гор.напиток","Чай с молоком",200,1.64,1.64,2.38,30,52]
[{"$nulls":3},"хлеб","Хлеб пшеничный",120,3.1,0.2,20.1,284.1,37]
[{"$nulls":3},"фрукты","Апельсин",100,1.4,0.3,8.1,36,61]
[]
[]
[{"$nulls":3},"итого",null,630,{"$f":"SUM(G437:G443)","v":14.04},{"$f":"SUM(H437:H443)","v":70.54},{"$f":"SUM(I437:I443)","v":73.88},{"$f":"SUM(J437:J443)","v":752.2},null,{"$f":"SUM(L437:L443)","v":0}]
[{"$f":"A437","v":2},{"$f":"B437","v":4},"Завтрак 2","фрукты","Банан",100,1.4,0.3,12.1,96,62]
[{"$nulls":3},"хлеб","Хлеб пшеничный",160,3.1,0.2,20.1,378.8,37]
[{"$nulls":3},"кондит.изд","Печенье",30,3,1.9,20.8,166.8,47]
[{"$nulls":3},"гор.напиток","Какао с молоком",200,4.62,4.02,43.8,135,63]
[{"$nulls":3},"итого",null,490,{"$f":"SUM(G445:G448)","v":12.12},{"$f":"SUM(H445:H448)","v":6.42},{"$f":"SUM(I445:I448)","v":96.8},{"$f":"SUM(J445:J448)","v":776.6},null,{"$f":"SUM(L445:L454)","v":{"$error":"#VALUE!"}}]
[{"$f":"A437","v":2},{"$f":"B437","v":4},"Обед","закуска"]
[{"$nulls":3},"1 блюдо","Суп лапша домашняя к/м.",250,4.22,3.95,22.66,252,5]
[{"$nulls":3},"2 блюдо","Капуста тушенная с мясным фаршем из говядины",200,10,8.2,10.8,280,9]
[{"$nulls":3},"гарнир"]
[{"$nulls":3},"напиток","Компот из смеси с/ф.",200,4,0.06,35.2,110,53]
[{"$nulls":3},"хлеб бел."]
[{"$nulls":3},"хлеб","Хлеб\"Дарницкий\"",80,2.6,0.4,17,164.8,36]
[]
[]
[{"$nulls":3},"итого",null,{"$f":"SUM(F450:F458)","v":730},{"$f":"SUM(G450:G458)","v":20.82},{"$f":"SUM(H450:H458)","v":12.61},{"$f":"SUM(I450:I458)","v":85.66},{"$f":"SUM(J450:J458)","v":806.8},null,{"$f":"SUM(L456:L464)","v":{"$error":"#VALUE!"}}]
[{"$f":"A437","v":2},{"$f":"B437","v":4},"Полдник","булочное"]
[{"$nulls":3},"напиток"]
[]
[]
[{"$nulls":3},"итого",null,{"$f":"SUM(F460:F463)","v":0},{"$f":"SUM(G460:G463)","v":0},{"$f":"SUM(H460:H463)","v":0},{"$f":"SUM(I460:I463)","v":0},{"$f":"SUM(J460:J463)","v":0},null,{"$f":"SUM(L457:L463)","v":{"$error":"#VALUE!"}}]
[{"$f":"A437","v":2},{"$f":"B437","v":4},"Ужин","гор.блюдо","Жаркое по домашнему",200,24.7,13.3,16.5,145.08,8]
[{"$nulls":3},"гарнир"]
[{"$nulls":3},"гор.напиток","Чай сладкий",200,0.1,0,9.9,39.9,51]
[{"$nulls":3},"хлеб","Хлеб\"Дарницкий\"",80,2.6,0.4,17,164.8,36]
[{"$nulls":3},"творог","Творог со сметаной",200,18,9,3,164.3,40]
[{"$nulls":3},"масло","Масло сливочное",10,0.4,62.5,0.8,105,50]
[{"$nulls":3},"итого",null,{"$f":"SUM(F465:F470)","v":690},{"$f":"SUM(G465:G470)","v":45.8},{"$f":"SUM(H465:H470)","v":85.2},{"$f":"SUM(I465:I470)","v":47.2},{"$f":"SUM(J465:J470)","v":619.08},null,{"$f":"SUM(L464:L470)","v":{"$error":"#VALUE!"}}]
[{"$f":"A436","v":2},4,"Ужин 2","кисломол.","Ряженка ",200,12,2,8.4,134,58]
[{"$nulls":3},"фрукты","Яблоки св.",100,0.6,0.6,14.3,68.6,60]
[{"$nulls":3},"напиток"]
[]
[]
[]
[{"$nulls":3},"итого",null,{"$f":"SUM(F472:F477)","v":300},{"$f":"SUM(G472:G477)","v":12.6},{"$f":"SUM(H472:H477)","v":2.6},{"$f":"SUM(I472:I477)","v":22.7},{"$f":"SUM(J472:J477)","v":202.6},null,{"$f":"SUM(L472:L479)","v":0}]
[{"$f":"A436","v":2},4,"Итого за день:",null,null,2840,105.38,177.37,326.24,3157.28,null,{"$f":"L443+L448+L458+L463+L470+L478","v":0}]
[2,5,"Завтрак","гор.блюдо","Каша геркулес мол.",200,9.7,8.3,36.8,212,23]
[{"$nulls":3},"сыр","Сыр",24,4.3,5.4,0,67.4]
[{"$nulls":3},"гор.напиток","Чай сладкий",200,0.1,0,9.9,135,63]
[{"$nulls":3},"хлеб","Хлеб пшеничной ",120,3.1,0.2,20.1,284.1,37]
[{"$nulls":3},"фрукты","Апельсин ",100,1.4,0.3,8.1,36,61]
[{"$nulls":3},"масло слив.","Масло сливочное ",10,0.4,62.5,0.8,105,50]
[]
[{"$nulls":3},"итого",null,{"$f":"SUM(F480:F486)","v":654},{"$f":"SUM(G480:G486)","v":19},{"$f":"SUM(H480:H486)","v":76.7},{"$f":"SUM(I480:I486)","v":75.7},{"$f":"SUM(J480:J486)","v":839.5},null,{"$f":"SUM(L480:L486)","v":0}]
[]
[2,5,"Завтрак 2","2 блюдо","Каша греч.мол.",200,12,11.4,59.1,393.1,22]
[{"$nulls":3},"гарнир","Гуляш из говядины",100,10,15.3,5.5,132.4,25]
[{"$nulls":3},"напиток","Сок",200,0.8,0,23,94,57]
[{"$nulls":3},"хлеб бел."]
[{"$nulls":3},"хлеб","Хлеб\"Дарницкий\"",80,2.6,0.4,17,164.8,36]
[]
[]
[{"$nulls":3},"итого",null,830,{"$f":"SUM(G486:G495)","v":44.4},{"$f":"SUM(H486:H495)","v":103.8},{"$f":"SUM(I486:I495)","v":180.3},{"$f":"SUM(J486:J495)","v":1623.8},null,{"$f":"SUM(L493:L509)","v":{"$error":"#VALUE!"}}]
[2,5,"Обед","закуска","Салат морковный",100,1.16,8.3,14.6,98.8,35]
[{"$nulls":3},"1 блюдо","Щи к/м со сметаной","250/15",9.1,10.5,15.9,194.9,1]
[{"$nulls":3},"2 блюдо","Гуляш из говядины",100,10,15.3,5.5,132.4,25]
[{"$nulls":3},"гарнир","Каша греч мол",200,12,11.4,59.1,393.1,22]
[{"$nulls":3},"напиток","Сок",200,0.8,0,23,94,57]
[{"$nulls":3},"хлеб бел."]
[{"$nulls":3},"хлеб","Хлеб\"Дарницкий\"",80,2.6,0.4,17,164.8,36]
[{"$nulls":3},"итого",null,930,{"$f":"SUM(G497:G503)","v":35.66},{"$f":"SUM(H497:H503)","v":45.9},{"$f":"SUM(I497:I503)","v":135.1},{"$f":"SUM(J497:J503)","v":1078}]
[2,5,"Полдник","булочное"]
[{"$nulls":3},"напиток"]
[]
[]
[{"$nulls":3},"итого",null,{"$f":"SUM(F505:F508)","v":0},{"$f":"SUM(G505:G508)","v":0},{"$f":"SUM(H505:H508)","v":0},{"$f":"SUM(I505:I508)","v":0},{"$f":"SUM(J505:J508)","v":0},null,{"$f":"SUM(L494:L508)","v":{"$error":"#VALUE!"}}]
[2,5,"Ужин","гор.блюдо","Каша рис мол.",200,5.8,9.2,42.6,277.5,21]
[{"$nulls":3},"гарнир","Рыба запеченная",100,13.7,6.2,4.4,153,72]
[{"$nulls":3},"гор.напиток","Чай с молоком",200,1.64,1.64,2.38,30,52]
[{"$nulls":3},"хлеб","Хлеб\"Дарницкий\"",80,2.6,0.4,17,164.8,36]
[{"$nulls":3},"масло","Масло сливочное",10,0.4,62.5,0.8,105,50]
[]
[{"$nulls":3},"итого",null,490,{"$f":"SUM(G510:G515)","v":24.14},{"$f":"SUM(H510:H515)","v":79.94},{"$f":"SUM(I510:I515)","v":67.18},{"$f":"SUM(J510:J515)","v":730.3},null,{"$f":"SUM(L510:L518)","v":{"$error":"#VALUE!"}}]
[2,5,"Ужин 2","кисломол.","Ряженка ",200,12,2,8.4,134,58]
[{"$nulls":3},"фрукты","Яблоки св.",100,0.6,0.6,14.3,68.6,60]
[{"$nulls":3},"напиток"]
[]
[]
[]
[{"$nulls":3},"итого",null,{"$f":"SUM(F517:F522)","v":300},{"$f":"SUM(G517:G522)","v":12.6},{"$f":"SUM(H517:H522)","v":2.6},{"$f":"SUM(I517:I522)","v":22.7},{"$f":"SUM(J517:J522)","v":202.6},null,{"$f":"SUM(L517:L525)","v":{"$error":"#VALUE!"}}]
[2,5,"Итого за день:",null,null,{"$f":"#REF!+F485+F496+F509+F516+F523","v":{"$error":"#REF!"}},{"$f":"#REF!+G485+G496+G509+G516+G523","v":{"$error":"#REF!"}},{"$f":"#REF!+H485+H496+H509+H516+H523","v":{"$error":"#REF!"}},{"$f":"#REF!+I485+I496+I509+I516+I523","v":{"$error":"#REF!"}},{"$f":"#REF!+J485+J496+J509+J516+J523","v":{"$error":"#REF!"}},null,{"$f":"#REF!+L485+L496+L509+L516+L523","v":{"$error":"#REF!"}}]
[2,6,"Завтрак","гор.блюдо","Каша манная молочная",200,6,5,30.8,200,20]
[{"$nulls":3},"масло","Масло сливочное",15,0.4,62.5,0.8,205,50]
[{"$nulls":3},"гор.напиток","Кофейный напиток из цикория",200,4.32,4.6,9.6,135,54]
[{"$nulls":3},"хлеб","Хлеб пшеничный",160,3.1,0.2,20.1,378.8,37]
[{"$nulls":3},"фрукты","Апельсин",100,1.4,0.3,8.1,36,61]
[{"$nulls":3},"кондит.изд","Вафли",30,1,8.8,18.8,154.2,46]
[]
[{"$nulls":3},"итого",null,{"$f":"SUM(F525:F531)","v":705},{"$f":"SUM(G525:G531)","v":16.22},{"$f":"SUM(H525:H531)","v":81.4},{"$f":"SUM(I525:I531)","v":88.2},{"$f":"SUM(J525:J531)","v":1109},null,{"$f":"SUM(L525:L531)","v":0}]
[{"$f":"A525","v":2},{"$f":"B525","v":6},"Завтрак 2","фрукты"]
[]
[]
[{"$nulls":3},"итого",null,{"$f":"SUM(F533:F535)","v":0},{"$f":"SUM(G533:G535)","v":0},{"$f":"SUM(H533:H535)","v":0},{"$f":"SUM(I533:I535)","v":0},{"$f":"SUM(J533:J535)","v":0},null,{"$f":"SUM(L533:L541)","v":{"$error":"#VALUE!"}}]
[{"$f":"A525","v":2},{"$f":"B525","v":6},"Обед","закуска","Свекла вареная дольками",100,1.17,6.96,8.8,60,32]
[{"$nulls":3},"1 блюдо","Суп крестьян с пшеном со смет","250/15",10,8.63,7.9,267.3,65]
[{"$nulls":3},"2 блюдо","Гороховое пюре",200,14.8,12,28.5,128.5,16]
[{"$nulls":3},"гарнир","Котлеты из говядины",100,21,22.2,15,217.2,27]
[{"$nulls":3},"напиток","Компот из смеси с/ф.",200,4,0.06,35.2,110,53]
[{"$nulls":3},"хлеб бел."]
[{"$nulls":3},"хлеб","Хлеб\"Дарницкий\"",80,2.6,0.4,17,164.8,36]
[{"$nulls":3},"фрукты","Банан",100,1.4,0.3,12.1,96,62]
[]
[{"$nulls":3},"итого",null,1030,{"$f":"SUM(G537:G545)","v":54.97},{"$f":"SUM(H537:H545)","v":50.55},{"$f":"SUM(I537:I545)","v":124.5},{"$f":"SUM(J537:J545)","v":1043.8},null,{"$f":"SUM(L543:L551)","v":{"$error":"#VALUE!"}}]
[{"$f":"A525","v":2},{"$f":"B525","v":6},"Полдник","булочное"]
[{"$nulls":3},"напиток"]
[]
[]
[{"$nulls":3},"итого",null,{"$f":"SUM(F547:F550)","v":0},{"$f":"SUM(G547:G550)","v":0},{"$f":"SUM(H547:H550)","v":0},{"$f":"SUM(I547:I550)","v":0},{"$f":"SUM(J547:J550)","v":0},null,{"$f":"SUM(L544:L550)","v":{"$error":"#VALUE!"}}]
[{"$f":"A525","v":2},{"$f":"B525","v":6},"Ужин","гор.блюдо","Овощное рагу с мяом говядины",200,3.46,6.26,9.98,310,10]
[{"$nulls":3},"гарнир"]
[{"$nulls":3},"гор.напиток","Чай с молоком",200,1.64,1.64,2.38,30,52]
[{"$nulls":3},"хлеб","Хлеб\"Дарницкий\"",80,2.6,0.4,17,164.8,36]
[{"$nulls":3},"масло","Масло сливочное",15,0.4,62.5,0.8,205,50]
[]
[{"$nulls":3},"итого",null,495,{"$f":"SUM(G552:G557)","v":8.1},{"$f":"SUM(H552:H557)","v":70.8},{"$f":"SUM(I552:I557)","v":30.16},{"$f":"SUM(J552:J557)","v":709.8},null,{"$f":"SUM(L552:L560)","v":{"$error":"#VALUE!"}}]
[{"$f":"A525","v":2},{"$f":"B525","v":6},"Ужин 2","кисломол.","Ряженка ",200,12,2,8.4,134,58]
[{"$nulls":3},"фрукты","Яблоки св.",100,0.6,0.6,14.3,68.6,60]
[{"$nulls":3},"напиток"]
[]
[]
[]
[{"$nulls":3},"итого",null,{"$f":"SUM(F559:F564)","v":300},{"$f":"SUM(G559:G564)","v":12.6},{"$f":"SUM(H559:H564)","v":2.6},{"$f":"SUM(I559:I564)","v":22.7},{"$f":"SUM(J559:J564)","v":202.6},null,{"$f":"SUM(L559:L567)","v":{"$error":"#VALUE!"}}]
[{"$f":"A525","v":2},{"$f":"B525","v":6},"Итого за день:",null,null,{"$f":"F532+F536+F546+F551+F558+F565","v":2530},{"$f":"G532+G536+G546+G551+G558+G565","v":91.89},{"$f":"H532+H536+H546+H551+H558+H565","v":205.35},{"$f":"I532+I536+I546+I551+I558+I565","v":265.56},{"$f":"J532+J536+J546+J551+J558+J565","v":3065.2},null,{"$f":"L532+L536+L546+L551+L558+L565","v":{"$error":"#VALUE!"}}]
[2,7,"Завтрак","гор.блюдо","Суп молочный рожки",250,8,9,25.2,214.8,6]
[{"$nulls":3},"масло","Масло сливочное",15,0.4,62.5,0.8,205,50]
[{"$nulls":3},"гор.напиток","Чай сладкий",200,0.1,0,9.9,39.9,51]
[{"$nulls":3},"хлеб","Хлеб пшеничный",120,3.1,0.2,20.1,284.1,37]
[{"$nulls":3},"фрукты","Апельсин",100,1.4,0.3,8.1,36,61]
[{"$nulls":3},"сыр","Сыр",24,4.3,5.4,0,67.4,48]
[{"$nulls":3},"кондит.изд","Печенье",30,3,1.9,20.8,166.8,47]
[{"$nulls":3},"итого",null,{"$f":"SUM(F567:F573)","v":739},{"$f":"SUM(G567:G573)","v":20.3},{"$f":"SUM(H567:H573)","v":79.3},{"$f":"SUM(I567:I573)","v":84.9},{"$f":"SUM(J567:J573)","v":1014},null,{"$f":"SUM(L567:L573)","v":0}]
[{"$f":"A567","v":2},{"$f":"B567","v":7},"Завтрак 2","фрукты"]
[]
[]
[{"$nulls":3},"итого",null,{"$f":"SUM(F575:F577)","v":0},{"$f":"SUM(G575:G577)","v":0},{"$f":"SUM(H575:H577)","v":0},{"$f":"SUM(I575:I577)","v":0},{"$f":"SUM(J575:J577)","v":0},null,{"$f":"SUM(L575:L583)","v":{"$error":"#VALUE!"}}]
[{"$f":"A567","v":2},{"$f":"B567","v":7},"Обед","закуска","Салат из белокач.капусты",100,2.1,8.5,10.5,105.5,31]
[{"$nulls":3},"1 блюдо","Суп картофельный с фрикадельками",250,2.1,2.15,16.5,132.75,3]
[{"$nulls":3},"2 блюдо","Картофель печеный",200,5.2,1,40.8,204]
[{"$nulls":3},"гарнир","Рыба запеченная",100,13.7,6.2,4.4,153]
[{"$nulls":3},"напиток","Сок",200,0.8,0,23,94,57]
[{"$nulls":3},"хлеб бел."]
[{"$nulls":3},"хлеб","Хлеб\"Дарницкий\"",120,2.6,0.4,17,164.8,36]
[{"$nulls":3},"фрукты","Банан",100,1.4,0.3,12.1,96,62]
[]
[{"$nulls":3},"итого",null,1170,{"$f":"SUM(G579:G587)","v":27.9},{"$f":"SUM(H579:H587)","v":18.55},{"$f":"SUM(I579:I587)","v":124.3},"1032.45",null,{"$f":"SUM(L585:L593)","v":{"$error":"#VALUE!"}}]
[{"$f":"A567","v":2},{"$f":"B567","v":7},"Полдник","булочное"]
[{"$nulls":3},"напиток"]
[]
[]
[{"$nulls":3},"итого",null,{"$f":"SUM(F589:F592)","v":0},{"$f":"SUM(G589:G592)","v":0},{"$f":"SUM(H589:H592)","v":0},{"$f":"SUM(I589:I592)","v":0},{"$f":"SUM(J589:J592)","v":0},null,{"$f":"SUM(L586:L592)","v":{"$error":"#VALUE!"}}]
[{"$f":"A567","v":2},{"$f":"B567","v":7},"Ужин","гор.блюдо","Каша ячневая с мясом говядины",200,11.2,5.9,63.7,445.6,13]
[{"$nulls":3},"гарнир"]
[{"$nulls":3},"гор.напиток","Чай с молоком",200,1.64,1.64,2.38,30,52]
[{"$nulls":3},"хлеб","Хлеб пшеничный",120,3.1,0.2,20.1,284.1,37]
[{"$nulls":3},"масло","Масло сливочное",20,0.4,62.5,0.8,140,50]
[]
[{"$nulls":3},"итого",null,540,{"$f":"SUM(G594:G599)","v":16.34},{"$f":"SUM(H594:H599)","v":70.24},{"$f":"SUM(I594:I599)","v":86.98},{"$f":"SUM(J594:J599)","v":899.7},null,{"$f":"SUM(L594:L602)","v":{"$error":"#VALUE!"}}]
[{"$f":"A567","v":2},{"$f":"B567","v":7},"Ужин 2","кисломол.","Ряженка ",200,12,2,8.4,134,58]
[{"$nulls":3},"фрукты","Яблоки св.",100,0.6,0.6,14.3,68.6,60]
[{"$nulls":3},"напиток"]
[{"$nulls":3},"фрукты"]
[]
[]
[{"$nulls":3},"итого",null,{"$f":"SUM(F601:F606)","v":300},{"$f":"SUM(G601:G606)","v":12.6},{"$f":"SUM(H601:H606)","v":2.6},{"$f":"SUM(I601:I606)","v":22.7},{"$f":"SUM(J601:J606)","v":202.6},null,{"$f":"SUM(L601:L609)","v":{"$error":"#VALUE!"}}]
[{"$f":"A567","v":2},{"$f":"B567","v":7},"Итого за день:",null,null,{"$f":"F574+F578+F588+F593+F600+F607","v":2749},{"$f":"G574+G578+G588+G593+G600+G607","v":77.14},{"$f":"H574+H578+H588+H593+H600+H607","v":170.69},{"$f":"I574+I578+I588+I593+I600+I607","v":318.88},3148.75,null,{"$f":"L574+L578+L588+L593+L600+L607","v":{"$error":"#VALUE!"}}]
[null,null,"Среднее значение за период:",null,null,{"$f":"(F48+F92+F135+F178+F221+F264+F306+F349+F393+F436+#REF!+F524+F566+F608)/(IF(F48=0,0,1)+IF(F92=0,0,1)+IF(F135=0,0,1)+IF(F178=0,0,1)+IF(F221=0,0,1)+IF(F264=0,0,1)+IF(F306=0,0,1)+IF(F349=0,0,1)+IF(F393=0,0,1)+IF(F436=0,0,1)+IF(#REF!=0,0,1)+IF(F524=0,0,1)+IF(F566=0,0,1)+IF(F608=0,0,1))","v":{"$error":"#REF!"}},{"$f":"(G48+G92+G135+G178+G221+G264+G306+G349+G393+G436+#REF!+G524+G566+G608)/(IF(G48=0,0,1)+IF(G92=0,0,1)+IF(G135=0,0,1)+IF(G178=0,0,1)+IF(G221=0,0,1)+IF(G264=0,0,1)+IF(G306=0,0,1)+IF(G349=0,0,1)+IF(G393=0,0,1)+IF(G436=0,0,1)+IF(#REF!=0,0,1)+IF(G524=0,0,1)+IF(G566=0,0,1)+IF(G608=0,0,1))","v":{"$error":"#REF!"}},{"$f":"(H48+H92+H135+H178+H221+H264+H306+H349+H393+H436+#REF!+H524+H566+H608)/(IF(H48=0,0,1)+IF(H92=0,0,1)+IF(H135=0,0,1)+IF(H178=0,0,1)+IF(H221=0,0,1)+IF(H264=0,0,1)+IF(H306=0,0,1)+IF(H349=0,0,1)+IF(H393=0,0,1)+IF(H436=0,0,1)+IF(#REF!=0,0,1)+IF(H524=0,0,1)+IF(H566=0,0,1)+IF(H608=0,0,1))","v":{"$error":"#REF!"}},{"$f":"(I48+I92+I135+I178+I221+I264+I306+I349+I393+I436+#REF!+I524+I566+I608)/(IF(I48=0,0,1)+IF(I92=0,0,1)+IF(I135=0,0,1)+IF(I178=0,0,1)+IF(I221=0,0,1)+IF(I264=0,0,1)+IF(I306=0,0,1)+IF(I349=0,0,1)+IF(I393=0,0,1)+IF(I436=0,0,1)+IF(#REF!=0,0,1)+IF(I524=0,0,1)+IF(I566=0,0,1)+IF(I608=0,0,1))","v":{"$error":"#REF!"}},{"$f":"(J48+J92+J135+J178+J221+J264+J306+J349+J393+J436+#REF!+J524+J566+J608)/(IF(J48=0,0,1)+IF(J92=0,0,1)+IF(J135=0,0,1)+IF(J178=0,0,1)+IF(J221=0,0,1)+IF(J264=0,0,1)+IF(J306=0,0,1)+IF(J349=0,0,1)+IF(J393=0,0,1)+IF(J436=0,0,1)+IF(#REF!=0,0,1)+IF(J524=0,0,1)+IF(J566=0,0,1)+IF(J608=0,0,1))","v":{"$error":"#REF!"}},null,{"$f":"(L48+L92+L135+L178+L221+L264+L306+L349+L393+L436+#REF!+L524+L566+L608)/(IF(L48=0,0,1)+IF(L92=0,0,1)+IF(L135=0,0,1)+IF(L178=0,0,1)+IF(L221=0,0,1)+IF(L264=0,0,1)+IF(L306=0,0,1)+IF(L349=0,0,1)+IF(L393=0,0,1)+IF(L436=0,0,1)+IF(#REF!=0,0,1)+IF(L524=0,0,1)+IF(L566=0,0,1)+IF(L608=0,0,1))","v":{"$error":"#VALUE!"}}]