{"text_format":"3","workbook":"xlsx","n_sheets":7,"sheets":["1дн","2дн","3дн","4дн","Лист5","6дн","7дн"],"read":"whole","date_system":"1900"}

{"sheet":"1дн","index":0,"n_rows":49,"n_cols":12,"rows_kept":49,"merged":[[0,2,0,4],[0,7,0,10],[1,7,1,10],[48,2,48,3]]}
["Школа",null,"ГБОУ \"Маскаринская школа- интернат для детей с ограниченными возможностями здоровья\"",null,null,"Утвердил:","должность","директор"]
["Типовое примерное меню приготавливаемых блюд",{"$nulls":5},"фамилия","Сабитов Ш. Н."]
["Возрастная категория",{"$nulls":3},"7-11 лет",null,"дата",27,5,25]
[{"$nulls":7},"день","месяц","год"]
["Неделя","День недели","Прием пищи","Раздел меню","Блюда","Вес блюда, г","Белки","Жиры","Углеводы","Калорийность","№ рецептуры","Цена"]
[2,2,"Завтрак","гор.блюдо","Каша геркулес молочный","200/10",9.7,8.3,36.8,212,23,11.89]
[{"$nulls":3},"масло","Масло сливочное",10,0.4,62.5,0.8,105,50,6.42]
[{"$nulls":3},"гор.напиток","Кофейный напиток из цикория",200,4.32,4.6,9.6,135,54,9.3]
[{"$nulls":3},"хлеб","Хлеб пшеничный",120,3.1,0.2,20.1,284.1,37,8.6]
[{"$nulls":3},"фрукты","Апельсин",100,1.4,0.3,8.1,36,60,15.14]
[]
[]
[{"$nulls":3},"итого",null,640,18.92,75.9,75.4,772.1,null,{"$f":"SUM(L6:L12)","v":51.35}]
[2,2,"Завтрак 2","фрукты","Яблоки св.",100,0.6,0.6,14.3,68.6,60,10.15]
[{"$nulls":3},"напиток","Компот из с/ф",200,4,0.06,35.2,110,53,15.3]
[{"$nulls":4},"Яйцо вареное",1,5.1,4.6,0.3,63,49,9.9]
[{"$nulls":3},"кондит.изд.","Вафли",30,1,8.8,18.8,154.2,30,4.5]
[{"$nulls":3},"хлеб","Хлеб пшеничный",120,3.1,0.2,20.1,378.8,37,8.6]
[{"$nulls":3},"итого",null,451,13.8,14.26,88.7,774.6,null,{"$f":"SUM(L14:L18)","v":48.45}]
[2,2,"Обед","закуска","Салат морковный припущен.",100,1.8,7.5,14,97.6,35,5.74]
[{"$nulls":3},"1блюдо","Борщ к/м со сметаной","250/15",8.4,10.3,13.7,105.2,2,29.54]
[{"$nulls":3},"2 блюдо","Плов из говядины",200,18.8,15.6,18.6,258,11,21.61]
[{"$nulls":3},"гарнир"]
[{"$nulls":3},"напиток","Сок",200,0.8,0,23,94,57,13]
[{"$nulls":3},"хлеб бел."]
[{"$nulls":3},"хлеб","Хлеб\"Дарницкий\"",80,2.6,0.4,17,163.2,36,5.19]
[]
[]
[{"$nulls":3},"итого",null,580,32.4,33.8,86.3,718,null,{"$f":"SUM(L20:L28)","v":75.08}]
[2,2,"Полдник","булочное"]
[{"$nulls":3},"напиток"]
[]
[]
[{"$nulls":3},"итого",null,0,0,0,0,0,null,0]
[2,2,"Ужин","гор.блюдо","Овощное рагу с мясом говяд.","200/5",3.46,6.26,9.9,102.5,10,25.51]
[{"$nulls":3},"творог","Творог со сметаной","200/10",18,9,3,164.3,40,62.28]
[{"$nulls":3},"напиток","Чай сладкий",200,0.1,0,9.9,39.9,51,1.45]
[{"$nulls":3},"хлеб","Хлеб\" Дарницкий\"",80,2.6,0.4,17,163.2,36,5.19]
[{"$nulls":3},"масло","Масло сливочное",10,0.4,62.5,0.8,105,50,6.42]
[]
[{"$nulls":3},"итого",null,290,24.56,78.16,40.6,574.9,null,{"$f":"SUM(L35:L40)","v":100.85}]
[2,2,"Ужин 2","кисломол.","Ряженка ",200,12,2,8.4,134,58,24.08]
[{"$nulls":3},"фрукты","Яблоки св.",100,0.6,0.6,14.3,68.6,60,10.15]
[{"$nulls":3},"напиток"]
[]
[]
[]
[{"$nulls":3},"итого",null,300,12.6,2.6,22.7,202.8,null,34.32]
[null,null,"итого за день",null,null,{"$f":"F41+F29+F19+F13+F13","v":2601},{"$f":"G41+G48+G29+G19+G13","v":102.28},{"$f":"H48+H41+H29+H19+H13","v":204.72},{"$f":"I48+I41+I29+I19+I13","v":313.7},{"$f":"J48+J41+J29+J19+J13","v":3042.4},null,310.05]

{"sheet":"2дн","index":1,"n_rows":49,"n_cols":12,"rows_kept":49,"merged":[[0,2,0,4],[0,7,0,10],[1,7,1,10],[48,2,48,3]]}
["Школа",null,"ГБОУ \"Маскаринская школа- интернат для детей с ограниченными возможностями здоровья\"",null,null,"Утвердил:","должность","директор"]
["Типовое примерное меню приготавливаемых блюд",{"$nulls":5},"фамилия","Сабитов Ш. Н."]
["Возрастная категория",{"$nulls":3},"7-11 лет",null,"дата",null,null,2023]
[{"$nulls":7},"день","месяц","год"]
["Неделя","День недели","Прием пищи","Раздел меню","Блюда","Вес блюда, г","Белки","Жиры","Углеводы","Калорийность","№ рецептуры","Цена"]
[2,2,"Завтрак","гор.блюдо","Каша геркулес молочный","200/10",9.7,8.3,36.8,212,23]
[{"$nulls":3},"масло","Масло сливочное",10,0.4,62.5,0.8,70,50]
[{"$nulls":3},"гор.напиток","Кофейный напиток из цикория",200,4.32,4.6,9.6,129.94,54]
[{"$nulls":3},"хлеб","Хлеб пшеничный",120,3.1,0.2,20.1,94.7,37]
[{"$nulls":3},"фрукты","Апельсин",100,1.4,0.3,8.1,34.2]
[]
[]
[{"$nulls":3},"итого",null,{"$f":"SUM(F6:F12)","v":430},{"$f":"SUM(G6:G12)","v":18.92},{"$f":"SUM(H6:H12)","v":75.9},{"$f":"SUM(I6:I12)","v":75.4},{"$f":"SUM(J6:J12)","v":540.84},null,{"$f":"SUM(L6:L12)","v":0}]
[{"$f":"A6","v":2},{"$f":"B6","v":2},"Завтрак 2","фрукты","Банан",100,1.4,0.3,12.1,64.2,62]
[{"$nulls":3},"напиток","Компот из с/ф",200,4,0.06,35.2,110,53]
[{"$nulls":4},"Яйцо вареное",1,5.1,4.6,0.3,63,49]
[{"$nulls":3},{"$f":"#REF!","v":{"$error":"#REF!"}},{"$f":"#REF!","v":{"$error":"#REF!"}},{"$f":"#REF!","v":{"$error":"#REF!"}},{"$f":"#REF!","v":{"$error":"#REF!"}},{"$f":"#REF!","v":{"$error":"#REF!"}},{"$f":"#REF!","v":{"$error":"#REF!"}},{"$f":"#REF!","v":{"$error":"#REF!"}},{"$f":"#REF!","v":{"$error":"#REF!"}}]
[{"$nulls":3},"хлеб","Хлеб пшеничный",120,3.1,0.2,20.1,94.7,37]
[{"$nulls":3},"итого",null,{"$f":"SUM(F14:F18)","v":{"$error":"#REF!"}},{"$f":"SUM(G14:G18)","v":{"$error":"#REF!"}},{"$f":"SUM(H14:H18)","v":{"$error":"#REF!"}},{"$f":"SUM(I14:I18)","v":{"$error":"#REF!"}},{"$f":"SUM(J14:J18)","v":{"$error":"#REF!"}},null,{"$f":"SUM(L14:L24)","v":{"$error":"#VALUE!"}}]
[{"$f":"A6","v":2},{"$f":"B6","v":2},"Обед","закуска","Салат морковный",100,1.16,8.3,14.6,98.8,35]
[{"$nulls":3},"1блюдо","Борщ к/м со сметаной","250/15",8.4,10.3,13.7,105.2,2]
[{"$nulls":3},"2 блюдо","Плов из говядины",200,18.8,15.6,18.6,215.7,11]
[{"$nulls":3},"гарнир"]
[{"$nulls":3},"напиток","Сок",200,0.8,0,23,94,57]
[{"$nulls":3},"хлеб бел."]
[{"$nulls":3},"хлеб","Хлеб\"Дарницкий\"",80,2.6,0.4,17,81.6,36]
[]
[]
[{"$nulls":3},"итого",null,{"$f":"SUM(F20:F28)","v":580},{"$f":"SUM(G20:G28)","v":31.76},{"$f":"SUM(H20:H28)","v":34.6},{"$f":"SUM(I20:I28)","v":86.9},{"$f":"SUM(J20:J28)","v":595.3},null,{"$f":"SUM(L26:L34)","v":{"$error":"#VALUE!"}}]
[{"$f":"A6","v":2},{"$f":"B6","v":2},"Полдник","булочное"]
[{"$nulls":3},"напиток"]
[]
[]
[{"$nulls":3},"итого",null,{"$f":"SUM(F30:F33)","v":0},{"$f":"SUM(G30:G33)","v":0},{"$f":"SUM(H30:H33)","v":0},{"$f":"SUM(I30:I33)","v":0},{"$f":"SUM(J30:J33)","v":0},null,{"$f":"SUM(L27:L33)","v":{"$error":"#VALUE!"}}]
[{"$f":"A6","v":2},{"$f":"B6","v":2},"Ужин","гор.блюдо","Овощное рагу с мясом говяд.","200/5",3.46,6.26,9.98,102.5,10]
[{"$nulls":3},"творог","Творог со сметаной","200/10",18,9,3,164.3,40]
[{"$nulls":3},"напиток","Чай сладкий",200,0.1,0,9.9,39.9,51]
[{"$nulls":3},"хлеб","Хлеб\"Дарницкий\"",80,2.6,0.4,17,81.6,36]
[{"$nulls":3},"масло","Масло сливочное",10,0.4,62.5,0.8,70,50]
[]
[{"$nulls":3},"итого",null,{"$f":"SUM(F35:F40)","v":290},{"$f":"SUM(G35:G40)","v":24.56},{"$f":"SUM(H35:H40)","v":78.16},{"$f":"SUM(I35:I40)","v":40.68},{"$f":"SUM(J35:J40)","v":458.3},null,{"$f":"SUM(L35:L43)","v":{"$error":"#VALUE!"}}]
[{"$f":"A6","v":2},{"$f":"B6","v":2},"Ужин 2","кисломол.","Ряженка ",200,12,2,8.4,80,58]
[{"$nulls":3},"фрукты","Яблоки св.",100,0.6,0.6,14.3,68.6,60]
[{"$nulls":3},"напиток"]
[]
[]
[]
[{"$nulls":3},"итого",null,{"$f":"SUM(F42:F47)","v":300},{"$f":"SUM(G42:G47)","v":12.6},{"$f":"SUM(H42:H47)","v":2.6},{"$f":"SUM(I42:I47)","v":22.7},{"$f":"SUM(J42:J47)","v":148.6},null,{"$f":"SUM(L42:L49)","v":0}]
[{"$f":"A6","v":2},{"$f":"B6","v":2},"Итого за день:",null,null,{"$f":"F13+F19+F29+F34+F41+F48","v":{"$error":"#REF!"}},{"$f":"G13+G19+G29+G34+G41+G48","v":{"$error":"#REF!"}},{"$f":"H13+H19+H29+H34+H41+H48","v":{"$error":"#REF!"}},{"$f":"I13+I19+I29+I34+I41+I48","v":{"$error":"#REF!"}},{"$f":"J13+J19+J29+J34+J41+J48","v":{"$error":"#REF!"}},null,{"$f":"L13+L19+L29+L34+L41+L48","v":{"$error":"#VALUE!"}}]

{"sheet":"3дн","index":2,"n_rows":48,"n_cols":12,"rows_kept":48,"merged":[[0,2,0,4],[0,7,0,10],[1,7,1,10],[47,2,47,3]]}
["Школа",null,"ГБОУ \"Маскаринская школа- интернат для детей с ограниченными возможностями здоровья\"",null,null,"Утвердил:","должность","директор"]
["Типовое примерное меню приготавливаемых блюд",{"$nulls":5},"фамилия","Сабитов Ш. Н."]
["Возрастная категория",{"$nulls":3},"7-11 лет",null,"дата",null,null,2023]
[{"$nulls":7},"день","месяц","год"]
["Неделя","День недели","Прием пищи","Раздел меню","Блюда","Вес блюда, г","Белки","Жиры","Углеводы","Калорийность","№ рецептуры","Цена"]
[2,3,"Завтрак","гор.блюдо","Омлет",200,16.6,18.24,2.88,200,19]
[{"$nulls":3},"масло","Масло сливочное",15,0.4,62.5,0.8,70,50]
[{"$nulls":3},"гор.напиток","Чай сладкий",200,0.1,0,9.9,39.9,51]
[{"$nulls":3},"хлеб","Хлеб пшеничный",120,3.1,0.2,20.1,94.7,37]
[{"$nulls":3},"фрукты","Апельсин",100,1.4,0.3,8.1,34.2,61]
[{"$nulls":3},"сыр","Сыр",24,4.3,5.4,0,67.4,48]
[]
[{"$nulls":3},"итого",null,{"$f":"SUM(F6:F12)","v":659},{"$f":"SUM(G6:G12)","v":25.9},{"$f":"SUM(H6:H12)","v":86.64},{"$f":"SUM(I6:I12)","v":41.78},{"$f":"SUM(J6:J12)","v":506.2},null,{"$f":"SUM(L6:L12)","v":0}]
[{"$f":"A6","v":2},{"$f":"B6","v":3},"Завтрак 2","фрукты","Банан",100,1.4,0.3,12.1,64.2,62]
[{"$nulls":3},"напиток","Сок",200,0.8,0,23,94,57]
[{"$nulls":3},"выпечка","Ватрушка с картошкой",80,5.4,5.8,32.4,95,38]
[{"$nulls":3},"хлеб","Хлеб пшеничный",160,3.1,0.2,20.1,94.7,37]
[{"$nulls":3},"итого",null,{"$f":"SUM(F14:F17)","v":540},{"$f":"SUM(G14:G17)","v":10.7},{"$f":"SUM(H14:H17)","v":6.3},{"$f":"SUM(I14:I17)","v":87.6},{"$f":"SUM(J14:J17)","v":347.9},null,{"$f":"SUM(L14:L23)","v":{"$error":"#VALUE!"}}]
[{"$f":"A6","v":2},{"$f":"B6","v":3},"Обед","закуска","Салат из вареной свеклы",100,1.8,10,10,64.2,33]
[{"$nulls":3},"1 блюдо","Рассольник к/м с перловкой со сметаной","250/10",4.65,10.01,10.08,132.3,4]
[{"$nulls":3},"2 блюдо","Макароны отварные","200/10",7.6,9.2,48.8,150.7,18]
[{"$nulls":3},"гарнир","Рыбные тефтели","75/75",12.7,5.2,4.4,95.1,77]
[{"$nulls":3},"напиток","Компот из с/ф",200,4,0.06,35.2,110,53]
[{"$nulls":3},"хлеб бел."]
[{"$nulls":3},"хлеб","Хлеб\"Дарницкий\"",80,2.6,0.4,17,81.6,36]
[]
[]
[{"$nulls":3},"итого",null,{"$f":"SUM(F19:F27)","v":380},{"$f":"SUM(G19:G27)","v":33.35},{"$f":"SUM(H19:H27)","v":34.87},{"$f":"SUM(I19:I27)","v":125.48},{"$f":"SUM(J19:J27)","v":633.9},null,{"$f":"SUM(L25:L33)","v":{"$error":"#VALUE!"}}]
[{"$f":"A6","v":2},{"$f":"B6","v":3},"Полдник","булочное"]
[{"$nulls":3},"напиток"]
[]
[]
[{"$nulls":3},"итого",null,{"$f":"SUM(F29:F32)","v":0},{"$f":"SUM(G29:G32)","v":0},{"$f":"SUM(H29:H32)","v":0},{"$f":"SUM(I29:I32)","v":0},{"$f":"SUM(J29:J32)","v":0},null,{"$f":"SUM(L26:L32)","v":{"$error":"#VALUE!"}}]
[{"$f":"A6","v":2},{"$f":"B6","v":3},"Ужин","гор.блюдо","Гороховое пюре с фаршем говядины",200,17.7,14.2,27.4,283.1,71]
[{"$nulls":3},"гарнир"]
[{"$nulls":3},"напиток","Чай с молоком",200,1.64,1.64,2.38,30,52]
[{"$nulls":3},"хлеб","Хлеб\"Дарницкий\"",80,2.6,0.4,17,81.6,36]
[{"$nulls":3},"масло","Масло сливочное",10,0.4,62.5,0.8,70,50]
[]
[{"$nulls":3},"итого",null,{"$f":"SUM(F34:F39)","v":490},{"$f":"SUM(G34:G39)","v":22.34},{"$f":"SUM(H34:H39)","v":78.74},{"$f":"SUM(I34:I39)","v":47.58},{"$f":"SUM(J34:J39)","v":464.7},null,{"$f":"SUM(L34:L42)","v":{"$error":"#VALUE!"}}]
[{"$f":"A6","v":2},{"$f":"B6","v":3},"Ужин 2","кисломол.","Ряженка ",200,12,2,8.4,80,58]
[{"$nulls":3},"фрукты","Яблоки св.",100,0.6,0.6,14.3,68.6,60]
[{"$nulls":3},"напиток"]
[]
[]
[]
[{"$nulls":3},"итого",null,{"$f":"SUM(F41:F46)","v":300},{"$f":"SUM(G41:G46)","v":12.6},{"$f":"SUM(H41:H46)","v":2.6},{"$f":"SUM(I41:I46)","v":22.7},{"$f":"SUM(J41:J46)","v":148.6},null,{"$f":"SUM(L41:L48)","v":0}]
[{"$f":"A6","v":2},{"$f":"B6","v":3},"Итого за день:",null,null,{"$f":"F13+F18+F28+F33+F40+F47","v":2369},{"$f":"G13+G18+G28+G33+G40+G47","v":104.89},{"$f":"H13+H18+H28+H33+H40+H47","v":209.15},{"$f":"I13+I18+I28+I33+I40+I47","v":325.14},{"$f":"J13+J18+J28+J33+J40+J47","v":2101.3},null,{"$f":"L13+L18+L28+L33+L40+L47","v":{"$error":"#VALUE!"}}]

{"sheet":"4дн","index":3,"n_rows":48,"n_cols":12,"rows_kept":48,"merged":[[0,2,0,4],[0,7,0,10],[1,7,1,10],[47,2,47,3]]}
["Школа",null,"ГБОУ \"Маскаринская школа- интернат для детей с ограниченными возможностями здоровья\"",null,null,"Утвердил:","должность","директор"]
["Типовое примерное меню приготавливаемых блюд",{"$nulls":5},"фамилия","Сабитов Ш. Н."]
["Возрастная категория",{"$nulls":3},"7-11 лет",null,"дата",null,null,2023]
[{"$nulls":7},"день","месяц","год"]
["Неделя","День недели","Прием пищи","Раздел меню","Блюда","Вес блюда, г","Белки","Жиры","Углеводы","Калорийность","№ рецептуры","Цена"]
[2,4,"Завтрак","гор.блюдо","Каша яичневая молочная","200/15",7.5,5.9,42.5,297.1,24]
[{"$nulls":3},"масло","Масло сливочное",10,0.4,62.5,0.8,70,50]
[{"$nulls":3},"гор.напиток","Чай с молоком",200,1.64,1.64,2.38,30,52]
[{"$nulls":3},"хлеб","Хлеб пшеничный",120,3.1,0.2,20.1,94.7,37]
[{"$nulls":3},"фрукты","Апельсин",100,1.4,0.3,8.1,34.2,61]
[]
[]
[{"$nulls":3},"итого",null,{"$f":"SUM(F6:F12)","v":430},{"$f":"SUM(G6:G12)","v":14.04},{"$f":"SUM(H6:H12)","v":70.54},{"$f":"SUM(I6:I12)","v":73.88},{"$f":"SUM(J6:J12)","v":526},null,{"$f":"SUM(L6:L12)","v":0}]
[{"$f":"A6","v":2},{"$f":"B6","v":4},"Завтрак 2","фрукты","Банан",100,1.4,0.3,12.1,64.2,62]
[{"$nulls":3},"хлеб","Хлеб пшеничный",160,3.1,0.2,20.1,94.7,37]
[{"$nulls":3},"кондит.изд","Кекс",30,3.2,4.1,32.6,106.4,74]
[{"$nulls":3},"гор.напиток","Какао с молоком",200,4.62,4.02,43.8,"177.56",63]
[{"$nulls":3},"итого",null,{"$f":"SUM(F14:F17)","v":490},{"$f":"SUM(G14:G17)","v":12.32},{"$f":"SUM(H14:H17)","v":8.62},{"$f":"SUM(I14:I17)","v":108.6},{"$f":"SUM(J14:J17)","v":265.3},null,{"$f":"SUM(L14:L23)","v":{"$error":"#VALUE!"}}]
[{"$f":"A6","v":2},{"$f":"B6","v":4},"Обед","закуска"]
[{"$nulls":3},"1 блюдо","Суп лапша домашняя к/м.",250,4.22,3.95,22.66,152,5]
[{"$nulls":3},"2 блюдо","Капуста тушенная с мясным фаршем из говядины",200,10,8.2,10.8,280,9]
[{"$nulls":3},"гарнир"]
[{"$nulls":3},"напиток","Компот из смеси с/ф.",200,4,0.06,35.2,110,53]
[{"$nulls":3},"хлеб бел."]
[{"$nulls":3},"хлеб","Хлеб\"Дарницкий\"",80,2.6,0.4,17,81.6,36]
[]
[]
[{"$nulls":3},"итого",null,{"$f":"SUM(F19:F27)","v":730},{"$f":"SUM(G19:G27)","v":20.82},{"$f":"SUM(H19:H27)","v":12.61},{"$f":"SUM(I19:I27)","v":85.66},{"$f":"SUM(J19:J27)","v":623.6},null,{"$f":"SUM(L25:L33)","v":{"$error":"#VALUE!"}}]
[{"$f":"A6","v":2},{"$f":"B6","v":4},"Полдник","булочное"]
[{"$nulls":3},"напиток"]
[]
[]
[{"$nulls":3},"итого",null,{"$f":"SUM(F29:F32)","v":0},{"$f":"SUM(G29:G32)","v":0},{"$f":"SUM(H29:H32)","v":0},{"$f":"SUM(I29:I32)","v":0},{"$f":"SUM(J29:J32)","v":0},null,{"$f":"SUM(L26:L32)","v":{"$error":"#VALUE!"}}]
[{"$f":"A6","v":2},{"$f":"B6","v":4},"Ужин","гор.блюдо","Жаркое по домашнему","200/11",24.7,13.3,16.5,145.08,8]
[{"$nulls":3},"гарнир"]
[{"$nulls":3},"гор.напиток","Чай сладкий",200,0.1,0,9.9,39.9,51]
[{"$nulls":3},"хлеб","Хлеб\"Дарницкий\"",80,2.6,0.4,17,81.6,36]
[{"$nulls":3},"творог","Творог со сметаной","200/10",18,9,3,164.3,40]
[{"$nulls":3},"масло","Масло сливочное",10,0.4,62.5,0.8,70,50]
[{"$nulls":3},"итого",null,{"$f":"SUM(F34:F39)","v":290},{"$f":"SUM(G34:G39)","v":45.8},{"$f":"SUM(H34:H39)","v":85.2},{"$f":"SUM(I34:I39)","v":47.2},{"$f":"SUM(J34:J39)","v":500.88},null,{"$f":"SUM(L34:L42)","v":{"$error":"#VALUE!"}}]
[{"$f":"A6","v":2},{"$f":"B6","v":4},"Ужин 2","кисломол.","Ряженка ",200,12,2,8.4,80,58]
[{"$nulls":3},"фрукты","Яблоки св.",100,0.6,0.6,14.3,68.6,60]
[{"$nulls":3},"напиток"]
[]
[]
[]
[{"$nulls":3},"итого",null,{"$f":"SUM(F41:F46)","v":300},{"$f":"SUM(G41:G46)","v":12.6},{"$f":"SUM(H41:H46)","v":2.6},{"$f":"SUM(I41:I46)","v":22.7},{"$f":"SUM(J41:J46)","v":148.6},null,{"$f":"SUM(L41:L48)","v":0}]
[{"$f":"A6","v":2},{"$f":"B6","v":4},"Итого за день:",null,null,{"$f":"F13+F18+F28+F33+F40+F47","v":2240},{"$f":"G13+G18+G28+G33+G40+G47","v":105.58},{"$f":"H13+H18+H28+H33+H40+H47","v":179.57},{"$f":"I13+I18+I28+I33+I40+I47","v":338.04},{"$f":"J13+J18+J28+J33+J40+J47","v":2064.38},null,{"$f":"L13+L18+L28+L33+L40+L47","v":{"$error":"#VALUE!"}}]

{"sheet":"Лист5","index":4,"n_rows":607,"n_cols":10,"rows_kept":607,"merged":[[0,1,0,3],[0,6,0,9],[1,6,1,9],[47,1,47,2],[91,1,91,2],[134,1,134,2],[177,1,177,2],[220,1,220,2],[263,1,263,2],[305,1,305,2],[348,1,348,2],[392,1,392,2],[435,1,435,2],[478,1,478,2],[521,1,521,2],[563,1,563,2],[605,1,605,2],[606,1,606,3]]}
[null,"ГБОУ \"Маскаринская школа- интернат для детей с ограниченными возможностями здоровья\"",null,null,"Утвердил:","должность","директор"]
[{"$nulls":5},"фамилия","Сабитов Ш. Н."]
[{"$nulls":3},"7-11 лет",null,"дата",null,null,2023]
[{"$nulls":6},"день","месяц","год"]
["День недели","Прием пищи","Раздел меню","Блюда","Вес блюда, г","Белки","Жиры","Углеводы","Калорийность","№ рецептуры"]
[1,"Завтрак","гор.блюдо","Каша геркулес мол.","200/10",9.7,8.3,36.8,212,23]
[]
[null,null,"гор.напиток","Какао с мол.",200,4.62,4.02,43.8,177.56,63]
[null,null,"хлеб","Хлеб пшеничной ",120,3.1,0.2,20.1,94.7,37]
[null,null,"фрукты","Апельсин ",100,1.4,0.3,8.1,34.2,61]
[null,null,"масло слив.","Масло сливочное ",10,0.4,62.5,0.8,70,50]
[]
[null,null,"итого",null,{"$f":"SUM(E6:E12)","v":430},{"$f":"SUM(F6:F12)","v":19.22},{"$f":"SUM(G6:G12)","v":75.32},{"$f":"SUM(H6:H12)","v":109.6},{"$f":"SUM(I6:I12)","v":588.46}]
[{"$f":"A6","v":1},"Завтрак 2","фрукты","Банан",100,1.4,0.3,12.1,64.2,62]
[null,null,"напиток","Компот из смеси с/ф",200,4,0.06,35.2,110,53]
[null,null,"хлеб бел.","Хлеб пшеничный ",160,3.1,0.2,20.1,94.7,37]
[null,null,"кондит.изд.","Булочка домашняя",80,2.7,6,20.1,99.8,73]
[null,null,"итого",null,{"$f":"SUM(E14:E17)","v":540},{"$f":"SUM(F14:F17)","v":11.2},{"$f":"SUM(G14:G17)","v":6.56},{"$f":"SUM(H14:H17)","v":87.5},{"$f":"SUM(I14:I17)","v":368.7}]
[{"$f":"A6","v":1},"Обед","закуска","Салат из свеклы",100,1.8,10,10,64.2,33]
[null,null,"1 блюдо","Суп горох к/м",250,9.2,7.7,16.3,130.2,7]
[null,null,"2 блюдо","Картофельное пюре ","200/10",4.9,7.2,34,207,17]
[null,null,"гарнир","Гуляш из говядины",100,10,15.3,5.5,132.4,25]
[null,null,"напиток","Сок",200,0.8,0,23,94,57]
[null,null,"хлеб бел."]
[null,null,"хлеб черн.","Хлеб \"Дарницкий\"",80,2.6,0.4,17,81.6,36]
[]
[]
[null,null,"итого",null,{"$f":"SUM(E19:E27)","v":730},{"$f":"SUM(F19:F27)","v":29.3},{"$f":"SUM(G19:G27)","v":40.6},{"$f":"SUM(H19:H27)","v":105.8},{"$f":"SUM(I19:I27)","v":709.4}]
[{"$f":"A6","v":1},"Полдник","кисломол."]
[null,null,"фрукты"]
[]
[]
[null,null,"итого",null,{"$f":"SUM(E29:E32)","v":0},{"$f":"SUM(F29:F32)","v":0},{"$f":"SUM(G29:G32)","v":0},{"$f":"SUM(H29:H32)","v":0},{"$f":"SUM(I29:I32)","v":0}]
[{"$f":"A6","v":1},"Ужин","хлеб черн.","Хлеб \"Дарницкий\"",80,2.6,0.4,17,81.6,36]
[null,null,"масло слив.","Масло сливочное ",10,0.4,62.5,0.8,70,50]
[null,null,"гарнир","Рыба запеченная",150,13.7,6.2,4.4,97.1,72]
[null,null,"2 блюдо","Каша рис. мол.",200,5.8,9.2,42.6,277.5,21]
[null,null,"гор.напиток","Чай слад.",200,0.1,0.02,5.11,21.14,70]
[]
[null,null,"итого",null,{"$f":"SUM(E34:E39)","v":640},{"$f":"SUM(F34:F39)","v":22.6},{"$f":"SUM(G34:G39)","v":78.32},{"$f":"SUM(H34:H39)","v":69.91},{"$f":"SUM(I34:I39)","v":547.34}]
[{"$f":"A6","v":1},"Ужин 2","кисломол.","Ряженка ",200,12,2,8.4,80,58]
[null,null,"фрукты","Яблоки св.",100,0.6,0.6,14.3,68.6,60]
[null,null,"напиток"]
[]
[]
[]
[null,null,"итого",null,{"$f":"SUM(E41:E46)","v":300},{"$f":"SUM(F41:F46)","v":12.6},{"$f":"SUM(G41:G46)","v":2.6},{"$f":"SUM(H41:H46)","v":22.7},{"$f":"SUM(I41:I46)","v":148.6}]
[{"$f":"A6","v":1},"Итого за день:",null,null,{"$f":"E13+E18+E28+E33+E40+E47","v":2640},{"$f":"F13+F18+F28+F33+F40+F47","v":94.92},{"$f":"G13+G18+G28+G33+G40+G47","v":203.4},{"$f":"H13+H18+H28+H33+H40+H47","v":395.51},{"$f":"I13+I18+I28+I33+I40+I47","v":2362.5}]
[2,"Завтрак","гор.блюдо","Каша манная мол.","200/10",6,5,30.8,200,20]
[null,null,"гор.напиток","Чай слад.",200,0.1,0.02,5.11,21.14,70]
[null,null,"хлеб","Хлеб пшеничный",120,3.1,0.2,20.1,94.7,37]
[null,null,"масло слив.","Масло слив.",10,0.4,"62.5",0.8,70,50]
[null,null,"сыр","Сыр",24,4.3,5.4,0,67.4,48]
[null,null,"фрукты","Апельсин ",100,1.4,0.3,8.1,34.2,61]
[]
[null,null,"итого",null,{"$f":"SUM(E50:E55)","v":454},{"$f":"SUM(F49:F55)","v":15.3},{"$f":"SUM(G49:G55)","v":10.92},{"$f":"SUM(H49:H55)","v":64.91},{"$f":"SUM(I49:I55)","v":487.44},{"$f":"SUM(J49:J55)","v":286}]
[{"$f":"A49","v":2},"Завтрак 2","фрукты","Банан",100,1.4,0.3,12.1,64.2,62]
[null,null,"напиток","Кофейный напиток из цикория с мол",200,4.32,4.6,9.6,129.94,54]
[null,null,"хлеб бел.","Хлеб пшеничный ",160,3.1,0.2,20.1,94.7,37]
[{"$nulls":3},"Яйцо вареное",1,5.1,4.6,0.3,63,49]
[null,null,"кондит.изд.","Печенье ",30,3,1.9,20.8,166.8,47]
[null,null,"итого",null,{"$f":"SUM(E57:E61)","v":491},{"$f":"SUM(F57:F61)","v":16.92},{"$f":"SUM(G57:G61)","v":11.6},{"$f":"SUM(H57:H61)","v":62.9},{"$f":"SUM(I57:I61)","v":518.64}]
[{"$f":"A49","v":2},"Обед","закуска"]
[null,null,"1 блюдо","Суп лапша домашняя к/м.",250,4.22,3.95,22.66,152,5]
[null,null,"2 блюдо","Овощное рагу с мясом говяд.","200/5",3.46,6.26,9.98,102.5,10]
[null,null,"гарнир"]
[null,null,"напиток","Компот из смеси сухофруктов",200,4,0.06,35.2,110,53]
[null,null,"хлеб бел."]
[null,null,"хлеб черн.","Хлеб \"Дарницкий\"",80,2.6,0.4,17,81.6,36]
[]
[]
[null,null,"итого",null,{"$f":"SUM(E63:E71)","v":530},{"$f":"SUM(F63:F71)","v":14.28},{"$f":"SUM(G63:G71)","v":10.67},{"$f":"SUM(H63:H71)","v":84.84},{"$f":"SUM(I63:I71)","v":446.1}]
[{"$f":"A49","v":2},"Полдник","кисломол."]
[null,null,"фрукты"]
[]
[]
[null,null,"итого",null,{"$f":"SUM(E73:E76)","v":0},{"$f":"SUM(F73:F76)","v":0},{"$f":"SUM(G73:G76)","v":0},null,{"$f":"SUM(I73:I76)","v":0},{"$f":"SUM(J73:J76)","v":0}]
[{"$f":"A49","v":2},"Ужин","хлеб черн.","Хлеб \"Дарницкий\"",80,2.6,0.4,17,81.6,36]
[null,null,"2 блюдо","Каша гречнев рассып","200/20",7,5.1,34.1,200,15]
[null,null,"гарнир","Рыбные тефтели","75/75",12.7,5.2,4.4,95.1,77]
[null,null,"гор.напиток","Чай с молоком",200,1.64,1.64,2.38,30,52]
[null,null,"масло слив.","Масло слив.",15,0.4,62.5,0.8,70,50]
[]
[null,null,"итого",null,{"$f":"SUM(E78:E83)","v":295},{"$f":"SUM(F78:F83)","v":24.34},{"$f":"SUM(G78:G83)","v":74.84},{"$f":"SUM(H78:H83)","v":58.68},{"$f":"SUM(I78:I83)","v":476.7}]
[{"$f":"A49","v":2},"Ужин 2","кисломол.","Ряженка",200,12,2,8.4,80,58]
[null,null,"фрукты","Яблоки св.",150,0.6,0.6,14.3,68.6,60]
[null,null,"напиток"]
[]
[]
[]
[null,null,"итого",null,{"$f":"SUM(E85:E90)","v":350},{"$f":"SUM(F85:F90)","v":12.6},{"$f":"SUM(G85:G90)","v":2.6},{"$f":"SUM(H85:H90)","v":22.7},{"$f":"SUM(I85:I90)","v":148.6}]
[{"$f":"A49","v":2},"Итого за день:",null,null,{"$f":"E56+E62+E72+E77+E84+E91","v":2120},{"$f":"F56+F62+F72+F77+F84+F91","v":83.44},{"$f":"G56+G62+G72+G77+G84+G91","v":110.63},{"$f":"H56+H62+H72+H77+H84+H91","v":294.03},{"$f":"I56+I62+I72+I77+I84+I91","v":2077.48}]
[3,"Завтрак","гор.блюдо","Омлет","200/5",16.6,18.24,2.88,200,19]
[null,null,"гор.напиток","Какао с молоком",200,4.62,4.02,43.8,177.56,63]
[null,null,"хлеб","Хлеб пшеничный",120,3.1,0.2,20.1,94.7,37]
[null,null,"масло слив.","Масло слив.",15,0.4,62.5,0.8,70,50]
[null,null,"фрукты","Апельсин ",100,1.4,0.3,8.1,34.2,61]
[]
[]
[null,null,"итого",null,{"$f":"SUM(E93:E99)","v":435},{"$f":"SUM(F93:F99)","v":26.12},{"$f":"SUM(G93:G99)","v":85.26},{"$f":"SUM(H93:H99)","v":75.68},{"$f":"SUM(I93:I99)","v":576.46}]
[{"$f":"A93","v":3},"Завтрак 2","фрукты","Банан",100,1.4,0.3,12.1,{"v":64.2,"d":"64"},62]
[{"$nulls":3},"Хлеб пшеничный",160,3.1,0.2,20.1,94.7,37]
[{"$nulls":3},"Компот из с/ф",200,4,0.06,35.2,110,53]
[{"$nulls":3},"Треугольник ",80,6.23,5.38,38.25,150,42]
[null,null,"итого",null,{"$f":"SUM(E101:E104)","v":540},{"$f":"SUM(F101:F104)","v":14.73},{"$f":"SUM(G101:G104)","v":5.94},{"$f":"SUM(H101:H104)","v":105.65},{"$f":"SUM(I101:I104)","v":418.9}]
[{"$f":"A93","v":3},"Обед","закуска","Салат морковный",100,1.16,8.3,14.6,98.8,35]
[null,null,"1 блюдо","Борщ к/м со сметаной","250/15",8.4,10.3,13.7,105.2,2]
[null,null,"2 блюдо","Каша ячневая с мяс говядины","200/10",11.2,5.9,63.7,445.6,13]
[null,null,"гарнир"]
[null,null,"напиток","Сок",200,0.8,0,23,94,57]
[null,null,"хлеб бел."]
[null,null,"хлеб черн.","Хлеб \"Дарницкий\"",80,2.6,0.4,17,81.6,36]
[]
[]
[null,null,"итого",null,{"$f":"SUM(E106:E114)","v":380},{"$f":"SUM(F106:F114)","v":24.16},{"$f":"SUM(G106:G114)","v":24.9},{"$f":"SUM(H106:H114)","v":132},{"$f":"SUM(I106:I114)","v":825.2}]
[{"$f":"A93","v":3},"Полдник","кисломол."]
[null,null,"фрукты"]
[]
[]
[null,null,"итого",null,{"$f":"SUM(E116:E119)","v":0},{"$f":"SUM(F116:F119)","v":0},{"$f":"SUM(G116:G119)","v":0},{"$f":"SUM(H116:H119)","v":0},{"$f":"SUM(I116:I119)","v":0}]
[{"$f":"A93","v":3},"Ужин","хлеб черн.","Хлеб \"Дарницкий\"",80,2.6,0.4,17,81.6,36]
[null,null,"масло слив.","Масло слив.",15,0.4,62.5,0.8,70,50]
[null,null,"1 блюдо","Суп молочный рожки","200/5",8,9,25.2,214.8,6]
[null,null,"творог","Творог со сметаной","200/10",18,9,3,164.3,40]
[null,null,"гор.напиток","Чай слад.",200,0.1,0,9.9,39.9,51]
[]
[null,null,"итого",null,{"$f":"SUM(E121:E126)","v":295},{"$f":"SUM(F121:F126)","v":29.1},{"$f":"SUM(G121:G126)","v":80.9},{"$f":"SUM(H121:H126)","v":55.9},{"$f":"SUM(I121:I126)","v":570.6}]
[{"$f":"A93","v":3},"Ужин 2","кисломол.","Ряженка ",200,12,2,8.4,80,58]
[null,null,"фрукты","Яблоки св.",100,0.6,0.6,14.3,68.6,60]
[null,null,"напиток"]
[]
[]
[]
[null,null,"итого",null,{"$f":"SUM(E128:E133)","v":300},{"$f":"SUM(F128:F133)","v":12.6},{"$f":"SUM(G128:G133)","v":2.6},{"$f":"SUM(H128:H133)","v":22.7},{"$f":"SUM(I128:I133)","v":148.6}]
[{"$f":"A93","v":3},"Итого за день:",null,null,{"$f":"E100+E105+E115+E120+E127+E134","v":1950},{"$f":"F100+F105+F115+F120+F127+F134","v":106.71},{"$f":"G100+G105+G115+G120+G127+G134","v":199.6},{"$f":"H100+H105+H115+H120+H127+H134","v":391.93},{"$f":"I100+I105+I115+I120+I127+I134","v":2539.76}]
[4,"Завтрак","гор.блюдо","Каша геркулес молочный","200/10",9.7,8.3,36.8,212,23]
[null,null,"гор.напиток","Кофейный напиток из цикория",200,4.32,4.6,9.6,129.94,54]
[null,null,"хлеб","Хлеб пшеничный",120,3.1,0.2,20.1,94.7,37]
[null,null,"масло слив.","Масло слив.",15,0.4,62.5,0.8,70,50]
[null,null,"сыр","Сыр",24,4.3,5.4,0,67.4,48]
[null,null,"фрукты","Апельсин ",100,1.4,0.3,8.1,34.2,61]
[]
[null,null,"итого",null,{"$f":"SUM(E136:E142)","v":459},{"$f":"SUM(F136:F142)","v":23.22},{"$f":"SUM(G136:G142)","v":81.3},{"$f":"SUM(H136:H142)","v":75.4},{"$f":"SUM(I136:I142)","v":608.24}]
[{"$f":"A136","v":4},"Завтрак 2","фрукты","Банан",100,1.4,0.3,12.1,64.2,62]
[null,null,"хлеб бел.","Хлеб пшеничный",160,3.1,0.2,20.1,94.7,37]
[null,null,"напиток","Сок",200,0.8,0,23,94,57]
[null,null,"кондит.изд.","Вафли",30,1,8.8,18.8,154.2,46]
[null,null,"итого",null,{"$f":"SUM(E144:E147)","v":490},{"$f":"SUM(F144:F147)","v":6.3},{"$f":"SUM(G144:G147)","v":9.3},{"$f":"SUM(H144:H147)","v":74},{"$f":"SUM(I144:I147)","v":407.1}]
[{"$f":"A136","v":4},"Обед","закуска","Салат из белокач.капусты",100,2.1,8.5,10.5,105.5,31]
[null,null,"1 блюдо","Рассольник с перловкой со сметаной","250/10",4.65,10.01,10.08,132.3,4]
[null,null,"2 блюдо","Картофельное пюре ","200/10",4.9,7.2,34,207,17]
[null,null,"гарнир","Котлеты из говядины",100,21,22.2,15,217.2,27]
[null,null,"напиток","Компот из смеси сухофруктов",200,4,0.06,35.2,110,53]
[null,null,"хлеб бел."]
[null,null,"хлеб черн.","Хлеб \"Дарницкий\"",80,2.6,0.4,17,81.6,36]
[]
[]
[null,null,"итого",null,{"$f":"SUM(E149:E157)","v":480},{"$f":"SUM(F149:F157)","v":39.25},{"$f":"SUM(G149:G157)","v":48.37},{"$f":"SUM(H149:H157)","v":121.78},{"$f":"SUM(I149:I157)","v":853.6}]
[{"$f":"A136","v":4},"Полдник","кисломол."]
[null,null,"фрукты"]
[]
[]
[null,null,"итого",null,{"$f":"SUM(E159:E162)","v":0},{"$f":"SUM(F159:F162)","v":0},{"$f":"SUM(G159:G162)","v":0},{"$f":"SUM(H159:H162)","v":0},{"$f":"SUM(I159:I162)","v":0}]
[{"$f":"A136","v":4},"Ужин","хлеб черн.","Хлеб \"Дарницкий\"",80,2.6,0.4,17,81.6,36]
[null,null,"масло слив.","Масло слив.",15,0.4,62.5,0.8,70,50]
[null,null,"гор.напиток","Чай с мол.",200,1.64,1.64,2.38,30,52]
[null,null,"2 блюдо","Плов из говядины",200,18.8,15.6,18.6,215.7,11]
[]
[]
[null,null,"итого",null,{"$f":"SUM(E164:E169)","v":495},{"$f":"SUM(F164:F169)","v":23.44},{"$f":"SUM(G164:G169)","v":80.14},{"$f":"SUM(H164:H169)","v":38.78},{"$f":"SUM(I164:I169)","v":397.3}]
[{"$f":"A136","v":4},"Ужин 2","кисломол.","Ряженка",200,12,2,8.4,80,58]
[null,null,"фрукты","Яблоки св.",100,0.6,0.6,14.3,68.6,60]
[null,null,"напиток"]
[]
[]
[]
[null,null,"итого",null,{"$f":"SUM(E171:E176)","v":300},{"$f":"SUM(F171:F176)","v":12.6},{"$f":"SUM(G171:G176)","v":2.6},{"$f":"SUM(H171:H176)","v":22.7},{"$f":"SUM(I171:I176)","v":148.6}]
[{"$f":"A136","v":4},"Итого за день:",null,null,{"$f":"E143+E148+E158+E163+E170+E177","v":2224},{"$f":"F143+F148+F158+F163+F170+F177","v":104.81},{"$f":"G143+G148+G158+G163+G170+G177","v":221.71},{"$f":"H143+H148+H158+H163+H170+H177","v":332.66},{"$f":"I143+I148+I158+I163+I170+I177","v":2414.84}]
[5,"Завтрак","гор.блюдо","Каша манная мол.","200/10",6,5,30.8,200,20]
[null,null,"гор.напиток","Чай слад.",200,0.1,0,9.9,39.9,51]
[null,null,"хлеб","Хлеб пшеничный",120,3.1,0.2,20.1,94.7,37]
[null,null,"масло слив.","Масло слив.",15,0.4,62.5,0.8,70,50]
[null,null,"фрукты","Апельсин",100,1.4,0.3,8.1,34.2,61]
[]
[]
[null,null,"итого",null,{"$f":"SUM(E179:E185)","v":435},{"$f":"SUM(F179:F185)","v":11},{"$f":"SUM(G179:G185)","v":68},{"$f":"SUM(H179:H185)","v":69.7},{"$f":"SUM(I179:I185)","v":438.8}]
[{"$f":"A179","v":5},"Завтрак 2","фрукты","Банан",100,1.4,0.3,12.1,{"v":64.2,"d":"64"},62]
[null,null,"напиток","Компот из с/ф",200,4,0.06,35.2,110,53]
[null,null,"выпечка","Запеканка творожная","150/15",20.44,20,29.6,325,41]
[null,null,"хлеб бел.","Хлеб пшеничный",120,3.1,0.2,20.1,94.7,37]
[null,null,"итого",null,{"$f":"SUM(E187:E190)","v":420},{"$f":"SUM(F187:F190)","v":28.94},{"$f":"SUM(G187:G190)","v":20.56},{"$f":"SUM(H187:H190)","v":97},{"$f":"SUM(I187:I190)","v":593.9}]
[{"$f":"A179","v":5},"Обед","закуска","Свекла вар. дольками",100,1.17,6.96,8.8,60,32]
[null,null,"1 блюдо","Суп крестьян с пшеном со смет","250/15",10,8.63,7.9,167.3,65]
[null,null,"2 блюдо","Овощное рагу с мясом говяд.","200/5",3.46,6.26,9.98,102.5,10]
[null,null,"гарнир"]
[null,null,"напиток","Сок",200,0.8,0,23,94,57]
[null,null,"хлеб бел."]
[null,null,"хлеб черн.","Хлеб \"Дарницкий\"",80,2.6,0.4,17,81.6,36]
[]
[]
[null,null,"итого",null,{"$f":"SUM(E192:E200)","v":380},{"$f":"SUM(F192:F200)","v":18.03},{"$f":"SUM(G192:G200)","v":22.25},{"$f":"SUM(H192:H200)","v":66.68},{"$f":"SUM(I192:I200)","v":505.4}]
[{"$f":"A179","v":5},"Полдник","кисломол."]
[null,null,"фрукты"]
[]
[]
[null,null,"итого",null,{"$f":"SUM(E202:E205)","v":0},{"$f":"SUM(F202:F205)","v":0},{"$f":"SUM(G202:G205)","v":0},{"$f":"SUM(H202:H205)","v":0},{"$f":"SUM(I202:I205)","v":0}]
[{"$f":"A179","v":5},"Ужин","хлеб черн.","Хлеб \"Дарницкий\"",80,2.6,0.4,17,81.6,36]
[null,null,"гор.напиток","Какао с мол.",200,4.62,4.02,43.8,177.56,63]
[null,null,"гарнир","Рыба запеченная",150,13.7,6.2,4.4,97.1,72]
[null,null,"2 блюдо","Гороховое пюре",200,14.8,12,28.5,128.5,16]
[null,null,"масло слив.","Масло слив.",15,0.4,62.5,0.8,70,50]
[]
[null,null,"итого",null,{"$f":"SUM(E207:E212)","v":645},{"$f":"SUM(F207:F212)","v":36.12},{"$f":"SUM(G207:G212)","v":85.12},{"$f":"SUM(H207:H212)","v":94.5},{"$f":"SUM(I207:I212)","v":554.76}]
[{"$f":"A179","v":5},"Ужин 2","кисломол.","Ряженка ",200,12,2,8.4,80,58]
[null,null,"фрукты","Яблоки св.",100,0.6,0.6,14.3,68.6,60]
[null,null,"напиток"]
[]
[]
[]
[null,null,"итого",null,{"$f":"SUM(E214:E219)","v":300},{"$f":"SUM(F214:F219)","v":12.6},{"$f":"SUM(G214:G219)","v":2.6},{"$f":"SUM(H214:H219)","v":22.7},{"$f":"SUM(I214:I219)","v":148.6}]
[{"$f":"A179","v":5},"Итого за день:",null,null,{"$f":"E186+E191+E201+E206+E213+E220","v":2180},{"$f":"F186+F191+F201+F206+F213+F220","v":106.69},{"$f":"G186+G191+G201+G206+G213+G220","v":198.53},{"$f":"H186+H191+H201+H206+H213+H220","v":350.58},{"$f":"I186+I191+I201+I206+I213+I220","v":2241.46}]
[6,"Завтрак","гор.блюдо","Каша пшенич молочная ","200/8",10.8,10.9,57.8,367.9,14]
[null,null,"гор.напиток","Какао с молоком",200,4.62,4.02,43.8,177.56,63]
[null,null,"хлеб бел.","Хлеб пшеничный",120,3.1,0.2,20.1,94.7,37]
[null,null,"кондит.изд.","Кекс",30,3.2,4.1,32.6,106.4,74]
[null,null,"сыр","Сыр",24,4.3,5.4,0,67.4,48]
[{"$nulls":3},"Апельсин ",100,1.4,0.3,8.1,34.2,61]
[null,null,"масло слив.","Масло слив.",10,0.4,62.5,0.8,70,50]
[null,null,"итого",null,{"$f":"SUM(E222:E228)","v":484},{"$f":"SUM(F222:F228)","v":27.82},{"$f":"SUM(G222:G228)","v":87.42},{"$f":"SUM(H222:H228)","v":163.2},{"$f":"SUM(I222:I228)","v":918.16}]
[{"$f":"A222","v":6},"Завтрак 2","фрукты"]
[]
[]
[]
[null,null,"итого",null,{"$f":"SUM(E230:E233)","v":0},{"$f":"SUM(F230:F233)","v":0},{"$f":"SUM(G230:G233)","v":0},{"$f":"SUM(H230:H233)","v":0},{"$f":"SUM(I230:I233)","v":0}]
[{"$f":"A222","v":6},"Обед","закуска","Салат морковный",100,1.16,8.3,14.6,98.8,35]
[null,null,"1 блюдо","Щи к/м со сметаной","250/15",9.1,10.5,15.9,194.9,1]
[null,null,"2 блюдо","Макароны отварные","200/10",7.6,9.2,48.8,150.7,18]
[null,null,"гарнир","Гуляш  из говядины",100,10,15.3,5.5,132.4,25]
[null,null,"напиток","Компот из с/ф",200,4,0.06,35.2,110,53]
[null,null,"хлеб бел."]
[null,null,"хлеб.черн.","Хлеб \"Дарницкий\"",80,2.6,0.4,17,81.6,36]
[null,null,"фрукты","Банан",100,{"v":1.4,"d":"1"},{"v":0.3,"d":"0"},{"v":12.1,"d":"12"},{"v":64.2,"d":"64"},62]
[]
[null,null,"итого",null,{"$f":"SUM(E235:E243)","v":580},{"$f":"SUM(F235:F243)","v":35.86},{"$f":"SUM(G235:G243)","v":44.06},{"$f":"SUM(H235:H243)","v":149.1},{"$f":"SUM(I235:I243)","v":832.6}]
[{"$f":"A222","v":6},"Полдник","кисломол."]
[null,null,"фрукты"]
[]
[]
[null,null,"итого",null,{"$f":"SUM(E245:E248)","v":0},{"$f":"SUM(F245:F248)","v":0},{"$f":"SUM(G245:G248)","v":0},{"$f":"SUM(H245:H248)","v":0},{"$f":"SUM(I245:I248)","v":0}]
[{"$f":"A222","v":6},"Ужин","2 блюдо","Каша рис. мол.",200,5.8,9.2,42.6,277.5,21]
[null,null,"гарнир","Котлеты из говядины",100,21,22.2,15,217.2,27]
[null,null,"хлеб.черн.","Хлеб \"Дарницкий\"",80,2.6,0.4,17,81.6,36]
[null,null,"масло слив.","Масло слив.",10,0.4,62.5,0.8,70,50]
[null,null,"гор.напиток","Чай слад.",200,0.1,0,9.9,39.9,51]
[]
[null,null,"итого",null,{"$f":"SUM(E250:E255)","v":590},{"$f":"SUM(F250:F255)","v":29.9},{"$f":"SUM(G250:G255)","v":94.3},{"$f":"SUM(H250:H255)","v":85.3},{"$f":"SUM(I250:I255)","v":686.2}]
[{"$f":"A222","v":6},"Ужин 2"]
[]
[null,null,"напиток","Ряженка",200,12,2,8.4,80,58]
[null,null,"фрукты","Яблоки св.",100,0.6,0.6,14.3,68.6,60]
[]
[]
[null,null,"итого",null,{"$f":"SUM(E257:E262)","v":300},{"$f":"SUM(F257:F262)","v":12.6},{"$f":"SUM(G257:G262)","v":2.6},{"$f":"SUM(H257:H262)","v":22.7},{"$f":"SUM(I257:I262)","v":148.6}]
[{"$f":"A222","v":6},"Итого за день:",null,null,{"$f":"E229+E234+E244+E249+E256+E263","v":1954},{"$f":"F229+F234+F244+F249+F256+F263","v":106.18},{"$f":"G229+G234+G244+G249+G256+G263","v":228.38},{"$f":"H229+H234+H244+H249+H256+H263","v":420.3},{"$f":"I229+I234+I244+I249+I256+I263","v":2585.56}]
[7,"Завтрак","гор.блюдо","Омлет","200/5",16.6,18.24,2.88,200,19]
[null,null,"гор.напиток","Кофейный напиток из цикория",200,4.32,4.6,9.6,129.94,54]
[null,null,"хлеб бел.","Хлеб пшеничный",120,3.1,0.2,20.1,94.7,37]
[null,null,"масло слив.","Масло слив.",15,0.4,62.5,0.8,70,50]
[null,null,"кондит.изд.","Вафли",30,1.8,7.5,14,97.6,30]
[null,null,"фрукты","Апельсин ",100,1.4,0.3,8.1,34.2,61]
[]
[null,null,"итого",null,{"$f":"SUM(E265:E271)","v":465},{"$f":"SUM(F265:F271)","v":27.62},{"$f":"SUM(G265:G271)","v":93.34},{"$f":"SUM(H265:H271)","v":55.48},{"$f":"SUM(I265:I271)","v":626.44}]
[{"$f":"A265","v":7},"Завтрак 2","фрукты"]
[]
[]
[null,null,"итого",null,{"$f":"SUM(E273:E275)","v":0},{"$f":"SUM(F273:F275)","v":0},{"$f":"SUM(G273:G275)","v":0},{"$f":"SUM(H273:H275)","v":0},{"$f":"SUM(I273:I275)","v":0}]
[{"$f":"A265","v":7},"Обед","закуска","Винегрет",100,1.57,5.18,6.7,129.23,34]
[null,null,"1 блюдо","Суп картоф с фрикадельками",250,2.1,2.15,16.5,90,3]
[null,null,"2 блюдо"]
[null,null,"гарнир"]
[null,null,"напиток","Компот из с/ф",200,4,0.06,35.2,110,53]
[null,null,"хлеб бел."]
[null,null,"хлеб черн.","Хлеб \"Дарницкий\"",120,2.6,0.4,17,81.6,36]
[null,null,"фрукты","Банан",100,1.4,0.3,12.1,64.2,62]
[]
[null,null,"итого",null,{"$f":"SUM(E277:E285)","v":770},{"$f":"SUM(F277:F285)","v":11.67},{"$f":"SUM(G277:G285)","v":8.09},{"$f":"SUM(H277:H285)","v":87.5},{"$f":"SUM(I277:I285)","v":475.03}]
[{"$f":"A265","v":7},"Полдник","кисломол."]
[null,null,"фрукты"]
[]
[]
[null,null,"итого",null,{"$f":"SUM(E287:E290)","v":0},{"$f":"SUM(F287:F290)","v":0},{"$f":"SUM(G287:G290)","v":0},{"$f":"SUM(H287:H290)","v":0},{"$f":"SUM(I287:I290)","v":0}]
[{"$f":"A265","v":7},"Ужин","хлеб бел.","Хлеб пшеничный",160,3.1,0.2,20.1,94.7,37]
[null,null,"гор.напиток","Чай слад.",200,0.1,0,9.9,39.9,51]
[null,null,"2 блюдо","Каша перловая мол.","200/10",4.6,4.3,5.7,100,64]
[null,null,"масло слив.","Масло слив.",10,0.4,62.5,0.8,70,50]
[null,null,"гарнир","Гуляш  из говядины",100,10,15.3,5.5,132.4,25]
[]
[null,null,"итого",null,{"$f":"SUM(E292:E297)","v":470},{"$f":"SUM(F292:F297)","v":18.2},{"$f":"SUM(G292:G297)","v":82.3},{"$f":"SUM(H292:H297)","v":42},{"$f":"SUM(I292:I297)","v":437}]
[{"$f":"A265","v":7},"Ужин 2","кисломол.","Ряженка ",200,12,2,8.4,80,58]
[null,null,"фрукты","Яблоки св.",100,0.6,0.6,14.3,68.6,60]
[null,null,"напиток"]
[]
[]
[]
[null,null,"итого",null,{"$f":"SUM(E299:E304)","v":300},{"$f":"SUM(F299:F304)","v":12.6},{"$f":"SUM(G299:G304)","v":2.6},{"$f":"SUM(H299:H304)","v":22.7},{"$f":"SUM(I299:I304)","v":148.6}]
[{"$f":"A265","v":7},"Итого за день:",null,null,{"$f":"E272+E276+E286+E291+E298+E305","v":2005},{"$f":"F272+F276+F286+F291+F298+F305","v":70.09},{"$f":"G272+G276+G286+G291+G298+G305","v":186.33},{"$f":"H272+H276+H286+H291+H298+H305","v":207.68},{"$f":"I272+I276+I286+I291+I298+I305","v":1687.07}]
[1,"Завтрак","гор.блюдо","Каша манная молочная","200/10",6,5,30.8,200,20]
[null,null,"масло","Масло сливочное",10,0.4,62.5,0.8,70]
[null,null,"гор.напиток","Какао с молоком",200,4.62,4.02,43.8,177.56,63]
[null,null,"хлеб","Хлеб пшеничный",120,3.1,0.2,20.1,94.7,37]
[null,null,"фрукты","Апельсин",100,1.4,0.3,8.1,34.2,61]
[null,null,"сыр","Сыр",24,4.3,5.4,0,67.4,48]
[]
[null,null,"итого",null,{"$f":"SUM(E307:E313)","v":454},{"$f":"SUM(F307:F313)","v":19.82},{"$f":"SUM(G307:G313)","v":77.42},{"$f":"SUM(H307:H313)","v":103.6},{"$f":"SUM(I307:I313)","v":643.86}]
[{"$f":"A307","v":1},"Завтрак 2","фрукты","Банан",100,1.4,0.3,12.1,64.2,62]
[null,null,"напиток","Компот из с/ф",200,4,0.06,35.2,110,53]
[null,null,"выпечка","Ватрушка с творогом",100,4.8,4.7,46.9,248.3,39]
[null,null,"хлеб","Хлеб пшеничный",120,3.1,0.2,20.1,94.7,37]
[null,null,"итого",null,{"$f":"SUM(E315:E318)","v":520},{"$f":"SUM(F315:F318)","v":13.3},{"$f":"SUM(G315:G318)","v":5.26},{"$f":"SUM(H315:H318)","v":114.3},{"$f":"SUM(I315:I318)","v":517.2}]
[{"$f":"A307","v":1},"Обед","закуска","Салат из белокач.капусты",100,2.1,8.5,10.5,105.5,31]
[null,null,"1 блюдо","Суп горох к/м",250,9.2,7.7,16.3,130.2,7]
[null,null,"2 блюдо","Каша пшенная мол.","200/10",7.51,11.72,37.05,285,12]
[null,null,"гарнир","Гуляш из говядины",100,10,15.3,5.5,132.4,25]
[null,null,"напиток","Сок",200,0.8,0,23,94,57]
[null,null,"хлеб бел."]
[null,null,"хлеб черн.","Хлеб \"Дарницкий\"",80,2.6,0.4,17,81.6,36]
[]
[]
[null,null,"итого",null,{"$f":"SUM(E320:E328)","v":730},{"$f":"SUM(F320:F328)","v":32.21},{"$f":"SUM(G320:G328)","v":43.62},{"$f":"SUM(H320:H328)","v":109.35},{"$f":"SUM(I320:I328)","v":828.7}]
[{"$f":"A307","v":1},"Полдник","булочное"]
[null,null,"напиток"]
[]
[]
[null,null,"итого",null,{"$f":"SUM(E330:E333)","v":0},{"$f":"SUM(F330:F333)","v":0},{"$f":"SUM(G330:G333)","v":0},{"$f":"SUM(H330:H333)","v":0},{"$f":"SUM(I330:I333)","v":0}]
[{"$f":"A307","v":1},"Ужин","гор.блюдо","Картофельное пюре","200/10",4.9,7.2,34,207,17]
[null,null,"гарнир","Рыба запеченная",150,13.7,6.2,4.4,97.1,72]
[null,null,"напиток","Чай сладкий",200,0.1,0,9.9,39.9,51]
[null,null,"хлеб","Хлеб\"Дарницкий\"",80,2.6,0.4,17,81.6,36]
[]
[]
[null,null,"итого",null,{"$f":"SUM(E335:E340)","v":430},{"$f":"SUM(F335:F340)","v":21.3},{"$f":"SUM(G335:G340)","v":13.8},{"$f":"SUM(H335:H340)","v":65.3},{"$f":"SUM(I335:I340)","v":425.6}]
[{"$f":"A307","v":1},"Ужин 2","кисломол.","Ряженка ",200,12,2,8.4,80,58]
[null,null,"фрукты","Яблоки св.",100,0.6,0.6,14.3,68.6,60]
[null,null,"напиток"]
[]
[]
[]
[null,null,"итого",null,{"$f":"SUM(E342:E347)","v":300},{"$f":"SUM(F342:F347)","v":12.6},{"$f":"SUM(G342:G347)","v":2.6},{"$f":"SUM(H342:H347)","v":22.7},{"$f":"SUM(I342:I347)","v":148.6}]
[{"$f":"A307","v":1},"Итого за день:",null,null,{"$f":"E314+E319+E329+E334+E341+E348","v":2434},{"$f":"F314+F319+F329+F334+F341+F348","v":99.23},{"$f":"G314+G319+G329+G334+G341+G348","v":142.7},{"$f":"H314+H319+H329+H334+H341+H348","v":415.25},{"$f":"I314+I319+I329+I334+I341+I348","v":2563.96}]
[2,"Завтрак","гор.блюдо","Каша геркулес молочный","200/10",9.7,8.3,36.8,212,23]
[null,null,"масло","Масло сливочное",10,0.4,62.5,0.8,70,50]
[null,null,"гор.напиток","Кофейный напиток из цикория",200,4.32,4.6,9.6,129.94,54]
[null,null,"хлеб","Хлеб пшеничный",120,3.1,0.2,20.1,94.7,37]
[null,null,"фрукты","Апельсин",100,1.4,0.3,8.1,34.2]
[]
[]
[null,null,"итого",null,{"$f":"SUM(E350:E356)","v":430},{"$f":"SUM(F350:F356)","v":18.92},{"$f":"SUM(G350:G356)","v":75.9},{"$f":"SUM(H350:H356)","v":75.4},{"$f":"SUM(I350:I356)","v":540.84}]
[{"$f":"A350","v":2},"Завтрак 2","фрукты","Банан",100,1.4,0.3,12.1,64.2,62]
[null,null,"напиток","Компот из с/ф",200,4,0.06,35.2,110,53]
[{"$nulls":3},"Яйцо вареное",1,5.1,4.6,0.3,63,49]
[null,null,{"$f":"C269","v":"кондит.изд."},{"$f":"D269","v":"Вафли"},{"$f":"E269","v":30},{"$f":"F269","v":1.8},{"$f":"G269","v":7.5},{"$f":"H269","v":14},{"$f":"I269","v":97.6},{"$f":"J269","v":30}]
[null,null,"хлеб","Хлеб пшеничный",120,3.1,0.2,20.1,94.7,37]
[null,null,"итого",null,{"$f":"SUM(E358:E362)","v":451},{"$f":"SUM(F358:F362)","v":15.4},{"$f":"SUM(G358:G362)","v":12.66},{"$f":"SUM(H358:H362)","v":81.7},{"$f":"SUM(I358:I362)","v":429.5}]
[{"$f":"A350","v":2},"Обед","закуска","Салат морковный",100,1.16,8.3,14.6,98.8,35]
[null,null,"1блюдо","Борщ к/м со сметаной","250/15",8.4,10.3,13.7,105.2,2]
[null,null,"2 блюдо","Плов из говядины",200,18.8,15.6,18.6,215.7,11]
[null,null,"гарнир"]
[null,null,"напиток","Сок",200,0.8,0,23,94,57]
[null,null,"хлеб бел."]
[null,null,"хлеб","Хлеб\"Дарницкий\"",80,2.6,0.4,17,81.6,36]
[]
[]
[null,null,"итого",null,{"$f":"SUM(E364:E372)","v":580},{"$f":"SUM(F364:F372)","v":31.76},{"$f":"SUM(G364:G372)","v":34.6},{"$f":"SUM(H364:H372)","v":86.9},{"$f":"SUM(I364:I372)","v":595.3}]
[{"$f":"A350","v":2},"Полдник","булочное"]
[null,null,"напиток"]
[]
[]
[null,null,"итого",null,{"$f":"SUM(E374:E377)","v":0},{"$f":"SUM(F374:F377)","v":0},{"$f":"SUM(G374:G377)","v":0},{"$f":"SUM(H374:H377)","v":0},{"$f":"SUM(I374:I377)","v":0}]
[{"$f":"A350","v":2},"Ужин","гор.блюдо","Овощное рагу с мясом говяд.","200/5",3.46,6.26,9.98,102.5,10]
[null,null,"творог","Творог со сметаной","200/10",18,9,3,164.3,40]
[null,null,"напиток","Чай сладкий",200,0.1,0,9.9,39.9,51]
[null,null,"хлеб","Хлеб\"Дарницкий\"",80,2.6,0.4,17,81.6,36]
[null,null,"масло","Масло сливочное",10,0.4,62.5,0.8,70,50]
[]
[null,null,"итого",null,{"$f":"SUM(E379:E384)","v":290},{"$f":"SUM(F379:F384)","v":24.56},{"$f":"SUM(G379:G384)","v":78.16},{"$f":"SUM(H379:H384)","v":40.68},{"$f":"SUM(I379:I384)","v":458.3}]
[{"$f":"A350","v":2},"Ужин 2","кисломол.","Ряженка ",200,12,2,8.4,80,58]
[null,null,"фрукты","Яблоки св.",100,0.6,0.6,14.3,68.6,60]
[null,null,"напиток"]
[]
[]
[]
[null,null,"итого",null,{"$f":"SUM(E386:E391)","v":300},{"$f":"SUM(F386:F391)","v":12.6},{"$f":"SUM(G386:G391)","v":2.6},{"$f":"SUM(H386:H391)","v":22.7},{"$f":"SUM(I386:I391)","v":148.6}]
[{"$f":"A350","v":2},"Итого за день:",null,null,{"$f":"E357+E363+E373+E378+E385+E392","v":2051},{"$f":"F357+F363+F373+F378+F385+F392","v":103.24},{"$f":"G357+G363+G373+G378+G385+G392","v":203.92},{"$f":"H357+H363+H373+H378+H385+H392","v":307.38},{"$f":"I357+I363+I373+I378+I385+I392","v":2172.54}]
[3,"Завтрак","гор.блюдо","Омлет",200,16.6,18.24,2.88,200,19]
[null,null,"масло","Масло сливочное",15,0.4,62.5,0.8,70,50]
[null,null,"гор.напиток","Чай сладкий",200,0.1,0,9.9,39.9,51]
[null,null,"хлеб","Хлеб пшеничный",120,3.1,0.2,20.1,94.7,37]
[null,null,"фрукты","Апельсин",100,1.4,0.3,8.1,34.2,61]
[null,null,"сыр","Сыр",24,4.3,5.4,0,67.4,48]
[]
[null,null,"итого",null,{"$f":"SUM(E394:E400)","v":659},{"$f":"SUM(F394:F400)","v":25.9},{"$f":"SUM(G394:G400)","v":86.64},{"$f":"SUM(H394:H400)","v":41.78},{"$f":"SUM(I394:I400)","v":506.2}]
[{"$f":"A394","v":3},"Завтрак 2","фрукты","Банан",100,1.4,0.3,12.1,64.2,62]
[null,null,"напиток","Сок",200,0.8,0,23,94,57]
[null,null,"выпечка","Ватрушка с картошкой",80,5.4,5.8,32.4,95,38]
[null,null,"хлеб","Хлеб пшеничный",160,3.1,0.2,20.1,94.7,37]
[null,null,"итого",null,{"$f":"SUM(E402:E405)","v":540},{"$f":"SUM(F402:F405)","v":10.7},{"$f":"SUM(G402:G405)","v":6.3},{"$f":"SUM(H402:H405)","v":87.6},{"$f":"SUM(I402:I405)","v":347.9}]
[{"$f":"A394","v":3},"Обед","закуска","Салат из вареной свеклы",100,1.8,10,10,64.2,33]
[null,null,"1 блюдо","Рассольник к/м с перловкой со сметаной","250/10",4.65,10.01,10.08,132.3,4]
[null,null,"2 блюдо","Макароны отварные","200/10",7.6,9.2,48.8,150.7,18]
[null,null,"гарнир","Рыбные тефтели","75/75",12.7,5.2,4.4,95.1,77]
[null,null,"напиток","Компот из с/ф",200,4,0.06,35.2,110,53]
[null,null,"хлеб бел."]
[null,null,"хлеб","Хлеб\"Дарницкий\"",80,2.6,0.4,17,81.6,36]
[]
[]
[null,null,"итого",null,{"$f":"SUM(E407:E415)","v":380},{"$f":"SUM(F407:F415)","v":33.35},{"$f":"SUM(G407:G415)","v":34.87},{"$f":"SUM(H407:H415)","v":125.48},{"$f":"SUM(I407:I415)","v":633.9}]
[{"$f":"A394","v":3},"Полдник","булочное"]
[null,null,"напиток"]
[]
[]
[null,null,"итого",null,{"$f":"SUM(E417:E420)","v":0},{"$f":"SUM(F417:F420)","v":0},{"$f":"SUM(G417:G420)","v":0},{"$f":"SUM(H417:H420)","v":0},{"$f":"SUM(I417:I420)","v":0}]
[{"$f":"A394","v":3},"Ужин","гор.блюдо","Гороховое пюре с фаршем говядины",200,17.7,14.2,27.4,283.1,71]
[null,null,"гарнир"]
[null,null,"напиток","Чай с молоком",200,1.64,1.64,2.38,30,52]
[null,null,"хлеб","Хлеб\"Дарницкий\"",80,2.6,0.4,17,81.6,36]
[null,null,"масло","Масло сливочное",10,0.4,62.5,0.8,70,50]
[]
[null,null,"итого",null,{"$f":"SUM(E422:E427)","v":490},{"$f":"SUM(F422:F427)","v":22.34},{"$f":"SUM(G422:G427)","v":78.74},{"$f":"SUM(H422:H427)","v":47.58},{"$f":"SUM(I422:I427)","v":464.7}]
[{"$f":"A394","v":3},"Ужин 2","кисломол.","Ряженка ",200,12,2,8.4,80,58]
[null,null,"фрукты","Яблоки св.",100,0.6,0.6,14.3,68.6,60]
[null,null,"напиток"]
[]
[]
[]
[null,null,"итого",null,{"$f":"SUM(E429:E434)","v":300},{"$f":"SUM(F429:F434)","v":12.6},{"$f":"SUM(G429:G434)","v":2.6},{"$f":"SUM(H429:H434)","v":22.7},{"$f":"SUM(I429:I434)","v":148.6}]
[{"$f":"A394","v":3},"Итого за день:",null,null,{"$f":"E401+E406+E416+E421+E428+E435","v":2369},{"$f":"F401+F406+F416+F421+F428+F435","v":104.89},{"$f":"G401+G406+G416+G421+G428+G435","v":209.15},{"$f":"H401+H406+H416+H421+H428+H435","v":325.14},{"$f":"I401+I406+I416+I421+I428+I435","v":2101.3}]
[4,"Завтрак","гор.блюдо","Каша яичневая молочная","200/15",7.5,5.9,42.5,297.1,24]
[null,null,"масло","Масло сливочное",10,0.4,62.5,0.8,70,50]
[null,null,"гор.напиток","Чай с молоком",200,1.64,1.64,2.38,30,52]
[null,null,"хлеб","Хлеб пшеничный",120,3.1,0.2,20.1,94.7,37]
[null,null,"фрукты","Апельсин",100,1.4,0.3,8.1,34.2,61]
[]
[]
[null,null,"итого",null,{"$f":"SUM(E437:E443)","v":430},{"$f":"SUM(F437:F443)","v":14.04},{"$f":"SUM(G437:G443)","v":70.54},{"$f":"SUM(H437:H443)","v":73.88},{"$f":"SUM(I437:I443)","v":526}]
[{"$f":"A437","v":4},"Завтрак 2","фрукты","Банан",100,1.4,0.3,12.1,64.2,62]
[null,null,"хлеб","Хлеб пшеничный",160,3.1,0.2,20.1,94.7,37]
[null,null,"кондит.изд","Кекс",30,3.2,4.1,32.6,106.4,74]
[null,null,"гор.напиток","Какао с молоком",200,4.62,4.02,43.8,"177.56",63]
[null,null,"итого",null,{"$f":"SUM(E445:E448)","v":490},{"$f":"SUM(F445:F448)","v":12.32},{"$f":"SUM(G445:G448)","v":8.62},{"$f":"SUM(H445:H448)","v":108.6},{"$f":"SUM(I445:I448)","v":265.3}]
[{"$f":"A437","v":4},"Обед","закуска"]
[null,null,"1 блюдо","Суп лапша домашняя к/м.",250,4.22,3.95,22.66,152,5]
[null,null,"2 блюдо","Капуста тушенная с мясным фаршем из говядины",200,10,8.2,10.8,280,9]
[null,null,"гарнир"]
[null,null,"напиток","Компот из смеси с/ф.",200,4,0.06,35.2,110,53]
[null,null,"хлеб бел."]
[null,null,"хлеб","Хлеб\"Дарницкий\"",80,2.6,0.4,17,81.6,36]
[]
[]
[null,null,"итого",null,{"$f":"SUM(E450:E458)","v":730},{"$f":"SUM(F450:F458)","v":20.82},{"$f":"SUM(G450:G458)","v":12.61},{"$f":"SUM(H450:H458)","v":85.66},{"$f":"SUM(I450:I458)","v":623.6}]
[{"$f":"A437","v":4},"Полдник","булочное"]
[null,null,"напиток"]
[]
[]
[null,null,"итого",null,{"$f":"SUM(E460:E463)","v":0},{"$f":"SUM(F460:F463)","v":0},{"$f":"SUM(G460:G463)","v":0},{"$f":"SUM(H460:H463)","v":0},{"$f":"SUM(I460:I463)","v":0}]
[{"$f":"A437","v":4},"Ужин","гор.блюдо","Жаркое по домашнему","200/11",24.7,13.3,16.5,145.08,8]
[null,null,"гарнир"]
[null,null,"гор.напиток","Чай сладкий",200,0.1,0,9.9,39.9,51]
[null,null,"хлеб","Хлеб\"Дарницкий\"",80,2.6,0.4,17,81.6,36]
[null,null,"творог","Творог со сметаной","200/10",18,9,3,164.3,40]
[null,null,"масло","Масло сливочное",10,0.4,62.5,0.8,70,50]
[null,null,"итого",null,{"$f":"SUM(E465:E470)","v":290},{"$f":"SUM(F465:F470)","v":45.8},{"$f":"SUM(G465:G470)","v":85.2},{"$f":"SUM(H465:H470)","v":47.2},{"$f":"SUM(I465:I470)","v":500.88}]
[{"$f":"A437","v":4},"Ужин 2","кисломол.","Ряженка ",200,12,2,8.4,80,58]
[null,null,"фрукты","Яблоки св.",100,0.6,0.6,14.3,68.6,60]
[null,null,"напиток"]
[]
[]
[]
[null,null,"итого",null,{"$f":"SUM(E472:E477)","v":300},{"$f":"SUM(F472:F477)","v":12.6},{"$f":"SUM(G472:G477)","v":2.6},{"$f":"SUM(H472:H477)","v":22.7},{"$f":"SUM(I472:I477)","v":148.6}]
[{"$f":"A437","v":4},"Итого за день:",null,null,{"$f":"E444+E449+E459+E464+E471+E478","v":2240},{"$f":"F444+F449+F459+F464+F471+F478","v":105.58},{"$f":"G444+G449+G459+G464+G471+G478","v":179.57},{"$f":"H444+H449+H459+H464+H471+H478","v":338.04},{"$f":"I444+I449+I459+I464+I471+I478","v":2064.38}]
[5,"Завтрак","гор.блюдо","Каша геркулес молочный","200/10",9.7,8.3,36.8,212,23]
[null,null,"масло","Масло сливочное",10,0.4,62.5,0.8,70,50]
[null,null,"гор.напиток","Чай сладкий",200,0.1,0,9.9,39.9,51]
[null,null,"хлеб","Хлеб пшеничный",120,3.1,0.2,20.1,94.7,37]
[null,null,"фрукты","Апельсин",100,1.4,0.3,8.1,34.2,61]
[null,null,"сыр","Сыр",24,4.3,5.4,0,67.4,48]
[]
[null,null,"итого",null,{"$f":"SUM(E480:E486)","v":454},{"$f":"SUM(F480:F486)","v":19},{"$f":"SUM(G480:G486)","v":76.7},{"$f":"SUM(H480:H486)","v":75.7},{"$f":"SUM(I480:I486)","v":518.2}]
[{"$f":"A480","v":5},"Завтрак 2","фрукты","Банан",100,1.4,0.3,12.1,64.2,62]
[null,null,"хлеб","Хлеб пшеничный",120,3.1,0.2,20.1,94.7,37]
[null,null,"выпечка","Запеканка с творогом","150/15",20.44,20,29.6,325,41]
[null,null,"напиток","Компот из смеси с/ф.",200,4,0.06,35.2,110,53]
[null,null,"итого",null,{"$f":"SUM(E488:E491)","v":420},{"$f":"SUM(F488:F491)","v":28.94},{"$f":"SUM(G488:G491)","v":20.56},{"$f":"SUM(H488:H491)","v":97},{"$f":"SUM(I488:I491)","v":593.9}]
[{"$f":"A480","v":5},"Обед","закуска","Салат морковный",100,1.16,8.3,14.6,98.8,35]
[null,null,"1 блюдо","Щи к/м со сметаной","250/15",9.1,10.5,15.9,194.9,1]
[null,null,"2 блюдо","Каша греч.мол.","200/10",12,11.4,59.1,393.1,22]
[null,null,"гарнир","Гуляш из говядины",100,10,15.3,5.5,132.4,25]
[null,null,"напиток","Сок",200,0.8,0,23,94,57]
[null,null,"хлеб бел."]
[null,null,"хлеб","Хлеб\"Дарницкий\"",80,2.6,0.4,17,81.6,36]
[]
[]
[null,null,"итого",null,{"$f":"SUM(E493:E501)","v":480},{"$f":"SUM(F493:F501)","v":35.66},{"$f":"SUM(G493:G501)","v":45.9},{"$f":"SUM(H493:H501)","v":135.1},{"$f":"SUM(I493:I501)","v":994.8}]
[{"$f":"A480","v":5},"Полдник","булочное"]
[null,null,"напиток"]
[]
[]
[null,null,"итого",null,{"$f":"SUM(E503:E506)","v":0},{"$f":"SUM(F503:F506)","v":0},{"$f":"SUM(G503:G506)","v":0},{"$f":"SUM(H503:H506)","v":0},{"$f":"SUM(I503:I506)","v":0}]
[{"$f":"A480","v":5},"Ужин","гор.блюдо","Каша рис мол.","200/10",5.8,9.2,42.6,277.5,21]
[null,null,"гарнир","Рыба запеченная",150,13.7,6.2,4.4,97.1,72]
[null,null,"гор.напиток","Чай с молоком",200,1.64,1.64,2.38,30,52]
[null,null,"хлеб","Хлеб\"Дарницкий\"",80,2.6,0.4,17,81.6,36]
[null,null,"масло","Масло сливочное",10,0.4,62.5,0.8,70,50]
[]
[null,null,"итого",null,{"$f":"SUM(E508:E513)","v":440},{"$f":"SUM(F508:F513)","v":24.14},{"$f":"SUM(G508:G513)","v":79.94},{"$f":"SUM(H508:H513)","v":67.18},{"$f":"SUM(I508:I513)","v":556.2}]
[{"$f":"A480","v":5},"Ужин 2","кисломол.","Ряженка ",200,12,2,8.4,80,58]
[null,null,"фрукты","Яблоки св.",100,0.6,0.6,14.3,68.6,60]
[null,null,"напиток"]
[]
[]
[]
[null,null,"итого",null,{"$f":"SUM(E515:E520)","v":300},{"$f":"SUM(F515:F520)","v":12.6},{"$f":"SUM(G515:G520)","v":2.6},{"$f":"SUM(H515:H520)","v":22.7},{"$f":"SUM(I515:I520)","v":148.6}]
[{"$f":"A480","v":5},"Итого за день:",null,null,{"$f":"E487+E492+E502+E507+E514+E521","v":2094},{"$f":"F487+F492+F502+F507+F514+F521","v":120.34},{"$f":"G487+G492+G502+G507+G514+G521","v":225.7},{"$f":"H487+H492+H502+H507+H514+H521","v":397.68},{"$f":"I487+I492+I502+I507+I514+I521","v":2811.7}]
[6,"Завтрак","гор.блюдо","Каша манная молочная","200/10",6,5,30.8,200,20]
[null,null,"масло","Масло сливочное",15,0.4,62.5,0.8,70,50]
[null,null,"гор.напиток","Кофейный напиток из цикория",200,4.32,4.6,9.6,129.94,54]
[null,null,"хлеб","Хлеб пшеничный",160,3.1,0.2,20.1,94.7,37]
[null,null,"фрукты","Апельсин",100,1.4,0.3,8.1,34.2,61]
[null,null,"кондит.изд","Вафли",30,1,8.8,18.8,154.2,46]
[]
[null,null,"итого",null,{"$f":"SUM(E523:E529)","v":505},{"$f":"SUM(F523:F529)","v":16.22},{"$f":"SUM(G523:G529)","v":81.4},{"$f":"SUM(H523:H529)","v":88.2},{"$f":"SUM(I523:I529)","v":683.04}]
[{"$f":"A523","v":6},"Завтрак 2","фрукты"]
[]
[]
[null,null,"итого",null,{"$f":"SUM(E531:E533)","v":0},{"$f":"SUM(F531:F533)","v":0},{"$f":"SUM(G531:G533)","v":0},{"$f":"SUM(H531:H533)","v":0},{"$f":"SUM(I531:I533)","v":0}]
[{"$f":"A523","v":6},"Обед","закуска","Свекла вареная дольками",100,1.17,6.96,8.8,60,32]
[null,null,"1 блюдо","Суп крестьян с пшеном со смет","250/15",10,8.63,7.9,167.3,65]
[null,null,"2 блюдо","Гороховое пюре",200,14.8,12,28.5,128.5,16]
[null,null,"гарнир","Котлеты из говядины",100,21,22.2,15,217.2,27]
[null,null,"напиток","Компот из смеси с/ф.",200,4,0.06,35.2,110,53]
[null,null,"хлеб бел."]
[null,null,"хлеб","Хлеб\"Дарницкий\"",80,2.6,0.4,17,81.6,36]
[null,null,"фрукты","Банан",100,1.4,0.3,12.1,64.2,62]
[]
[null,null,"итого",null,{"$f":"SUM(E535:E543)","v":780},{"$f":"SUM(F535:F543)","v":54.97},{"$f":"SUM(G535:G543)","v":50.55},{"$f":"SUM(H535:H543)","v":124.5},{"$f":"SUM(I535:I543)","v":828.8}]
[{"$f":"A523","v":6},"Полдник","булочное"]
[null,null,"напиток"]
[]
[]
[null,null,"итого",null,{"$f":"SUM(E545:E548)","v":0},{"$f":"SUM(F545:F548)","v":0},{"$f":"SUM(G545:G548)","v":0},{"$f":"SUM(H545:H548)","v":0},{"$f":"SUM(I545:I548)","v":0}]
[{"$f":"A523","v":6},"Ужин","гор.блюдо","Овощное рагу с мяом говядины","200/5",3.46,6.26,9.98,102.5,10]
[null,null,"гарнир"]
[null,null,"гор.напиток","Чай с молоком",200,1.64,1.64,2.38,30,52]
[null,null,"хлеб","Хлеб\"Дарницкий\"",80,2.6,0.4,17,81.6,36]
[null,null,"масло","Масло сливочное",15,0.4,62.5,0.8,70,50]
[]
[null,null,"итого",null,{"$f":"SUM(E550:E555)","v":295},{"$f":"SUM(F550:F555)","v":8.1},{"$f":"SUM(G550:G555)","v":70.8},{"$f":"SUM(H550:H555)","v":30.16},{"$f":"SUM(I550:I555)","v":284.1}]
[{"$f":"A523","v":6},"Ужин 2","кисломол.","Ряженка ",200,12,2,8.4,80,58]
[null,null,"фрукты","Яблоки св.",100,0.6,0.6,14.3,68.6,60]
[null,null,"напиток"]
[]
[]
[]
[null,null,"итого",null,{"$f":"SUM(E557:E562)","v":300},{"$f":"SUM(F557:F562)","v":12.6},{"$f":"SUM(G557:G562)","v":2.6},{"$f":"SUM(H557:H562)","v":22.7},{"$f":"SUM(I557:I562)","v":148.6}]
[{"$f":"A523","v":6},"Итого за день:",null,null,{"$f":"E530+E534+E544+E549+E556+E563","v":1880},{"$f":"F530+F534+F544+F549+F556+F563","v":91.89},{"$f":"G530+G534+G544+G549+G556+G563","v":205.35},{"$f":"H530+H534+H544+H549+H556+H563","v":265.56},{"$f":"I530+I534+I544+I549+I556+I563","v":1944.54}]
[7,"Завтрак","гор.блюдо","Суп молочный рожки","250/5",8,9,25.2,214.8,6]
[null,null,"масло","Масло сливочное",15,0.4,62.5,0.8,70,50]
[null,null,"гор.напиток","Чай сладкий",200,0.1,0,9.9,39.9,51]
[null,null,"хлеб","Хлеб пшеничный",120,3.1,0.2,20.1,94.7,37]
[null,null,"фрукты","Апельсин",100,1.4,0.3,8.1,34.2,61]
[null,null,"сыр","Сыр",24,4.3,5.4,0,67.4,48]
[null,null,"кондит.изд","Печенье",30,3,1.9,20.8,166.8,47]
[null,null,"итого",null,{"$f":"SUM(E565:E571)","v":489},{"$f":"SUM(F565:F571)","v":20.3},{"$f":"SUM(G565:G571)","v":79.3},{"$f":"SUM(H565:H571)","v":84.9},{"$f":"SUM(I565:I571)","v":687.8}]
[{"$f":"A565","v":7},"Завтрак 2","фрукты"]
[]
[]
[null,null,"итого",null,{"$f":"SUM(E573:E575)","v":0},{"$f":"SUM(F573:F575)","v":0},{"$f":"SUM(G573:G575)","v":0},{"$f":"SUM(H573:H575)","v":0},{"$f":"SUM(I573:I575)","v":0}]
[{"$f":"A565","v":7},"Обед","закуска","Салат из белокач.капусты",100,2.1,8.5,10.5,105.5,31]
[null,null,"1 блюдо","Суп картофельный с фрикадельками",250,2.1,2.15,16.5,90,3]
[null,null,"2 блюдо"]
[null,null,"гарнир"]
[null,null,"напиток","Сок",200,0.8,0,23,94,57]
[null,null,"хлеб бел."]
[null,null,"хлеб","Хлеб\"Дарницкий\"",120,2.6,0.4,17,81.6,36]
[null,null,"фрукты","Банан",100,1.4,0.3,12.1,64.2,62]
[]
[null,null,"итого",null,{"$f":"SUM(E577:E585)","v":770},{"$f":"SUM(F577:F585)","v":9},{"$f":"SUM(G577:G585)","v":11.35},{"$f":"SUM(H577:H585)","v":79.1},{"$f":"SUM(I577:I585)","v":435.3}]
[{"$f":"A565","v":7},"Полдник","булочное"]
[null,null,"напиток"]
[]
[]
[null,null,"итого",null,{"$f":"SUM(E587:E590)","v":0},{"$f":"SUM(F587:F590)","v":0},{"$f":"SUM(G587:G590)","v":0},{"$f":"SUM(H587:H590)","v":0},{"$f":"SUM(I587:I590)","v":0}]
[{"$f":"A565","v":7},"Ужин","гор.блюдо","Каша ячневая с мясом говядины","200/10",11.2,5.9,63.7,445.6,13]
[null,null,"гарнир"]
[null,null,"гор.напиток","Чай с молоком",200,1.64,1.64,2.38,30,52]
[null,null,"хлеб","Хлеб пшеничный",120,3.1,0.2,20.1,94.7,37]
[null,null,"масло","Масло сливочное",20,0.4,62.5,0.8,70,50]
[]
[null,null,"итого",null,{"$f":"SUM(E592:E597)","v":340},{"$f":"SUM(F592:F597)","v":16.34},{"$f":"SUM(G592:G597)","v":70.24},{"$f":"SUM(H592:H597)","v":86.98},{"$f":"SUM(I592:I597)","v":640.3}]
[{"$f":"A565","v":7},"Ужин 2","кисломол.","Ряженка ",200,12,2,8.4,80,58]
[null,null,"фрукты","Яблоки св.",100,0.6,0.6,14.3,68.6,60]
[null,null,"напиток"]
[null,null,"фрукты"]
[]
[]
[null,null,"итого",null,{"$f":"SUM(E599:E604)","v":300},{"$f":"SUM(F599:F604)","v":12.6},{"$f":"SUM(G599:G604)","v":2.6},{"$f":"SUM(H599:H604)","v":22.7},{"$f":"SUM(I599:I604)","v":148.6}]
[{"$f":"A565","v":7},"Итого за день:",null,null,{"$f":"E572+E576+E586+E591+E598+E605","v":1899},{"$f":"F572+F576+F586+F591+F598+F605","v":58.24},{"$f":"G572+G576+G586+G591+G598+G605","v":163.49},{"$f":"H572+H576+H586+H591+H598+H605","v":273.68},{"$f":"I572+I576+I586+I591+I598+I605","v":1912}]
[null,"Среднее значение за период:",null,null,{"$f":"(E48+E92+E135+E178+E221+E264+E306+E349+E393+E436+E479+E522+E564+E606)/(IF(E48=0,0,1)+IF(E92=0,0,1)+IF(E135=0,0,1)+IF(E178=0,0,1)+IF(E221=0,0,1)+IF(E264=0,0,1)+IF(E306=0,0,1)+IF(E349=0,0,1)+IF(E393=0,0,1)+IF(E436=0,0,1)+IF(E479=0,0,1)+IF(E522=0,0,1)+IF(E564=0,0,1)+IF(E606=0,0,1))","v":2145.71428571429},{"$f":"(F48+F92+F135+F178+F221+F264+F306+F349+F393+F436+F479+F522+F564+F606)/(IF(F48=0,0,1)+IF(F92=0,0,1)+IF(F135=0,0,1)+IF(F178=0,0,1)+IF(F221=0,0,1)+IF(F264=0,0,1)+IF(F306=0,0,1)+IF(F349=0,0,1)+IF(F393=0,0,1)+IF(F436=0,0,1)+IF(F479=0,0,1)+IF(F522=0,0,1)+IF(F564=0,0,1)+IF(F606=0,0,1))","v":96.875},{"$f":"(G48+G92+G135+G178+G221+G264+G306+G349+G393+G436+G479+G522+G564+G606)/(IF(G48=0,0,1)+IF(G92=0,0,1)+IF(G135=0,0,1)+IF(G178=0,0,1)+IF(G221=0,0,1)+IF(G264=0,0,1)+IF(G306=0,0,1)+IF(G349=0,0,1)+IF(G393=0,0,1)+IF(G436=0,0,1)+IF(G479=0,0,1)+IF(G522=0,0,1)+IF(G564=0,0,1)+IF(G606=0,0,1))","v":191.318571428571},{"$f":"(H48+H92+H135+H178+H221+H264+H306+H349+H393+H436+H479+H522+H564+H606)/(IF(H48=0,0,1)+IF(H92=0,0,1)+IF(H135=0,0,1)+IF(H178=0,0,1)+IF(H221=0,0,1)+IF(H264=0,0,1)+IF(H306=0,0,1)+IF(H349=0,0,1)+IF(H393=0,0,1)+IF(H436=0,0,1)+IF(H479=0,0,1)+IF(H522=0,0,1)+IF(H564=0,0,1)+IF(H606=0,0,1))","v":336.815714285714},{"$f":"(I48+I92+I135+I178+I221+I264+I306+I349+I393+I436+I479+I522+I564+I606)/(IF(I48=0,0,1)+IF(I92=0,0,1)+IF(I135=0,0,1)+IF(I178=0,0,1)+IF(I221=0,0,1)+IF(I264=0,0,1)+IF(I306=0,0,1)+IF(I349=0,0,1)+IF(I393=0,0,1)+IF(I436=0,0,1)+IF(I479=0,0,1)+IF(I522=0,0,1)+IF(I564=0,0,1)+IF(I606=0,0,1))","v":2248.50642857143}]

{"sheet":"6дн","index":5,"n_rows":47,"n_cols":10,"rows_kept":47,"merged":[[0,1,0,3],[0,6,0,9],[1,6,1,9],[46,1,46,2]]}
[null,"ГБОУ \"Маскаринская школа- интернат для детей с ограниченными возможностями здоровья\"",null,null,"Утвердил:","должность","директор"]
[{"$nulls":5},"фамилия","Сабитов Ш. Н."]
[{"$nulls":3},"7-11 лет",null,"дата",null,null,2023]
[{"$nulls":6},"день","месяц","год"]
["День недели","Прием пищи","Раздел меню","Блюда","Вес блюда, г","Белки","Жиры","Углеводы","Калорийность","№ рецептуры"]
[6,"Завтрак","гор.блюдо","Каша манная молочная","200/10",6,5,30.8,200,20]
[null,null,"масло","Масло сливочное",15,0.4,62.5,0.8,70,50]
[null,null,"гор.напиток","Кофейный напиток из цикория",200,4.32,4.6,9.6,129.94,54]
[null,null,"хлеб","Хлеб пшеничный",160,3.1,0.2,20.1,94.7,37]
[null,null,"фрукты","Апельсин",100,1.4,0.3,8.1,34.2,61]
[null,null,"кондит.изд","Вафли",30,1,8.8,18.8,154.2,46]
[]
[null,null,"итого",null,{"$f":"SUM(E6:E12)","v":505},{"$f":"SUM(F6:F12)","v":16.22},{"$f":"SUM(G6:G12)","v":81.4},{"$f":"SUM(H6:H12)","v":88.2},{"$f":"SUM(I6:I12)","v":683.04}]
[{"$f":"A6","v":6},"Завтрак 2","фрукты"]
[]
[]
[null,null,"итого",null,{"$f":"SUM(E14:E16)","v":0},{"$f":"SUM(F14:F16)","v":0},{"$f":"SUM(G14:G16)","v":0},{"$f":"SUM(H14:H16)","v":0},{"$f":"SUM(I14:I16)","v":0}]
[{"$f":"A6","v":6},"Обед","закуска","Свекла вареная дольками",100,1.17,6.96,8.8,60,32]
[null,null,"1 блюдо","Суп крестьян с пшеном со смет","250/15",10,8.63,7.9,167.3,65]
[null,null,"2 блюдо","Гороховое пюре",200,14.8,12,28.5,128.5,16]
[null,null,"гарнир","Котлеты из говядины",100,21,22.2,15,217.2,27]
[null,null,"напиток","Компот из смеси с/ф.",200,4,0.06,35.2,110,53]
[null,null,"хлеб бел."]
[null,null,"хлеб","Хлеб\"Дарницкий\"",80,2.6,0.4,17,81.6,36]
[null,null,"фрукты","Банан",100,1.4,0.3,12.1,64.2,62]
[]
[null,null,"итого",null,{"$f":"SUM(E18:E26)","v":780},{"$f":"SUM(F18:F26)","v":54.97},{"$f":"SUM(G18:G26)","v":50.55},{"$f":"SUM(H18:H26)","v":124.5},{"$f":"SUM(I18:I26)","v":828.8}]
[{"$f":"A6","v":6},"Полдник","булочное"]
[null,null,"напиток"]
[]
[]
[null,null,"итого",null,{"$f":"SUM(E28:E31)","v":0},{"$f":"SUM(F28:F31)","v":0},{"$f":"SUM(G28:G31)","v":0},{"$f":"SUM(H28:H31)","v":0},{"$f":"SUM(I28:I31)","v":0}]
[{"$f":"A6","v":6},"Ужин","гор.блюдо","Овощное рагу с мяом говядины","200/5",3.46,6.26,9.98,102.5,10]
[null,null,"гарнир"]
[null,null,"гор.напиток","Чай с молоком",200,1.64,1.64,2.38,30,52]
[null,null,"хлеб","Хлеб\"Дарницкий\"",80,2.6,0.4,17,81.6,36]
[null,null,"масло","Масло сливочное",15,0.4,62.5,0.8,70,50]
[]
[null,null,"итого",null,{"$f":"SUM(E33:E38)","v":295},{"$f":"SUM(F33:F38)","v":8.1},{"$f":"SUM(G33:G38)","v":70.8},{"$f":"SUM(H33:H38)","v":30.16},{"$f":"SUM(I33:I38)","v":284.1}]
[{"$f":"A6","v":6},"Ужин 2","кисломол.","Ряженка ",200,12,2,8.4,80,58]
[null,null,"фрукты","Яблоки св.",100,0.6,0.6,14.3,68.6,60]
[null,null,"напиток"]
[]
[]
[]
[null,null,"итого",null,{"$f":"SUM(E40:E45)","v":300},{"$f":"SUM(F40:F45)","v":12.6},{"$f":"SUM(G40:G45)","v":2.6},{"$f":"SUM(H40:H45)","v":22.7},{"$f":"SUM(I40:I45)","v":148.6}]
[{"$f":"A6","v":6},"Итого за день:",null,null,{"$f":"E13+E17+E27+E32+E39+E46","v":1880},{"$f":"F13+F17+F27+F32+F39+F46","v":91.89},{"$f":"G13+G17+G27+G32+G39+G46","v":205.35},{"$f":"H13+H17+H27+H32+H39+H46","v":265.56},{"$f":"I13+I17+I27+I32+I39+I46","v":1944.54}]

{"sheet":"7дн","index":6,"n_rows":47,"n_cols":10,"rows_kept":47,"merged":[[0,1,0,3],[0,6,0,9],[1,6,1,9],[45,1,45,2],[46,1,46,3]]}
[null,"ГБОУ \"Маскаринская школа- интернат для детей с ограниченными возможностями здоровья\"",null,null,"Утвердил:","должность","директор"]
[{"$nulls":5},"фамилия","Сабитов Ш. Н."]
[{"$nulls":3},"7-11 лет",null,"дата",null,null,2023]
[{"$nulls":6},"день","месяц","год"]
[7,"Завтрак","гор.блюдо","Суп молочный рожки","250/5",8,9,25.2,214.8,6]
[null,null,"масло","Масло сливочное",15,0.4,62.5,0.8,70,50]
[null,null,"гор.напиток","Чай сладкий",200,0.1,0,9.9,39.9,51]
[null,null,"хлеб","Хлеб пшеничный",120,3.1,0.2,20.1,94.7,37]
[null,null,"фрукты","Апельсин",100,1.4,0.3,8.1,34.2,61]
[null,null,"сыр","Сыр",24,4.3,5.4,0,67.4,48]
[null,null,"кондит.изд","Печенье",30,3,1.9,20.8,166.8,47]
[null,null,"итого",null,{"$f":"SUM(E5:E11)","v":489},{"$f":"SUM(F5:F11)","v":20.3},{"$f":"SUM(G5:G11)","v":79.3},{"$f":"SUM(H5:H11)","v":84.9},{"$f":"SUM(I5:I11)","v":687.8}]
[{"$f":"A5","v":7},"Завтрак 2","фрукты"]
[]
[]
[null,null,"итого",null,{"$f":"SUM(E13:E15)","v":0},{"$f":"SUM(F13:F15)","v":0},{"$f":"SUM(G13:G15)","v":0},{"$f":"SUM(H13:H15)","v":0},{"$f":"SUM(I13:I15)","v":0}]
[{"$f":"A5","v":7},"Обед","закуска","Салат из белокач.капусты",100,2.1,8.5,10.5,105.5,31]
[null,null,"1 блюдо","Суп картофельный с фрикадельками",250,2.1,2.15,16.5,90,3]
[null,null,"2 блюдо"]
[null,null,"гарнир"]
[null,null,"напиток","Сок",200,0.8,0,23,94,57]
[null,null,"хлеб бел."]
[null,null,"хлеб","Хлеб\"Дарницкий\"",120,2.6,0.4,17,81.6,36]
[null,null,"фрукты","Банан",100,1.4,0.3,12.1,64.2,62]
[]
[null,null,"итого",null,{"$f":"SUM(E17:E25)","v":770},{"$f":"SUM(F17:F25)","v":9},{"$f":"SUM(G17:G25)","v":11.35},{"$f":"SUM(H17:H25)","v":79.1},{"$f":"SUM(I17:I25)","v":435.3}]
[{"$f":"A5","v":7},"Полдник","булочное"]
[null,null,"напиток"]
[]
[]
[null,null,"итого",null,{"$f":"SUM(E27:E30)","v":0},{"$f":"SUM(F27:F30)","v":0},{"$f":"SUM(G27:G30)","v":0},{"$f":"SUM(H27:H30)","v":0},{"$f":"SUM(I27:I30)","v":0}]
[{"$f":"A5","v":7},"Ужин","гор.блюдо","Каша ячневая с мясом говядины","200/10",11.2,5.9,63.7,445.6,13]
[null,null,"гарнир"]
[null,null,"гор.напиток","Чай с молоком",200,1.64,1.64,2.38,30,52]
[null,null,"хлеб","Хлеб пшеничный",120,3.1,0.2,20.1,94.7,37]
[null,null,"масло","Масло сливочное",20,0.4,62.5,0.8,70,50]
[]
[null,null,"итого",null,{"$f":"SUM(E32:E37)","v":340},{"$f":"SUM(F32:F37)","v":16.34},{"$f":"SUM(G32:G37)","v":70.24},{"$f":"SUM(H32:H37)","v":86.98},{"$f":"SUM(I32:I37)","v":640.3}]
[{"$f":"A5","v":7},"Ужин 2","кисломол.","Ряженка ",200,12,2,8.4,80,58]
[null,null,"фрукты","Яблоки св.",100,0.6,0.6,14.3,68.6,60]
[null,null,"напиток"]
[null,null,"фрукты"]
[]
[]
[null,null,"итого",null,{"$f":"SUM(E39:E44)","v":300},{"$f":"SUM(F39:F44)","v":12.6},{"$f":"SUM(G39:G44)","v":2.6},{"$f":"SUM(H39:H44)","v":22.7},{"$f":"SUM(I39:I44)","v":148.6}]
[{"$f":"A5","v":7},"Итого за день:",null,null,{"$f":"E12+E16+E26+E31+E38+E45","v":1899},{"$f":"F12+F16+F26+F31+F38+F45","v":58.24},{"$f":"G12+G16+G26+G31+G38+G45","v":163.49},{"$f":"H12+H16+H26+H31+H38+H45","v":273.68},{"$f":"I12+I16+I26+I31+I38+I45","v":1912}]
[null,"Среднее значение за период:",null,null,{"$f":"(#REF!+#REF!+#REF!+#REF!+#REF!+#REF!+#REF!+#REF!+#REF!+#REF!+#REF!+#REF!+#REF!+E46)/(IF(#REF!=0,0,1)+IF(#REF!=0,0,1)+IF(#REF!=0,0,1)+IF(#REF!=0,0,1)+IF(#REF!=0,0,1)+IF(#REF!=0,0,1)+IF(#REF!=0,0,1)+IF(#REF!=0,0,1)+IF(#REF!=0,0,1)+IF(#REF!=0,0,1)+IF(#REF!=0,0,1)+IF(#REF!=0,0,1)+IF(#REF!=0,0,1)+IF(E46=0,0,1))","v":{"$error":"#REF!"}},{"$f":"(#REF!+#REF!+#REF!+#REF!+#REF!+#REF!+#REF!+#REF!+#REF!+#REF!+#REF!+#REF!+#REF!+F46)/(IF(#REF!=0,0,1)+IF(#REF!=0,0,1)+IF(#REF!=0,0,1)+IF(#REF!=0,0,1)+IF(#REF!=0,0,1)+IF(#REF!=0,0,1)+IF(#REF!=0,0,1)+IF(#REF!=0,0,1)+IF(#REF!=0,0,1)+IF(#REF!=0,0,1)+IF(#REF!=0,0,1)+IF(#REF!=0,0,1)+IF(#REF!=0,0,1)+IF(F46=0,0,1))","v":{"$error":"#REF!"}},{"$f":"(#REF!+#REF!+#REF!+#REF!+#REF!+#REF!+#REF!+#REF!+#REF!+#REF!+#REF!+#REF!+#REF!+G46)/(IF(#REF!=0,0,1)+IF(#REF!=0,0,1)+IF(#REF!=0,0,1)+IF(#REF!=0,0,1)+IF(#REF!=0,0,1)+IF(#REF!=0,0,1)+IF(#REF!=0,0,1)+IF(#REF!=0,0,1)+IF(#REF!=0,0,1)+IF(#REF!=0,0,1)+IF(#REF!=0,0,1)+IF(#REF!=0,0,1)+IF(#REF!=0,0,1)+IF(G46=0,0,1))","v":{"$error":"#REF!"}},{"$f":"(#REF!+#REF!+#REF!+#REF!+#REF!+#REF!+#REF!+#REF!+#REF!+#REF!+#REF!+#REF!+#REF!+H46)/(IF(#REF!=0,0,1)+IF(#REF!=0,0,1)+IF(#REF!=0,0,1)+IF(#REF!=0,0,1)+IF(#REF!=0,0,1)+IF(#REF!=0,0,1)+IF(#REF!=0,0,1)+IF(#REF!=0,0,1)+IF(#REF!=0,0,1)+IF(#REF!=0,0,1)+IF(#REF!=0,0,1)+IF(#REF!=0,0,1)+IF(#REF!=0,0,1)+IF(H46=0,0,1))","v":{"$error":"#REF!"}},{"$f":"(#REF!+#REF!+#REF!+#REF!+#REF!+#REF!+#REF!+#REF!+#REF!+#REF!+#REF!+#REF!+#REF!+I46)/(IF(#REF!=0,0,1)+IF(#REF!=0,0,1)+IF(#REF!=0,0,1)+IF(#REF!=0,0,1)+IF(#REF!=0,0,1)+IF(#REF!=0,0,1)+IF(#REF!=0,0,1)+IF(#REF!=0,0,1)+IF(#REF!=0,0,1)+IF(#REF!=0,0,1)+IF(#REF!=0,0,1)+IF(#REF!=0,0,1)+IF(#REF!=0,0,1)+IF(I46=0,0,1))","v":{"$error":"#REF!"}}]